| Back to Multiple platform build/check report for BioC 3.6 |
|
This page was generated on 2018-04-12 13:09:34 -0400 (Thu, 12 Apr 2018).
| Package 629/1472 | Hostname | OS / Arch | INSTALL | BUILD | CHECK | BUILD BIN | ||||||
| GSVA 1.26.0 Justin Guinney
| malbec1 | Linux (Ubuntu 16.04.1 LTS) / x86_64 | [ OK ] | OK | OK | |||||||
| tokay1 | Windows Server 2012 R2 Standard / x64 | OK | OK | OK | OK | |||||||
| veracruz1 | OS X 10.11.6 El Capitan / x86_64 | OK | OK | OK | OK |
| Package: GSVA |
| Version: 1.26.0 |
| Command: /home/biocbuild/bbs-3.6-bioc/R/bin/R CMD INSTALL GSVA |
| StartedAt: 2018-04-11 17:59:21 -0400 (Wed, 11 Apr 2018) |
| EndedAt: 2018-04-11 17:59:29 -0400 (Wed, 11 Apr 2018) |
| EllapsedTime: 8.0 seconds |
| RetCode: 0 |
| Status: OK |
##############################################################################
##############################################################################
###
### Running command:
###
### /home/biocbuild/bbs-3.6-bioc/R/bin/R CMD INSTALL GSVA
###
##############################################################################
##############################################################################
* installing to library ‘/home/biocbuild/bbs-3.6-bioc/R/library’
* installing *source* package ‘GSVA’ ...
** libs
gcc -I/home/biocbuild/bbs-3.6-bioc/R/include -DNDEBUG -I/usr/local/include -fpic -g -O2 -Wall -c kernel_estimation.c -o kernel_estimation.o
gcc -I/home/biocbuild/bbs-3.6-bioc/R/include -DNDEBUG -I/usr/local/include -fpic -g -O2 -Wall -c ks_test.c -o ks_test.o
ks_test.c: In function ‘ks_sample’:
ks_test.c:24:9: warning: unused variable ‘mx_value’ [-Wunused-variable]
double mx_value = 0.0;
^
gcc -I/home/biocbuild/bbs-3.6-bioc/R/include -DNDEBUG -I/usr/local/include -fpic -g -O2 -Wall -c register_cmethods.c -o register_cmethods.o
g++ -shared -L/home/biocbuild/bbs-3.6-bioc/R/lib -L/usr/local/lib -o GSVA.so kernel_estimation.o ks_test.o register_cmethods.o -L/home/biocbuild/bbs-3.6-bioc/R/lib -lR
installing to /home/biocbuild/bbs-3.6-bioc/R/library/GSVA/libs
** R
** inst
** preparing package for lazy loading
** help
*** installing help indices
** building package indices
** installing vignettes
** testing if installed package can be loaded
* DONE (GSVA)