| Back to Multiple platform build/check report for BioC 3.6 | 
 | 
This page was generated on 2018-04-12 13:18:51 -0400 (Thu, 12 Apr 2018).
| Package 625/1472 | Hostname | OS / Arch | INSTALL | BUILD | CHECK | BUILD BIN | ||||||
| GSEABase 1.40.1 Bioconductor Package Maintainer 
 | malbec1 | Linux (Ubuntu 16.04.1 LTS) / x86_64 | OK | OK | OK |  | ||||||
| tokay1 | Windows Server 2012 R2 Standard / x64 | [ OK ] | OK | OK | OK |  | ||||||
| veracruz1 | OS X 10.11.6 El Capitan / x86_64 | OK | OK | OK | OK |  | 
| Package: GSEABase | 
| Version: 1.40.1 | 
| Command: rm -rf GSEABase.buildbin-libdir && mkdir GSEABase.buildbin-libdir && C:\cygwin\bin\curl.exe -O https://malbec1.bioconductor.org/BBS/3.6/bioc/src/contrib/GSEABase_1.40.1.tar.gz && C:\Users\biocbuild\bbs-3.6-bioc\R\bin\R.exe CMD INSTALL --build --library=GSEABase.buildbin-libdir --merge-multiarch GSEABase_1.40.1.tar.gz && C:\Users\biocbuild\bbs-3.6-bioc\R\bin\R.exe CMD INSTALL GSEABase_1.40.1.zip && rm GSEABase_1.40.1.tar.gz GSEABase_1.40.1.zip | 
| StartedAt: 2018-04-11 18:29:39 -0400 (Wed, 11 Apr 2018) | 
| EndedAt: 2018-04-11 18:31:08 -0400 (Wed, 11 Apr 2018) | 
| EllapsedTime: 89.5 seconds | 
| RetCode: 0 | 
| Status: OK | 
##############################################################################
##############################################################################
###
### Running command:
###
###   rm -rf GSEABase.buildbin-libdir && mkdir GSEABase.buildbin-libdir  && C:\cygwin\bin\curl.exe -O https://malbec1.bioconductor.org/BBS/3.6/bioc/src/contrib/GSEABase_1.40.1.tar.gz && C:\Users\biocbuild\bbs-3.6-bioc\R\bin\R.exe CMD INSTALL --build --library=GSEABase.buildbin-libdir --merge-multiarch GSEABase_1.40.1.tar.gz && C:\Users\biocbuild\bbs-3.6-bioc\R\bin\R.exe CMD INSTALL GSEABase_1.40.1.zip  && rm GSEABase_1.40.1.tar.gz GSEABase_1.40.1.zip
###
##############################################################################
##############################################################################
  % Total    % Received % Xferd  Average Speed   Time    Time     Time  Current
                                 Dload  Upload   Total   Spent    Left  Speed
  0     0    0     0    0     0      0      0 --:--:-- --:--:-- --:--:--     0
100 73666  100 73666    0     0  2904k      0 --:--:-- --:--:-- --:--:-- 3425k
install for i386
* installing *source* package 'GSEABase' ...
** R
** inst
** preparing package for lazy loading
** help
*** installing help indices
  converting help for package 'GSEABase'
    finding HTML links ... done
    CollectionType-class                    html  
    CollectionType-constructors             html  
    GSEABase-package                        html  
    GeneColorSet-class                      html  
    GeneColorSet-methods                    html  
    GeneIdentifierType-class                html  
    GeneIdentifierType-constructors         html  
    GeneSet-class                           html  
    GeneSet-methods                         html  
    GeneSetCollection-class                 html  
    GeneSetCollection-methods               html  
    OBOCollection-class                     html  
    details-methods                         html  
    getOBOCollection                        html  
    getObjects                              html  
    goSlim-methods                          html  
    incidence-methods                       html  
    mapIdentifiers-methods                  html  
** building package indices
** installing vignettes
** testing if installed package can be loaded
In R CMD INSTALL
install for x64
* installing *source* package 'GSEABase' ...
** testing if installed package can be loaded
* MD5 sums
packaged installation of 'GSEABase' as GSEABase_1.40.1.zip
* DONE (GSEABase)
In R CMD INSTALL
In R CMD INSTALL
* installing to library 'C:/Users/biocbuild/bbs-3.6-bioc/R/library'
package 'GSEABase' successfully unpacked and MD5 sums checked
In R CMD INSTALL