| Back to Multiple platform build/check report for BioC 3.6 |
|
This page was generated on 2018-04-12 13:23:32 -0400 (Thu, 12 Apr 2018).
| Package 462/1472 | Hostname | OS / Arch | INSTALL | BUILD | CHECK | BUILD BIN | ||||||
| FGNet 3.12.0 Sara Aibar
| malbec1 | Linux (Ubuntu 16.04.1 LTS) / x86_64 | OK | OK | OK | |||||||
| tokay1 | Windows Server 2012 R2 Standard / x64 | [ OK ] | OK | OK | OK | |||||||
| veracruz1 | OS X 10.11.6 El Capitan / x86_64 | OK | OK | OK | OK |
| Package: FGNet |
| Version: 3.12.0 |
| Command: rm -rf FGNet.buildbin-libdir && mkdir FGNet.buildbin-libdir && C:\cygwin\bin\curl.exe -O https://malbec1.bioconductor.org/BBS/3.6/bioc/src/contrib/FGNet_3.12.0.tar.gz && C:\Users\biocbuild\bbs-3.6-bioc\R\bin\R.exe CMD INSTALL --build --library=FGNet.buildbin-libdir --merge-multiarch FGNet_3.12.0.tar.gz && C:\Users\biocbuild\bbs-3.6-bioc\R\bin\R.exe CMD INSTALL FGNet_3.12.0.zip && rm FGNet_3.12.0.tar.gz FGNet_3.12.0.zip |
| StartedAt: 2018-04-11 18:15:34 -0400 (Wed, 11 Apr 2018) |
| EndedAt: 2018-04-11 18:17:03 -0400 (Wed, 11 Apr 2018) |
| EllapsedTime: 88.4 seconds |
| RetCode: 0 |
| Status: OK |
##############################################################################
##############################################################################
###
### Running command:
###
### rm -rf FGNet.buildbin-libdir && mkdir FGNet.buildbin-libdir && C:\cygwin\bin\curl.exe -O https://malbec1.bioconductor.org/BBS/3.6/bioc/src/contrib/FGNet_3.12.0.tar.gz && C:\Users\biocbuild\bbs-3.6-bioc\R\bin\R.exe CMD INSTALL --build --library=FGNet.buildbin-libdir --merge-multiarch FGNet_3.12.0.tar.gz && C:\Users\biocbuild\bbs-3.6-bioc\R\bin\R.exe CMD INSTALL FGNet_3.12.0.zip && rm FGNet_3.12.0.tar.gz FGNet_3.12.0.zip
###
##############################################################################
##############################################################################
% Total % Received % Xferd Average Speed Time Time Time Current
Dload Upload Total Spent Left Speed
0 0 0 0 0 0 0 0 --:--:-- --:--:-- --:--:-- 0
100 1466k 100 1466k 0 0 40.5M 0 --:--:-- --:--:-- --:--:-- 44.7M
install for i386
* installing *source* package 'FGNet' ...
** R
** data
** inst
** preparing package for lazy loading
** help
*** installing help indices
converting help for package 'FGNet'
finding HTML links ... done
FGNet-package html
FGNet_GUI html
FGNet_report html
analyzeNetwork html
clustersDistance html
data html
fea2incidMat html
fea_david html
fea_gage html
fea_gtLinker html
fea_topGO html
format_david html
format_results html
functionalNetwork html
getTerms html
keywordsTerm html
plotGoAncestors html
plotKegg html
readGeneTermSets html
** building package indices
** installing vignettes
** testing if installed package can be loaded
In R CMD INSTALL
install for x64
* installing *source* package 'FGNet' ...
** testing if installed package can be loaded
* MD5 sums
packaged installation of 'FGNet' as FGNet_3.12.0.zip
* DONE (FGNet)
In R CMD INSTALL
In R CMD INSTALL
* installing to library 'C:/Users/biocbuild/bbs-3.6-bioc/R/library'
package 'FGNet' successfully unpacked and MD5 sums checked
In R CMD INSTALL