| Back to Multiple platform build/check report for BioC 3.6 |
|
This page was generated on 2018-04-12 13:21:12 -0400 (Thu, 12 Apr 2018).
| Package 407/1472 | Hostname | OS / Arch | INSTALL | BUILD | CHECK | BUILD BIN | ||||||
| EDASeq 2.12.0 Davide Risso
| malbec1 | Linux (Ubuntu 16.04.1 LTS) / x86_64 | OK | OK | OK | |||||||
| tokay1 | Windows Server 2012 R2 Standard / x64 | [ OK ] | OK | OK | OK | |||||||
| veracruz1 | OS X 10.11.6 El Capitan / x86_64 | OK | OK | OK | OK |
| Package: EDASeq |
| Version: 2.12.0 |
| Command: rm -rf EDASeq.buildbin-libdir && mkdir EDASeq.buildbin-libdir && C:\cygwin\bin\curl.exe -O https://malbec1.bioconductor.org/BBS/3.6/bioc/src/contrib/EDASeq_2.12.0.tar.gz && C:\Users\biocbuild\bbs-3.6-bioc\R\bin\R.exe CMD INSTALL --build --library=EDASeq.buildbin-libdir --merge-multiarch EDASeq_2.12.0.tar.gz && C:\Users\biocbuild\bbs-3.6-bioc\R\bin\R.exe CMD INSTALL EDASeq_2.12.0.zip && rm EDASeq_2.12.0.tar.gz EDASeq_2.12.0.zip |
| StartedAt: 2018-04-11 18:49:14 -0400 (Wed, 11 Apr 2018) |
| EndedAt: 2018-04-11 18:50:04 -0400 (Wed, 11 Apr 2018) |
| EllapsedTime: 50.0 seconds |
| RetCode: 0 |
| Status: OK |
##############################################################################
##############################################################################
###
### Running command:
###
### rm -rf EDASeq.buildbin-libdir && mkdir EDASeq.buildbin-libdir && C:\cygwin\bin\curl.exe -O https://malbec1.bioconductor.org/BBS/3.6/bioc/src/contrib/EDASeq_2.12.0.tar.gz && C:\Users\biocbuild\bbs-3.6-bioc\R\bin\R.exe CMD INSTALL --build --library=EDASeq.buildbin-libdir --merge-multiarch EDASeq_2.12.0.tar.gz && C:\Users\biocbuild\bbs-3.6-bioc\R\bin\R.exe CMD INSTALL EDASeq_2.12.0.zip && rm EDASeq_2.12.0.tar.gz EDASeq_2.12.0.zip
###
##############################################################################
##############################################################################
% Total % Received % Xferd Average Speed Time Time Time Current
Dload Upload Total Spent Left Speed
0 0 0 0 0 0 0 0 --:--:-- --:--:-- --:--:-- 0
100 123k 100 123k 0 0 3208k 0 --:--:-- --:--:-- --:--:-- 3535k
install for i386
* installing *source* package 'EDASeq' ...
** R
** data
** inst
** preparing package for lazy loading
** help
*** installing help indices
converting help for package 'EDASeq'
finding HTML links ... done
EDASeq-package html
finding level-2 HTML links ... done
MDPlot-methods html
SeqExpressionSet-class html
barplot-methods html
betweenLaneNormalization-methods html
biasBoxplot-methods html
biasPlot-methods html
boxplot-methods html
getGeneLengthAndGCContent html
meanVarPlot-methods html
newSeqExpressionSet html
plot-methods html
plotNtFrequency-methods html
plotPCA-methods html
plotQuality-methods html
plotRLE-methods html
withinLaneNormalization-methods html
yeastGC html
yeastLength html
** building package indices
** installing vignettes
** testing if installed package can be loaded
In R CMD INSTALL
install for x64
* installing *source* package 'EDASeq' ...
** testing if installed package can be loaded
* MD5 sums
packaged installation of 'EDASeq' as EDASeq_2.12.0.zip
* DONE (EDASeq)
In R CMD INSTALL
In R CMD INSTALL
* installing to library 'C:/Users/biocbuild/bbs-3.6-bioc/R/library'
package 'EDASeq' successfully unpacked and MD5 sums checked
In R CMD INSTALL