| Back to Multiple platform build/check report for BioC 3.6 |
|
This page was generated on 2018-04-12 13:21:45 -0400 (Thu, 12 Apr 2018).
| Package 401/1472 | Hostname | OS / Arch | INSTALL | BUILD | CHECK | BUILD BIN | ||||||
| EBcoexpress 1.22.0 John A. Dawson
| malbec1 | Linux (Ubuntu 16.04.1 LTS) / x86_64 | OK | OK | OK | |||||||
| tokay1 | Windows Server 2012 R2 Standard / x64 | OK | OK | [ OK ] | OK | |||||||
| veracruz1 | OS X 10.11.6 El Capitan / x86_64 | OK | OK | OK | OK |
| Package: EBcoexpress |
| Version: 1.22.0 |
| Command: rm -rf EBcoexpress.buildbin-libdir EBcoexpress.Rcheck && mkdir EBcoexpress.buildbin-libdir EBcoexpress.Rcheck && C:\Users\biocbuild\bbs-3.6-bioc\R\bin\R.exe CMD INSTALL --build --merge-multiarch --library=EBcoexpress.buildbin-libdir EBcoexpress_1.22.0.tar.gz >EBcoexpress.Rcheck\00install.out 2>&1 && cp EBcoexpress.Rcheck\00install.out EBcoexpress-install.out && C:\Users\biocbuild\bbs-3.6-bioc\R\bin\R.exe CMD check --library=EBcoexpress.buildbin-libdir --install="check:EBcoexpress-install.out" --force-multiarch --no-vignettes --timings EBcoexpress_1.22.0.tar.gz |
| StartedAt: 2018-04-11 23:41:02 -0400 (Wed, 11 Apr 2018) |
| EndedAt: 2018-04-11 23:42:05 -0400 (Wed, 11 Apr 2018) |
| EllapsedTime: 62.6 seconds |
| RetCode: 0 |
| Status: OK |
| CheckDir: EBcoexpress.Rcheck |
| Warnings: 0 |
##############################################################################
##############################################################################
###
### Running command:
###
### rm -rf EBcoexpress.buildbin-libdir EBcoexpress.Rcheck && mkdir EBcoexpress.buildbin-libdir EBcoexpress.Rcheck && C:\Users\biocbuild\bbs-3.6-bioc\R\bin\R.exe CMD INSTALL --build --merge-multiarch --library=EBcoexpress.buildbin-libdir EBcoexpress_1.22.0.tar.gz >EBcoexpress.Rcheck\00install.out 2>&1 && cp EBcoexpress.Rcheck\00install.out EBcoexpress-install.out && C:\Users\biocbuild\bbs-3.6-bioc\R\bin\R.exe CMD check --library=EBcoexpress.buildbin-libdir --install="check:EBcoexpress-install.out" --force-multiarch --no-vignettes --timings EBcoexpress_1.22.0.tar.gz
###
##############################################################################
##############################################################################
* using log directory 'C:/Users/biocbuild/bbs-3.6-bioc/meat/EBcoexpress.Rcheck'
* using R version 3.4.4 (2018-03-15)
* using platform: x86_64-w64-mingw32 (64-bit)
* using session charset: ISO8859-1
* using option '--no-vignettes'
* checking for file 'EBcoexpress/DESCRIPTION' ... OK
* checking extension type ... Package
* this is package 'EBcoexpress' version '1.22.0'
* checking package namespace information ... OK
* checking package dependencies ... OK
* checking if this is a source package ... OK
* checking if there is a namespace ... OK
* checking for hidden files and directories ... OK
* checking for portable file names ... OK
* checking whether package 'EBcoexpress' can be installed ... OK
* checking installed package size ... OK
* checking package directory ... OK
* checking 'build' directory ... OK
* checking DESCRIPTION meta-information ... NOTE
Malformed Description field: should contain one or more complete sentences.
* checking top-level files ... OK
* checking for left-over files ... OK
* checking index information ... OK
* checking package subdirectories ... OK
* checking R files for non-ASCII characters ... OK
* checking R files for syntax errors ... OK
* loading checks for arch 'i386'
** checking whether the package can be loaded ... OK
** checking whether the package can be loaded with stated dependencies ... OK
** checking whether the package can be unloaded cleanly ... OK
** checking whether the namespace can be loaded with stated dependencies ... OK
** checking whether the namespace can be unloaded cleanly ... OK
* loading checks for arch 'x64'
** checking whether the package can be loaded ... OK
** checking whether the package can be loaded with stated dependencies ... OK
** checking whether the package can be unloaded cleanly ... OK
** checking whether the namespace can be loaded with stated dependencies ... OK
** checking whether the namespace can be unloaded cleanly ... OK
* checking dependencies in R code ... NOTE
'library' or 'require' calls in package code:
'colorspace' 'graph' 'igraph'
Please use :: or requireNamespace() instead.
See section 'Suggested packages' in the 'Writing R Extensions' manual.
Packages in Depends field not imported from:
'EBarrays' 'mclust' 'minqa'
These packages need to be imported from (in the NAMESPACE file)
for when this namespace is loaded but not attached.
* checking S3 generic/method consistency ... OK
* checking replacement functions ... OK
* checking foreign function calls ... OK
* checking R code for possible problems ... NOTE
rankMyGenes: warning in sort(table(allNames), decr = TRUE): partial
argument match of 'decr' to 'decreasing'
bwmc: no visible binding for global variable 'median'
bwmc: no visible binding for global variable 'mad'
ebCoexpressFullTCAECM: no visible global function definition for
'bobyqa'
ebCoexpressOneStep: no visible global function definition for 'bobyqa'
initializeHP : getMclustHPests : devHelper: no visible global function
definition for 'density'
initializeHP : getMclustHPests : devHelper : fundDev: no visible global
function definition for 'dnorm'
initializeHP : getMclustHPests: no visible global function definition
for 'Mclust'
initializeHP : getMclustHPests : checkMyData : funa: no visible global
function definition for 'dnorm'
initializeHP : getMclustHPests : checkMyData: no visible global
function definition for 'density'
initializeHP : getMclustHPests : checkMyData: no visible global
function definition for 'plot'
initializeHP : getMclustHPests : checkMyData: no visible global
function definition for 'lines'
initializeHP: no visible global function definition for 'par'
makeMyD: no visible global function definition for 'cor'
priorDiagnostic : funa: no visible global function definition for
'dnorm'
priorDiagnostic: no visible global function definition for 'density'
priorDiagnostic: no visible global function definition for 'plot'
priorDiagnostic: no visible global function definition for 'lines'
showNetwork: no visible global function definition for 'graph.full'
showNetwork: no visible global function definition for 'hex'
showNetwork: no visible global function definition for 'RGB'
showNetwork: no visible global function definition for 'layout.circle'
showNetwork: no visible global function definition for 'plot'
showPair: no visible global function definition for 'palette'
showPair : getUsed: no visible global function definition for 'median'
showPair : getUsed: no visible global function definition for 'mad'
showPair: no visible binding for global variable 'plot'
showPair: no visible global function definition for 'box'
showPair: no visible global function definition for 'lm'
showPair: no visible binding for global variable 'segments'
Undefined global functions or variables:
Mclust RGB bobyqa box cor density dnorm graph.full hex layout.circle
lines lm mad median palette par plot segments
Consider adding
importFrom("grDevices", "palette")
importFrom("graphics", "box", "lines", "par", "plot", "segments")
importFrom("stats", "cor", "density", "dnorm", "lm", "mad", "median")
to your NAMESPACE file.
* checking Rd files ... OK
* checking Rd metadata ... OK
* checking Rd cross-references ... OK
* checking for missing documentation entries ... OK
* checking for code/documentation mismatches ... OK
* checking Rd \usage sections ... OK
* checking Rd contents ... OK
* checking for unstated dependencies in examples ... OK
* checking contents of 'data' directory ... OK
* checking data for non-ASCII characters ... OK
* checking data for ASCII and uncompressed saves ... OK
* checking line endings in C/C++/Fortran sources/headers ... OK
* checking compiled code ... NOTE
Note: information on .o files for i386 is not available
Note: information on .o files for x64 is not available
File 'C:/Users/biocbuild/bbs-3.6-bioc/meat/EBcoexpress.buildbin-libdir/EBcoexpress/libs/i386/EBcoexpress.dll':
Found 'abort', possibly from 'abort' (C), 'runtime' (Fortran)
Compiled code should not call entry points which might terminate R nor
write to stdout/stderr instead of to the console, nor use Fortran I/O
nor system RNGs. The detected symbols are linked into the code but
might come from libraries and not actually be called.
See 'Writing portable packages' in the 'Writing R Extensions' manual.
* checking installed files from 'inst/doc' ... OK
* checking files in 'vignettes' ... OK
* checking examples ...
** running examples for arch 'i386' ... OK
** running examples for arch 'x64' ... OK
* checking for unstated dependencies in vignettes ... OK
* checking package vignettes in 'inst/doc' ... OK
* checking running R code from vignettes ... SKIPPED
* checking re-building of vignette outputs ... SKIPPED
* checking PDF version of manual ... OK
* DONE
Status: 4 NOTEs
See
'C:/Users/biocbuild/bbs-3.6-bioc/meat/EBcoexpress.Rcheck/00check.log'
for details.
EBcoexpress.Rcheck/00install.out
install for i386
* installing *source* package 'EBcoexpress' ...
** libs
C:/Rtools/mingw_32/bin/gcc -I"C:/Users/BIOCBU˜1/BBS-3˜1.6-B/R/include" -DNDEBUG -I"C:/local323/include" -O3 -Wall -std=gnu99 -mtune=generic -c EBcoexpress.c -o EBcoexpress.o
EBcoexpress.c: In function 'bwmcCworker':
EBcoexpress.c:74:15: warning: suggest parentheses around comparison in operand of '|' [-Wparentheses]
if(temp < -1 | temp > 1)
^
C:/Rtools/mingw_32/bin/g++ -shared -s -static-libgcc -o EBcoexpress.dll tmp.def EBcoexpress.o -LC:/local323/lib/i386 -LC:/local323/lib -LC:/Users/BIOCBU˜1/BBS-3˜1.6-B/R/bin/i386 -lR
installing to C:/Users/biocbuild/bbs-3.6-bioc/meat/EBcoexpress.buildbin-libdir/EBcoexpress/libs/i386
** R
** data
** demo
** inst
** preparing package for lazy loading
** help
*** installing help indices
converting help for package 'EBcoexpress'
finding HTML links ... done
ebCoexpressMeta html
ebCoexpressSeries html
fiftyGenes html
initializeHP html
makeMyD html
priorDiagnostic html
rankMyGenes html
showNetwork html
showPair html
utilities html
** building package indices
** installing vignettes
** testing if installed package can be loaded
In R CMD INSTALL
install for x64
* installing *source* package 'EBcoexpress' ...
** libs
C:/Rtools/mingw_64/bin/gcc -I"C:/Users/BIOCBU˜1/BBS-3˜1.6-B/R/include" -DNDEBUG -I"C:/local323/include" -O2 -Wall -std=gnu99 -mtune=generic -c EBcoexpress.c -o EBcoexpress.o
EBcoexpress.c: In function 'bwmcCworker':
EBcoexpress.c:74:15: warning: suggest parentheses around comparison in operand of '|' [-Wparentheses]
if(temp < -1 | temp > 1)
^
C:/Rtools/mingw_64/bin/g++ -shared -s -static-libgcc -o EBcoexpress.dll tmp.def EBcoexpress.o -LC:/local323/lib/x64 -LC:/local323/lib -LC:/Users/BIOCBU˜1/BBS-3˜1.6-B/R/bin/x64 -lR
installing to C:/Users/biocbuild/bbs-3.6-bioc/meat/EBcoexpress.buildbin-libdir/EBcoexpress/libs/x64
** testing if installed package can be loaded
* MD5 sums
packaged installation of 'EBcoexpress' as EBcoexpress_1.22.0.zip
* DONE (EBcoexpress)
In R CMD INSTALL
In R CMD INSTALL
|
EBcoexpress.Rcheck/examples_i386/EBcoexpress-Ex.timings
|
EBcoexpress.Rcheck/examples_x64/EBcoexpress-Ex.timings
|