| Back to Multiple platform build/check report for BioC 3.6 |
|
This page was generated on 2018-04-12 13:22:51 -0400 (Thu, 12 Apr 2018).
| Package 404/1472 | Hostname | OS / Arch | INSTALL | BUILD | CHECK | BUILD BIN | ||||||
| EBSeq 1.18.0 Ning Leng
| malbec1 | Linux (Ubuntu 16.04.1 LTS) / x86_64 | OK | OK | OK | |||||||
| tokay1 | Windows Server 2012 R2 Standard / x64 | [ OK ] | OK | OK | OK | |||||||
| veracruz1 | OS X 10.11.6 El Capitan / x86_64 | OK | OK | OK | OK |
| Package: EBSeq |
| Version: 1.18.0 |
| Command: rm -rf EBSeq.buildbin-libdir && mkdir EBSeq.buildbin-libdir && C:\cygwin\bin\curl.exe -O https://malbec1.bioconductor.org/BBS/3.6/bioc/src/contrib/EBSeq_1.18.0.tar.gz && C:\Users\biocbuild\bbs-3.6-bioc\R\bin\R.exe CMD INSTALL --build --library=EBSeq.buildbin-libdir --merge-multiarch EBSeq_1.18.0.tar.gz && C:\Users\biocbuild\bbs-3.6-bioc\R\bin\R.exe CMD INSTALL EBSeq_1.18.0.zip && rm EBSeq_1.18.0.tar.gz EBSeq_1.18.0.zip |
| StartedAt: 2018-04-11 18:46:28 -0400 (Wed, 11 Apr 2018) |
| EndedAt: 2018-04-11 18:47:28 -0400 (Wed, 11 Apr 2018) |
| EllapsedTime: 60.8 seconds |
| RetCode: 0 |
| Status: OK |
##############################################################################
##############################################################################
###
### Running command:
###
### rm -rf EBSeq.buildbin-libdir && mkdir EBSeq.buildbin-libdir && C:\cygwin\bin\curl.exe -O https://malbec1.bioconductor.org/BBS/3.6/bioc/src/contrib/EBSeq_1.18.0.tar.gz && C:\Users\biocbuild\bbs-3.6-bioc\R\bin\R.exe CMD INSTALL --build --library=EBSeq.buildbin-libdir --merge-multiarch EBSeq_1.18.0.tar.gz && C:\Users\biocbuild\bbs-3.6-bioc\R\bin\R.exe CMD INSTALL EBSeq_1.18.0.zip && rm EBSeq_1.18.0.tar.gz EBSeq_1.18.0.zip
###
##############################################################################
##############################################################################
% Total % Received % Xferd Average Speed Time Time Time Current
Dload Upload Total Spent Left Speed
0 0 0 0 0 0 0 0 --:--:-- --:--:-- --:--:-- 0
100 240k 100 240k 0 0 4225k 0 --:--:-- --:--:-- --:--:-- 4540k
install for i386
* installing *source* package 'EBSeq' ...
** R
** data
** demo
** preparing package for lazy loading
** help
*** installing help indices
converting help for package 'EBSeq'
finding HTML links ... done
DenNHist html
EBMultiTest html
EBSeq_NingLeng-package html
EBTest html
GeneMat html
GetDEResults html
GetMultiFC html
GetMultiPP html
GetNg html
GetNormalizedMat html
GetPP html
GetPPMat html
GetPatterns html
IsoList html
IsoMultiList html
Likefun html
LikefunMulti html
LogN html
LogNMulti html
MedianNorm html
MultiGeneMat html
PlotPattern html
PlotPostVsRawFC html
PolyFitPlot html
PostFC html
QQP html
QuantileNorm html
RankNorm html
beta.mom html
crit_fun html
f0 html
f1 html
** building package indices
** installing vignettes
** testing if installed package can be loaded
In R CMD INSTALL
install for x64
* installing *source* package 'EBSeq' ...
** testing if installed package can be loaded
* MD5 sums
packaged installation of 'EBSeq' as EBSeq_1.18.0.zip
* DONE (EBSeq)
In R CMD INSTALL
In R CMD INSTALL
* installing to library 'C:/Users/biocbuild/bbs-3.6-bioc/R/library'
package 'EBSeq' successfully unpacked and MD5 sums checked
In R CMD INSTALL