| Back to Multiple platform build/check report for BioC 3.6 |
|
This page was generated on 2018-04-12 13:32:58 -0400 (Thu, 12 Apr 2018).
| Package 211/1472 | Hostname | OS / Arch | INSTALL | BUILD | CHECK | BUILD BIN | ||||||
| ChemmineR 2.30.2 Thomas Girke
| malbec1 | Linux (Ubuntu 16.04.1 LTS) / x86_64 | OK | OK | OK | |||||||
| tokay1 | Windows Server 2012 R2 Standard / x64 | OK | OK | OK | OK | |||||||
| veracruz1 | OS X 10.11.6 El Capitan / x86_64 | OK | OK | [ OK ] | OK |
| Package: ChemmineR |
| Version: 2.30.2 |
| Command: /Library/Frameworks/R.framework/Versions/Current/Resources/bin/R CMD check --no-vignettes --timings ChemmineR_2.30.2.tar.gz |
| StartedAt: 2018-04-12 01:28:53 -0400 (Thu, 12 Apr 2018) |
| EndedAt: 2018-04-12 01:31:22 -0400 (Thu, 12 Apr 2018) |
| EllapsedTime: 148.8 seconds |
| RetCode: 0 |
| Status: OK |
| CheckDir: ChemmineR.Rcheck |
| Warnings: 0 |
##############################################################################
##############################################################################
###
### Running command:
###
### /Library/Frameworks/R.framework/Versions/Current/Resources/bin/R CMD check --no-vignettes --timings ChemmineR_2.30.2.tar.gz
###
##############################################################################
##############################################################################
* using log directory ‘/Users/biocbuild/bbs-3.6-bioc/meat/ChemmineR.Rcheck’
* using R version 3.4.4 (2018-03-15)
* using platform: x86_64-apple-darwin15.6.0 (64-bit)
* using session charset: UTF-8
* using option ‘--no-vignettes’
* checking for file ‘ChemmineR/DESCRIPTION’ ... OK
* checking extension type ... Package
* this is package ‘ChemmineR’ version ‘2.30.2’
* checking package namespace information ... OK
* checking package dependencies ... OK
* checking if this is a source package ... OK
* checking if there is a namespace ... OK
* checking for hidden files and directories ... OK
* checking for portable file names ... OK
* checking for sufficient/correct file permissions ... OK
* checking whether package ‘ChemmineR’ can be installed ... OK
* checking installed package size ... OK
* checking package directory ... OK
* checking ‘build’ directory ... OK
* checking DESCRIPTION meta-information ... NOTE
Package listed in more than one of Depends, Imports, Suggests, Enhances:
‘ChemmineOB’
A package should be listed in only one of these fields.
* checking top-level files ... OK
* checking for left-over files ... OK
* checking index information ... OK
* checking package subdirectories ... OK
* checking R files for non-ASCII characters ... OK
* checking R files for syntax errors ... OK
* checking whether the package can be loaded ... OK
* checking whether the package can be loaded with stated dependencies ... OK
* checking whether the package can be unloaded cleanly ... OK
* checking whether the namespace can be loaded with stated dependencies ... OK
* checking whether the namespace can be unloaded cleanly ... OK
* checking dependencies in R code ... NOTE
'library' or 'require' calls in package code:
‘ChemmineDrugs’ ‘ChemmineOB’ ‘RPostgreSQL’ ‘RSQLite’ ‘fmcsR’ ‘png’
‘snow’
Please use :: or requireNamespace() instead.
See section 'Suggested packages' in the 'Writing R Extensions' manual.
Namespace in Imports field not imported from: ‘BiocGenerics’
All declared Imports should be used.
* checking S3 generic/method consistency ... OK
* checking replacement functions ... OK
* checking foreign function calls ... OK
* checking R code for possible problems ... NOTE
Found the following possibly unsafe calls:
File ‘ChemmineR/R/sim.R’:
unlockBinding(".progress_bar_int_cnt", environment(.progress_bar))
.data.frame.to.str: no visible global function definition for
‘write.table’
.data.frame.to.str: no visible binding for global variable ‘string’
.parseV3000: no visible binding for global variable ‘AW’
.rings: no visible global function definition for ‘combn’
applyOptions: no visible global function definition for ‘convertFormat’
browseJob: no visible global function definition for ‘browseURL’
canonicalNumbering: no visible global function definition for
‘canonicalNumbering_OB’
canonicalNumberingOB: no visible global function definition for
‘canonicalNumbering_OB’
cluster.visualize: no visible global function definition for ‘rainbow’
cluster.visualize: no visible global function definition for ‘pdf’
cluster.visualize: no visible global function definition for
‘postscript’
cluster.visualize: no visible global function definition for ‘dev.off’
desc2fp: no visible global function definition for ‘data’
draw_sdf: no visible global function definition for ‘rgb’
draw_sdf: no visible global function definition for ‘fmcs’
exactMassOB: no visible global function definition for ‘exactMass_OB’
fingerprintOB: no visible global function definition for
‘fingerprint_OB’
getCompoundFeatures : <anonymous>: no visible global function
definition for ‘write.table’
getCompounds: no visible global function definition for ‘str’
getDbConn: no visible global function definition for ‘error’
handle_raster: no visible global function definition for ‘readPNG’
handle_segs: no visible binding for global variable ‘C1’
handle_segs: no visible binding for global variable ‘C2’
handle_segs: no visible binding for global variable ‘C1.1’
handle_segs: no visible binding for global variable ‘C2.1’
handle_text: no visible binding for global variable ‘C1’
handle_text: no visible binding for global variable ‘C2’
listCMTools: no visible global function definition for ‘read.table’
parBatchByIndex: no visible global function definition for
‘clusterExport’
parBatchByIndex: no visible global function definition for
‘clusterApplyLB’
postgresqlWriteTable: no visible global function definition for
‘postgresqlTableRef’
postgresqlWriteTable: no visible global function definition for
‘postgresqlQuoteId’
postgresqlWriteTable: no visible global function definition for
‘postgresqlpqExec’
postgresqlWriteTable: no visible global function definition for
‘postgresqlCopyInDataframe’
postgresqlWriteTable: no visible global function definition for
‘postgresqlgetResult’
propOB: no visible global function definition for ‘prop_OB’
read.AP: no visible global function definition for ‘read.delim’
sdf2OBMol: no visible global function definition for ‘forEachMol’
sdf2smiles: no visible global function definition for ‘convertFormat’
sdf2smilesOB: no visible global function definition for ‘convertFormat’
sdfStream: no visible global function definition for ‘write.table’
setPriorities: no visible global function definition for
‘clusterExport’
smartsSearchOB: no visible global function definition for
‘smartsSearch_OB’
smile2sdfFile: no visible global function definition for
‘convertFormatFile’
smiles2sdf: no visible global function definition for ‘convertFormat’
smiles2sdfOB: no visible global function definition for ‘convertFormat’
write.SMI: no visible global function definition for ‘write.table’
Undefined global functions or variables:
AW C1 C1.1 C2 C2.1 browseURL canonicalNumbering_OB clusterApplyLB
clusterExport combn convertFormat convertFormatFile data dev.off
error exactMass_OB fingerprint_OB fmcs forEachMol pdf
postgresqlCopyInDataframe postgresqlQuoteId postgresqlTableRef
postgresqlgetResult postgresqlpqExec postscript prop_OB rainbow
read.delim read.table readPNG rgb smartsSearch_OB str string
write.table
Consider adding
importFrom("grDevices", "dev.off", "pdf", "postscript", "rainbow",
"rgb")
importFrom("utils", "browseURL", "combn", "data", "read.delim",
"read.table", "str", "write.table")
to your NAMESPACE file.
* checking Rd files ... OK
* checking Rd metadata ... OK
* checking Rd cross-references ... OK
* checking for missing documentation entries ... OK
* checking for code/documentation mismatches ... OK
* checking Rd \usage sections ... OK
* checking Rd contents ... OK
* checking for unstated dependencies in examples ... OK
* checking contents of ‘data’ directory ... OK
* checking data for non-ASCII characters ... OK
* checking data for ASCII and uncompressed saves ... OK
* checking line endings in C/C++/Fortran sources/headers ... OK
* checking line endings in Makefiles ... OK
* checking compilation flags in Makevars ... OK
* checking for GNU extensions in Makefiles ... OK
* checking for portable use of $(BLAS_LIBS) and $(LAPACK_LIBS) ... OK
* checking compiled code ... NOTE
File ‘ChemmineR/libs/ChemmineR.so’:
Found ‘__ZNSt3__14cerrE’, possibly from ‘std::cerr’ (C++)
Objects: ‘desc.o’, ‘formats.o’, ‘script.o’
Found ‘__ZNSt3__14coutE’, possibly from ‘std::cout’ (C++)
Object: ‘cluster.o’
Compiled code should not call entry points which might terminate R nor
write to stdout/stderr instead of to the console, nor use Fortran I/O
nor system RNGs.
See ‘Writing portable packages’ in the ‘Writing R Extensions’ manual.
* checking installed files from ‘inst/doc’ ... OK
* checking files in ‘vignettes’ ... OK
* checking examples ... OK
* checking for unstated dependencies in ‘tests’ ... OK
* checking tests ...
Running ‘runTests.R’
OK
* checking for unstated dependencies in vignettes ... OK
* checking package vignettes in ‘inst/doc’ ... OK
* checking running R code from vignettes ... SKIPPED
* checking re-building of vignette outputs ... SKIPPED
* checking PDF version of manual ... OK
* DONE
Status: 4 NOTEs
See
‘/Users/biocbuild/bbs-3.6-bioc/meat/ChemmineR.Rcheck/00check.log’
for details.
ChemmineR.Rcheck/00install.out
* installing *source* package ‘ChemmineR’ ...
** libs
clang++ -I/Library/Frameworks/R.framework/Resources/include -DNDEBUG -I"/Library/Frameworks/R.framework/Versions/3.4/Resources/library/Rcpp/include" -I"/Library/Frameworks/R.framework/Versions/3.4/Resources/library/BH/include" -I/usr/local/include -DNO_MAIN -DNO_DEBUG -fPIC -Wall -g -O2 -c DisjointSets.cpp -o DisjointSets.o
clang++ -I/Library/Frameworks/R.framework/Resources/include -DNDEBUG -I"/Library/Frameworks/R.framework/Versions/3.4/Resources/library/Rcpp/include" -I"/Library/Frameworks/R.framework/Versions/3.4/Resources/library/BH/include" -I/usr/local/include -DNO_MAIN -DNO_DEBUG -fPIC -Wall -g -O2 -c cluster.cc -o cluster.o
cluster.cc:49:13: warning: unused function 'prepare_neighbors' [-Wunused-function]
void static prepare_neighbors(const char* nbr_file, int skip, int p)
^
1 warning generated.
clang++ -I/Library/Frameworks/R.framework/Resources/include -DNDEBUG -I"/Library/Frameworks/R.framework/Versions/3.4/Resources/library/Rcpp/include" -I"/Library/Frameworks/R.framework/Versions/3.4/Resources/library/BH/include" -I/usr/local/include -DNO_MAIN -DNO_DEBUG -fPIC -Wall -g -O2 -c cstrsplit.cc -o cstrsplit.o
clang++ -I/Library/Frameworks/R.framework/Resources/include -DNDEBUG -I"/Library/Frameworks/R.framework/Versions/3.4/Resources/library/Rcpp/include" -I"/Library/Frameworks/R.framework/Versions/3.4/Resources/library/BH/include" -I/usr/local/include -DNO_MAIN -DNO_DEBUG -fPIC -Wall -g -O2 -c desc.cc -o desc.o
clang++ -I/Library/Frameworks/R.framework/Resources/include -DNDEBUG -I"/Library/Frameworks/R.framework/Versions/3.4/Resources/library/Rcpp/include" -I"/Library/Frameworks/R.framework/Versions/3.4/Resources/library/BH/include" -I/usr/local/include -DNO_MAIN -DNO_DEBUG -fPIC -Wall -g -O2 -c fingerprints.cc -o fingerprints.o
clang++ -I/Library/Frameworks/R.framework/Resources/include -DNDEBUG -I"/Library/Frameworks/R.framework/Versions/3.4/Resources/library/Rcpp/include" -I"/Library/Frameworks/R.framework/Versions/3.4/Resources/library/BH/include" -I/usr/local/include -DNO_MAIN -DNO_DEBUG -fPIC -Wall -g -O2 -c formats.cc -o formats.o
clang++ -I/Library/Frameworks/R.framework/Resources/include -DNDEBUG -I"/Library/Frameworks/R.framework/Versions/3.4/Resources/library/Rcpp/include" -I"/Library/Frameworks/R.framework/Versions/3.4/Resources/library/BH/include" -I/usr/local/include -DNO_MAIN -DNO_DEBUG -fPIC -Wall -g -O2 -c molecule.cc -o molecule.o
clang++ -I/Library/Frameworks/R.framework/Resources/include -DNDEBUG -I"/Library/Frameworks/R.framework/Versions/3.4/Resources/library/Rcpp/include" -I"/Library/Frameworks/R.framework/Versions/3.4/Resources/library/BH/include" -I/usr/local/include -DNO_MAIN -DNO_DEBUG -fPIC -Wall -g -O2 -c r_wrap.cc -o r_wrap.o
r_wrap.cc:1689:14: warning: explicitly assigning value of variable of type 'void *' to itself [-Wself-assign]
clientdata = clientdata;
˜˜˜˜˜˜˜˜˜˜ ^ ˜˜˜˜˜˜˜˜˜˜
1 warning generated.
clang++ -I/Library/Frameworks/R.framework/Resources/include -DNDEBUG -I"/Library/Frameworks/R.framework/Versions/3.4/Resources/library/Rcpp/include" -I"/Library/Frameworks/R.framework/Versions/3.4/Resources/library/BH/include" -I/usr/local/include -DNO_MAIN -DNO_DEBUG -fPIC -Wall -g -O2 -c script.cc -o script.o
clang++ -I/Library/Frameworks/R.framework/Resources/include -DNDEBUG -I"/Library/Frameworks/R.framework/Versions/3.4/Resources/library/Rcpp/include" -I"/Library/Frameworks/R.framework/Versions/3.4/Resources/library/BH/include" -I/usr/local/include -DNO_MAIN -DNO_DEBUG -fPIC -Wall -g -O2 -c similarity.cc -o similarity.o
clang++ -dynamiclib -Wl,-headerpad_max_install_names -undefined dynamic_lookup -single_module -multiply_defined suppress -L/Library/Frameworks/R.framework/Resources/lib -L/usr/local/lib -o ChemmineR.so DisjointSets.o cluster.o cstrsplit.o desc.o fingerprints.o formats.o molecule.o r_wrap.o script.o similarity.o -F/Library/Frameworks/R.framework/.. -framework R -Wl,-framework -Wl,CoreFoundation
installing to /Users/biocbuild/bbs-3.6-bioc/meat/ChemmineR.Rcheck/ChemmineR/libs
** R
** data
** inst
** preparing package for lazy loading
** help
*** installing help indices
** building package indices
** installing vignettes
** testing if installed package can be loaded
* DONE (ChemmineR)
ChemmineR.Rcheck/tests/runTests.Rout
R version 3.4.4 (2018-03-15) -- "Someone to Lean On"
Copyright (C) 2018 The R Foundation for Statistical Computing
Platform: x86_64-apple-darwin15.6.0 (64-bit)
R is free software and comes with ABSOLUTELY NO WARRANTY.
You are welcome to redistribute it under certain conditions.
Type 'license()' or 'licence()' for distribution details.
R is a collaborative project with many contributors.
Type 'contributors()' for more information and
'citation()' on how to cite R or R packages in publications.
Type 'demo()' for some demos, 'help()' for on-line help, or
'help.start()' for an HTML browser interface to help.
Type 'q()' to quit R.
> BiocGenerics:::testPackage("ChemmineR")
Loading required package: RSQLite
[1] "createing db"
[1] "createing db"
[1] "loading first half, no features"
[1] "createing db"
[1] "loading first half,with features"
adding new features to existing compounds. This could take a while
[1] "loading incomplete features"
[1] "loading second half"
adding new features to existing compounds. This could take a while
[1] "done loading"
[1] "createing db"
adding new features to existing compounds. This could take a while
[1] "found 70 compounds"
[1] "found 20 compounds"
Timing stopped at: 0 0 0
Error in DEACTIVATED("local test") : local test
In addition: There were 15 warnings (use warnings() to see them)
Timing stopped at: 0 0 0
Error in DEACTIVATED("local test only") : local test only
found 100 ids
[1] 201 202 203 204 205 206 207 208 209 210 211 212 213 214 215 216 217 218
[19] 219 220 221 222 223 224 225 226 227 228 229 230 231 232 233 234 235 236
[37] 237 238 239 240 241 242 243 244 245 246 247 248 249 250 251 252 253 254
[55] 255 256 257 258 259 260 261 262 263 264 265 266 267 268 269 270 271 272
[73] 273 274 275 276 277 278 279 280 281 282 283 284 285 286 287 288 289 290
[91] 291 292 293 294 295 296 297 298 299 300
starting parBatchByIndex
Loading required package: snow
int [1:100] 201 202 203 204 205 206 207 208 209 210 ...
NULL
[1] "results: parBench-sub-1,parBench-sub-2,parBench-sub-3,parBench-sub-4,parBench-sub-5,parBench-sub-6,parBench-sub-7,parBench-sub-8,parBench-sub-9,parBench-sub-10"
[1] "loading duplications"
loading 1 new compounds, updating 1 compounds
fetching features:
Timing stopped at: 0 0 0
Error in DEACTIVATED("causing timeout on bioc, disabling for now") :
causing timeout on bioc, disabling for now
In addition: Warning messages:
1: In .Internal(gc(verbose, reset)) :
closing unused connection 5 (<-localhost:11595)
2: In .Internal(gc(verbose, reset)) :
closing unused connection 4 (<-localhost:11595)
3: In .Internal(gc(verbose, reset)) :
closing unused connection 3 (<-localhost:11595)
test.formatConversions
Timing stopped at: 0 0 0
Error in DEACTIVATED("removed old version of function") :
removed old version of function
Timing stopped at: 0 0 0
Error in DEACTIVATED("requires local files") : requires local files
Timing stopped at: 0 0 0
Error in DEACTIVATED("fails on ubuntu 16.04") : fails on ubuntu 16.04
[1] "rotable bonds: "
CMP1 CMP2 CMP3 CMP4 CMP5
24 20 14 30 10
[1] "650001" "650002" "650003" "650004" "650005"
RUNIT TEST PROTOCOL -- Thu Apr 12 01:31:13 2018
***********************************************
Number of test functions: 22
Number of deactivated test functions: 6
Number of errors: 0
Number of failures: 0
1 Test Suite :
ChemmineR RUnit Tests - 22 test functions, 0 errors, 0 failures
Number of test functions: 22
Number of deactivated test functions: 6
Number of errors: 0
Number of failures: 0
>
> proc.time()
user system elapsed
18.807 0.595 20.786
ChemmineR.Rcheck/ChemmineR-Ex.timings
| name | user | system | elapsed | |
| AP-class | 0.510 | 0.066 | 0.579 | |
| APset-class | 0.595 | 0.064 | 0.668 | |
| ExtSDF-class | 0.001 | 0.000 | 0.002 | |
| FP-class | 0.060 | 0.003 | 0.067 | |
| FPset-class | 0.353 | 0.020 | 0.386 | |
| SDF-class | 0.057 | 0.006 | 0.063 | |
| SDF2apcmp | 0.031 | 0.001 | 0.033 | |
| SDFset-class | 0.362 | 0.031 | 0.398 | |
| SDFset2SDF | 0.103 | 0.008 | 0.114 | |
| SDFset2list | 0.070 | 0.036 | 0.108 | |
| SDFstr-class | 0.323 | 0.004 | 0.337 | |
| SMI-class | 0.002 | 0.000 | 0.004 | |
| SMIset-class | 0.005 | 0.001 | 0.006 | |
| addDescriptorType | 0.000 | 0.001 | 0.001 | |
| addNewFeatures | 3.555 | 0.111 | 3.764 | |
| ap | 0.112 | 0.015 | 0.127 | |
| apfp | 0.003 | 0.001 | 0.004 | |
| apset | 0.005 | 0.001 | 0.006 | |
| apset2descdb | 0.351 | 0.079 | 0.444 | |
| atomblock | 0.129 | 0.019 | 0.150 | |
| atomcount | 0.277 | 0.006 | 0.291 | |
| atomprop | 0.004 | 0.001 | 0.005 | |
| atomsubset | 0.135 | 0.002 | 0.137 | |
| batchByIndex | 0.001 | 0.000 | 0.001 | |
| bondblock | 0.093 | 0.011 | 0.104 | |
| bonds | 0.037 | 0.003 | 0.040 | |
| browseJob | 0.001 | 0.001 | 0.001 | |
| bufferLines | 0.001 | 0.000 | 0.000 | |
| bufferResultSet | 0.002 | 0.000 | 0.002 | |
| byCluster | 0.721 | 0.032 | 0.762 | |
| canonicalNumbering | 0.485 | 0.023 | 0.531 | |
| canonicalize | 0.100 | 0.002 | 0.103 | |
| cid | 0.024 | 0.002 | 0.026 | |
| cluster.sizestat | 0.449 | 0.010 | 0.466 | |
| cluster.visualize | 0.581 | 0.013 | 0.607 | |
| cmp.cluster | 2.037 | 0.023 | 2.118 | |
| cmp.duplicated | 0.043 | 0.002 | 0.045 | |
| cmp.parse | 0.025 | 0.001 | 0.027 | |
| cmp.parse1 | 0 | 0 | 0 | |
| cmp.search | 0.565 | 0.010 | 0.586 | |
| cmp.similarity | 0.017 | 0.002 | 0.019 | |
| conMA | 0.066 | 0.011 | 0.079 | |
| connections | 0.214 | 0.004 | 0.227 | |
| datablock | 0.244 | 0.008 | 0.258 | |
| datablock2ma | 0.074 | 0.002 | 0.079 | |
| db.explain | 0.058 | 0.006 | 0.065 | |
| db.subset | 0.004 | 0.001 | 0.005 | |
| dbTransaction | 0.023 | 0.004 | 0.026 | |
| desc2fp | 0.131 | 0.003 | 0.140 | |
| draw_sdf | 1.665 | 0.031 | 1.724 | |
| exactMassOB | 0.664 | 0.003 | 0.699 | |
| findCompounds | 2.579 | 0.018 | 2.650 | |
| findCompoundsByName | 0.407 | 0.009 | 0.432 | |
| fingerprintOB | 0.001 | 0.000 | 0.001 | |
| fold | 0.001 | 0.000 | 0.001 | |
| foldCount | 0.017 | 0.001 | 0.017 | |
| fp2bit | 0.262 | 0.009 | 0.278 | |
| fpSim | 0.329 | 0.009 | 0.344 | |
| fptype | 0.001 | 0.000 | 0.001 | |
| fromNNMatrix | 0.668 | 0.006 | 0.684 | |
| genAPDescriptors | 0.016 | 0.001 | 0.017 | |
| genParameters | 0.533 | 0.005 | 0.551 | |
| generate3DCoords | 0.000 | 0.000 | 0.001 | |
| getAllCompoundIds | 0.351 | 0.007 | 0.368 | |
| getCompoundFeatures | 2.432 | 0.017 | 2.504 | |
| getCompoundNames | 0.328 | 0.008 | 0.340 | |
| getCompounds | 0.489 | 0.008 | 0.501 | |
| getIds | 0.000 | 0.000 | 0.001 | |
| grepSDFset | 0.099 | 0.001 | 0.103 | |
| groups | 0.232 | 0.005 | 0.243 | |
| header | 0.089 | 0.003 | 0.091 | |
| initDb | 0.022 | 0.003 | 0.025 | |
| jarvisPatrick | 1.764 | 0.019 | 1.818 | |
| jobToken-class | 0.001 | 0.000 | 0.001 | |
| launchCMTool | 0.001 | 0.000 | 0.002 | |
| listCMTools | 0.001 | 0.000 | 0.001 | |
| listFeatures | 0.374 | 0.008 | 0.398 | |
| loadSdf | 2.760 | 0.021 | 2.847 | |
| makeUnique | 0.016 | 0.001 | 0.017 | |
| maximallyDissimilar | 0.218 | 0.002 | 0.225 | |
| nearestNeighbors | 1.077 | 0.005 | 1.104 | |
| numBits | 0.001 | 0.000 | 0.001 | |
| obmol | 0.028 | 0.002 | 0.032 | |
| parBatchByIndex | 0.001 | 0.000 | 0.000 | |
| plotStruc | 0.266 | 0.006 | 0.277 | |
| propOB | 0.001 | 0.000 | 0.001 | |
| pubchemFPencoding | 0.004 | 0.000 | 0.005 | |
| read.AP | 0.018 | 0.001 | 0.021 | |
| read.SDFindex | 0.019 | 0.001 | 0.021 | |
| read.SDFset | 0.701 | 0.003 | 0.716 | |
| read.SDFstr | 0.948 | 0.002 | 0.972 | |
| read.SMIset | 0.001 | 0.000 | 0.003 | |
| regenerateCoords | 0.000 | 0.001 | 0.001 | |
| result | 0.000 | 0.000 | 0.001 | |
| rings | 0.598 | 0.007 | 0.615 | |
| sdf.subset | 0.000 | 0.001 | 0.001 | |
| sdf.visualize | 0.018 | 0.001 | 0.024 | |
| sdf2ap | 0.331 | 0.079 | 0.418 | |
| sdf2list | 0.033 | 0.012 | 0.045 | |
| sdf2smiles | 0.000 | 0.000 | 0.001 | |
| sdf2str | 0.038 | 0.005 | 0.043 | |
| sdfStream | 0.025 | 0.002 | 0.027 | |
| sdfid | 0.022 | 0.001 | 0.023 | |
| sdfsample | 0.052 | 0.003 | 0.056 | |
| sdfstr2list | 1.340 | 0.372 | 1.747 | |
| searchSim | 0.000 | 0.000 | 0.001 | |
| searchString | 0.001 | 0.000 | 0.000 | |
| selectInBatches | 0.002 | 0.000 | 0.002 | |
| setPriorities | 0.000 | 0.000 | 0.001 | |
| smartsSearchOB | 0.000 | 0.000 | 0.001 | |
| smiles2sdf | 0.001 | 0.000 | 0.000 | |
| smisample | 0.003 | 0.001 | 0.004 | |
| status | 0.001 | 0.000 | 0.001 | |
| toolDetails | 0.001 | 0.001 | 0.001 | |
| trimNeighbors | 1.213 | 0.005 | 1.236 | |
| validSDF | 0.019 | 0.001 | 0.020 | |
| view | 0.063 | 0.005 | 0.068 | |
| write.SDF | 0.170 | 0.003 | 0.177 | |
| write.SDFsplit | 0.021 | 0.001 | 0.022 | |
| write.SMI | 0.002 | 0.001 | 0.004 | |