| Back to Multiple platform build/check report for BioC 3.6 |
|
This page was generated on 2018-04-12 13:08:46 -0400 (Thu, 12 Apr 2018).
| Package 219/1472 | Hostname | OS / Arch | INSTALL | BUILD | CHECK | BUILD BIN | ||||||
| ChIPpeakAnno 3.12.7 Lihua Julie Zhu
| malbec1 | Linux (Ubuntu 16.04.1 LTS) / x86_64 | OK | OK | [ OK ] | |||||||
| tokay1 | Windows Server 2012 R2 Standard / x64 | OK | OK | OK | OK | |||||||
| veracruz1 | OS X 10.11.6 El Capitan / x86_64 | OK | OK | OK | OK |
| Package: ChIPpeakAnno |
| Version: 3.12.7 |
| Command: /home/biocbuild/bbs-3.6-bioc/R/bin/R CMD check --no-vignettes --timings ChIPpeakAnno_3.12.7.tar.gz |
| StartedAt: 2018-04-11 22:09:38 -0400 (Wed, 11 Apr 2018) |
| EndedAt: 2018-04-11 22:15:37 -0400 (Wed, 11 Apr 2018) |
| EllapsedTime: 359.4 seconds |
| RetCode: 0 |
| Status: OK |
| CheckDir: ChIPpeakAnno.Rcheck |
| Warnings: 0 |
##############################################################################
##############################################################################
###
### Running command:
###
### /home/biocbuild/bbs-3.6-bioc/R/bin/R CMD check --no-vignettes --timings ChIPpeakAnno_3.12.7.tar.gz
###
##############################################################################
##############################################################################
* using log directory ‘/home/biocbuild/bbs-3.6-bioc/meat/ChIPpeakAnno.Rcheck’
* using R version 3.4.4 (2018-03-15)
* using platform: x86_64-pc-linux-gnu (64-bit)
* using session charset: UTF-8
* using option ‘--no-vignettes’
* checking for file ‘ChIPpeakAnno/DESCRIPTION’ ... OK
* checking extension type ... Package
* this is package ‘ChIPpeakAnno’ version ‘3.12.7’
* checking package namespace information ... OK
* checking package dependencies ... NOTE
Depends: includes the non-default packages:
‘grid’ ‘IRanges’ ‘Biostrings’ ‘GenomicRanges’ ‘S4Vectors’
‘VennDiagram’
Adding so many packages to the search path is excessive and importing
selectively is preferable.
* checking if this is a source package ... OK
* checking if there is a namespace ... OK
* checking for hidden files and directories ... OK
* checking for portable file names ... OK
* checking for sufficient/correct file permissions ... OK
* checking whether package ‘ChIPpeakAnno’ can be installed ... OK
* checking installed package size ... NOTE
installed size is 22.5Mb
sub-directories of 1Mb or more:
data 12.7Mb
doc 4.0Mb
extdata 5.2Mb
* checking package directory ... OK
* checking ‘build’ directory ... OK
* checking DESCRIPTION meta-information ... OK
* checking top-level files ... OK
* checking for left-over files ... OK
* checking index information ... OK
* checking package subdirectories ... OK
* checking R files for non-ASCII characters ... OK
* checking R files for syntax errors ... OK
* checking whether the package can be loaded ... OK
* checking whether the package can be loaded with stated dependencies ... OK
* checking whether the package can be unloaded cleanly ... OK
* checking whether the namespace can be loaded with stated dependencies ... OK
* checking whether the namespace can be unloaded cleanly ... OK
* checking dependencies in R code ... OK
* checking S3 generic/method consistency ... OK
* checking replacement functions ... OK
* checking foreign function calls ... OK
* checking R code for possible problems ... OK
* checking Rd files ... OK
* checking Rd metadata ... OK
* checking Rd cross-references ... OK
* checking for missing documentation entries ... OK
* checking for code/documentation mismatches ... OK
* checking Rd \usage sections ... OK
* checking Rd contents ... OK
* checking for unstated dependencies in examples ... OK
* checking contents of ‘data’ directory ... OK
* checking data for non-ASCII characters ... OK
* checking data for ASCII and uncompressed saves ... OK
* checking installed files from ‘inst/doc’ ... OK
* checking files in ‘vignettes’ ... OK
* checking examples ... OK
Examples with CPU or elapsed time > 5s
user system elapsed
findEnhancers 16.296 0.044 16.364
* checking for unstated dependencies in ‘tests’ ... OK
* checking tests ...
Running ‘runTests.R’
OK
* checking for unstated dependencies in vignettes ... OK
* checking package vignettes in ‘inst/doc’ ... OK
* checking running R code from vignettes ... SKIPPED
* checking re-building of vignette outputs ... SKIPPED
* checking PDF version of manual ... OK
* DONE
Status: 2 NOTEs
See
‘/home/biocbuild/bbs-3.6-bioc/meat/ChIPpeakAnno.Rcheck/00check.log’
for details.
ChIPpeakAnno.Rcheck/00install.out
* installing *source* package ‘ChIPpeakAnno’ ... ** R ** data ** inst ** preparing package for lazy loading ** help *** installing help indices ** building package indices ** installing vignettes ** testing if installed package can be loaded * DONE (ChIPpeakAnno)
ChIPpeakAnno.Rcheck/tests/runTests.Rout
R version 3.4.4 (2018-03-15) -- "Someone to Lean On"
Copyright (C) 2018 The R Foundation for Statistical Computing
Platform: x86_64-pc-linux-gnu (64-bit)
R is free software and comes with ABSOLUTELY NO WARRANTY.
You are welcome to redistribute it under certain conditions.
Type 'license()' or 'licence()' for distribution details.
R is a collaborative project with many contributors.
Type 'contributors()' for more information and
'citation()' on how to cite R or R packages in publications.
Type 'demo()' for some demos, 'help()' for on-line help, or
'help.start()' for an HTML browser interface to help.
Type 'q()' to quit R.
> require("ChIPpeakAnno") || stop("unable to load Package:ChIPpeakAnno")
Loading required package: ChIPpeakAnno
Loading required package: grid
Loading required package: IRanges
Loading required package: BiocGenerics
Loading required package: parallel
Attaching package: 'BiocGenerics'
The following objects are masked from 'package:parallel':
clusterApply, clusterApplyLB, clusterCall, clusterEvalQ,
clusterExport, clusterMap, parApply, parCapply, parLapply,
parLapplyLB, parRapply, parSapply, parSapplyLB
The following objects are masked from 'package:stats':
IQR, mad, sd, var, xtabs
The following objects are masked from 'package:base':
Filter, Find, Map, Position, Reduce, anyDuplicated, append,
as.data.frame, cbind, colMeans, colSums, colnames, do.call,
duplicated, eval, evalq, get, grep, grepl, intersect, is.unsorted,
lapply, lengths, mapply, match, mget, order, paste, pmax, pmax.int,
pmin, pmin.int, rank, rbind, rowMeans, rowSums, rownames, sapply,
setdiff, sort, table, tapply, union, unique, unsplit, which,
which.max, which.min
Loading required package: S4Vectors
Loading required package: stats4
Attaching package: 'S4Vectors'
The following object is masked from 'package:base':
expand.grid
Loading required package: Biostrings
Loading required package: XVector
Attaching package: 'Biostrings'
The following object is masked from 'package:base':
strsplit
Loading required package: GenomicRanges
Loading required package: GenomeInfoDb
Loading required package: VennDiagram
Loading required package: futile.logger
[1] TRUE
> require("BSgenome.Drerio.UCSC.danRer7") || stop("unable to load Package:BSgenome.Drerio.UCSC.danRer7")
Loading required package: BSgenome.Drerio.UCSC.danRer7
Loading required package: BSgenome
Loading required package: rtracklayer
[1] TRUE
> require("org.Hs.eg.db") || stop("unable to load Package:org.Hs.eg.db")
Loading required package: org.Hs.eg.db
Loading required package: AnnotationDbi
Loading required package: Biobase
Welcome to Bioconductor
Vignettes contain introductory material; view with
'browseVignettes()'. To cite Bioconductor, see
'citation("Biobase")', and for packages 'citation("pkgname")'.
[1] TRUE
> require("org.Ce.eg.db") || stop("unable to load Package:org.Ce.eg.db")
Loading required package: org.Ce.eg.db
[1] TRUE
> require("BSgenome.Celegans.UCSC.ce10") || stop("unable to load Package:BSgenome.Celegans.UCSC.ce10")
Loading required package: BSgenome.Celegans.UCSC.ce10
[1] TRUE
> require("EnsDb.Hsapiens.v79") || stop("unable to load Package:EnsDb.Hsapiens.v79")
Loading required package: EnsDb.Hsapiens.v79
Loading required package: ensembldb
Loading required package: GenomicFeatures
Loading required package: AnnotationFilter
Attaching package: 'ensembldb'
The following object is masked from 'package:stats':
filter
[1] TRUE
> require("TxDb.Hsapiens.UCSC.hg38.knownGene") || stop("unable to load TxDb.Hsapiens.UCSC.hg38.knownGene")
Loading required package: TxDb.Hsapiens.UCSC.hg38.knownGene
[1] TRUE
> require("biomaRt") || stop("unable to load biomaRt")
Loading required package: biomaRt
[1] TRUE
> require("testthat") || stop("unable to load testthat")
Loading required package: testthat
Attaching package: 'testthat'
The following object is masked from 'package:AnnotationFilter':
not
[1] TRUE
> test_check("ChIPpeakAnno")
══ testthat results ═══════════════════════════════════════════════════════════
OK: 192 SKIPPED: 4 FAILED: 0
Warning message:
call dbDisconnect() when finished working with a connection
>
> proc.time()
user system elapsed
59.568 0.640 61.696
ChIPpeakAnno.Rcheck/ChIPpeakAnno-Ex.timings
| name | user | system | elapsed | |
| BED2RangedData | 0.136 | 0.000 | 0.135 | |
| ChIPpeakAnno-package | 0.000 | 0.000 | 0.001 | |
| ExonPlusUtr.human.GRCh37 | 4.144 | 0.032 | 4.178 | |
| GFF2RangedData | 0.120 | 0.000 | 0.122 | |
| HOT.spots | 0.136 | 0.008 | 0.146 | |
| IDRfilter | 0.000 | 0.000 | 0.001 | |
| Peaks.Ste12.Replicate1 | 0.060 | 0.004 | 0.066 | |
| Peaks.Ste12.Replicate2 | 0.020 | 0.000 | 0.023 | |
| Peaks.Ste12.Replicate3 | 0.020 | 0.000 | 0.023 | |
| TSS.human.GRCh37 | 0.124 | 0.004 | 0.132 | |
| TSS.human.GRCh38 | 1.288 | 0.032 | 1.321 | |
| TSS.human.NCBI36 | 0.180 | 0.012 | 0.191 | |
| TSS.mouse.GRCm38 | 0.184 | 0.004 | 0.185 | |
| TSS.mouse.NCBIM37 | 0.144 | 0.000 | 0.145 | |
| TSS.rat.RGSC3.4 | 0.096 | 0.008 | 0.106 | |
| TSS.rat.Rnor_5.0 | 0.080 | 0.008 | 0.090 | |
| TSS.zebrafish.Zv8 | 0.088 | 0.000 | 0.088 | |
| TSS.zebrafish.Zv9 | 0.100 | 0.008 | 0.107 | |
| addAncestors | 2.432 | 0.068 | 2.524 | |
| addGeneIDs | 1.264 | 0.092 | 1.370 | |
| addMetadata | 1.560 | 0.012 | 1.572 | |
| annoGR | 0.000 | 0.000 | 0.001 | |
| annoPeaks | 3.092 | 0.096 | 3.823 | |
| annotatePeakInBatch | 2.592 | 0.052 | 2.644 | |
| annotatedPeak | 0.100 | 0.004 | 0.102 | |
| assignChromosomeRegion | 0.004 | 0.000 | 0.002 | |
| bdp | 0.000 | 0.000 | 0.001 | |
| binOverFeature | 1.092 | 0.004 | 1.094 | |
| binOverGene | 0.000 | 0.000 | 0.001 | |
| binOverRegions | 0.000 | 0.000 | 0.001 | |
| condenseMatrixByColnames | 0.052 | 0.000 | 0.051 | |
| convert2EntrezID | 0.364 | 0.000 | 0.365 | |
| countPatternInSeqs | 0.228 | 0.000 | 0.228 | |
| cumulativePercentage | 0 | 0 | 0 | |
| egOrgMap | 0.016 | 0.000 | 0.014 | |
| enrichedGO | 0.004 | 0.000 | 0.002 | |
| estFragmentLength | 0.000 | 0.000 | 0.001 | |
| estLibSize | 0.004 | 0.000 | 0.000 | |
| featureAlignedDistribution | 0.360 | 0.000 | 0.361 | |
| featureAlignedExtentSignal | 0.004 | 0.000 | 0.003 | |
| featureAlignedHeatmap | 0.8 | 0.0 | 0.8 | |
| featureAlignedSignal | 0.144 | 0.012 | 0.158 | |
| findEnhancers | 16.296 | 0.044 | 16.364 | |
| findOverlappingPeaks | 0.000 | 0.000 | 0.002 | |
| findOverlapsOfPeaks | 1.228 | 0.000 | 1.275 | |
| getAllPeakSequence | 0.776 | 0.008 | 1.252 | |
| getAnnotation | 0 | 0 | 0 | |
| getEnrichedGO | 0.012 | 0.000 | 0.012 | |
| getEnrichedPATH | 0.000 | 0.000 | 0.001 | |
| getGeneSeq | 0.000 | 0.000 | 0.002 | |
| getUniqueGOidCount | 0.004 | 0.000 | 0.002 | |
| getVennCounts | 0.000 | 0.000 | 0.001 | |
| hyperGtest | 0.012 | 0.000 | 0.014 | |
| makeVennDiagram | 0.004 | 0.000 | 0.003 | |
| mergePlusMinusPeaks | 0.004 | 0.000 | 0.002 | |
| myPeakList | 0.016 | 0.000 | 0.017 | |
| oligoFrequency | 0.02 | 0.00 | 0.02 | |
| oligoSummary | 0.000 | 0.000 | 0.001 | |
| peakPermTest | 0.004 | 0.000 | 0.002 | |
| peaksNearBDP | 0.000 | 0.000 | 0.001 | |
| pie1 | 0.008 | 0.000 | 0.008 | |
| plotBinOverRegions | 0.000 | 0.000 | 0.002 | |
| preparePool | 0.000 | 0.000 | 0.001 | |
| reCenterPeaks | 0.012 | 0.000 | 0.013 | |
| summarizeOverlapsByBins | 0.468 | 0.172 | 0.961 | |
| summarizePatternInPeaks | 0.992 | 0.036 | 1.030 | |
| tileCount | 0.576 | 0.180 | 0.917 | |
| tileGRanges | 0.048 | 0.000 | 0.050 | |
| toGRanges | 0.084 | 0.008 | 0.093 | |
| translatePattern | 0.004 | 0.000 | 0.001 | |
| wgEncodeTfbsV3 | 0.248 | 0.004 | 0.253 | |
| write2FASTA | 0.028 | 0.000 | 0.028 | |
| xget | 0.152 | 0.000 | 0.152 | |