| Back to Multiple platform build/check report for BioC 3.6 |
|
This page was generated on 2018-04-12 13:23:38 -0400 (Thu, 12 Apr 2018).
| Package 308/1472 | Hostname | OS / Arch | INSTALL | BUILD | CHECK | BUILD BIN | ||||||
| CRISPRseek 1.18.0 Lihua Julie Zhu
| malbec1 | Linux (Ubuntu 16.04.1 LTS) / x86_64 | OK | OK | OK | |||||||
| tokay1 | Windows Server 2012 R2 Standard / x64 | [ OK ] | OK | OK | OK | |||||||
| veracruz1 | OS X 10.11.6 El Capitan / x86_64 | OK | OK | OK | OK |
| Package: CRISPRseek |
| Version: 1.18.0 |
| Command: rm -rf CRISPRseek.buildbin-libdir && mkdir CRISPRseek.buildbin-libdir && C:\cygwin\bin\curl.exe -O https://malbec1.bioconductor.org/BBS/3.6/bioc/src/contrib/CRISPRseek_1.18.0.tar.gz && C:\Users\biocbuild\bbs-3.6-bioc\R\bin\R.exe CMD INSTALL --build --library=CRISPRseek.buildbin-libdir --merge-multiarch CRISPRseek_1.18.0.tar.gz && C:\Users\biocbuild\bbs-3.6-bioc\R\bin\R.exe CMD INSTALL CRISPRseek_1.18.0.zip && rm CRISPRseek_1.18.0.tar.gz CRISPRseek_1.18.0.zip |
| StartedAt: 2018-04-11 18:49:49 -0400 (Wed, 11 Apr 2018) |
| EndedAt: 2018-04-11 18:51:54 -0400 (Wed, 11 Apr 2018) |
| EllapsedTime: 124.3 seconds |
| RetCode: 0 |
| Status: OK |
##############################################################################
##############################################################################
###
### Running command:
###
### rm -rf CRISPRseek.buildbin-libdir && mkdir CRISPRseek.buildbin-libdir && C:\cygwin\bin\curl.exe -O https://malbec1.bioconductor.org/BBS/3.6/bioc/src/contrib/CRISPRseek_1.18.0.tar.gz && C:\Users\biocbuild\bbs-3.6-bioc\R\bin\R.exe CMD INSTALL --build --library=CRISPRseek.buildbin-libdir --merge-multiarch CRISPRseek_1.18.0.tar.gz && C:\Users\biocbuild\bbs-3.6-bioc\R\bin\R.exe CMD INSTALL CRISPRseek_1.18.0.zip && rm CRISPRseek_1.18.0.tar.gz CRISPRseek_1.18.0.zip
###
##############################################################################
##############################################################################
% Total % Received % Xferd Average Speed Time Time Time Current
Dload Upload Total Spent Left Speed
0 0 0 0 0 0 0 0 --:--:-- --:--:-- --:--:-- 0
100 125k 100 125k 0 0 2573k 0 --:--:-- --:--:-- --:--:-- 2862k
install for i386
* installing *source* package 'CRISPRseek' ...
** R
** inst
** preparing package for lazy loading
** help
*** installing help indices
converting help for package 'CRISPRseek'
finding HTML links ... done
CRISPRseek-package html
annotateOffTargets html
buildFeatureVectorForScoring html
calculategRNAEfficiency html
compare2Sequences html
filterOffTarget html
filtergRNA html
findgRNAs html
foldgRNAs html
getOfftargetScore html
isPatternUnique html
offTargetAnalysis html
searchHits html
searchHits2 html
translatePattern html
uniqueREs html
writeHits html
writeHits2 html
** building package indices
** installing vignettes
** testing if installed package can be loaded
In R CMD INSTALL
install for x64
* installing *source* package 'CRISPRseek' ...
** testing if installed package can be loaded
* MD5 sums
packaged installation of 'CRISPRseek' as CRISPRseek_1.18.0.zip
* DONE (CRISPRseek)
In R CMD INSTALL
In R CMD INSTALL
* installing to library 'C:/Users/biocbuild/bbs-3.6-bioc/R/library'
package 'CRISPRseek' successfully unpacked and MD5 sums checked
In R CMD INSTALL