| Back to Multiple platform build/check report for BioC 3.6 |
|
This page was generated on 2018-04-12 13:19:15 -0400 (Thu, 12 Apr 2018).
| Package 207/1472 | Hostname | OS / Arch | INSTALL | BUILD | CHECK | BUILD BIN | ||||||
| CGHregions 1.36.0 Sjoerd Vosse
| malbec1 | Linux (Ubuntu 16.04.1 LTS) / x86_64 | OK | OK | OK | |||||||
| tokay1 | Windows Server 2012 R2 Standard / x64 | [ OK ] | OK | OK | OK | |||||||
| veracruz1 | OS X 10.11.6 El Capitan / x86_64 | OK | OK | OK | OK |
| Package: CGHregions |
| Version: 1.36.0 |
| Command: rm -rf CGHregions.buildbin-libdir && mkdir CGHregions.buildbin-libdir && C:\cygwin\bin\curl.exe -O https://malbec1.bioconductor.org/BBS/3.6/bioc/src/contrib/CGHregions_1.36.0.tar.gz && C:\Users\biocbuild\bbs-3.6-bioc\R\bin\R.exe CMD INSTALL --build --library=CGHregions.buildbin-libdir --merge-multiarch CGHregions_1.36.0.tar.gz && C:\Users\biocbuild\bbs-3.6-bioc\R\bin\R.exe CMD INSTALL CGHregions_1.36.0.zip && rm CGHregions_1.36.0.tar.gz CGHregions_1.36.0.zip |
| StartedAt: 2018-04-11 18:24:53 -0400 (Wed, 11 Apr 2018) |
| EndedAt: 2018-04-11 18:25:25 -0400 (Wed, 11 Apr 2018) |
| EllapsedTime: 32.8 seconds |
| RetCode: 0 |
| Status: OK |
##############################################################################
##############################################################################
###
### Running command:
###
### rm -rf CGHregions.buildbin-libdir && mkdir CGHregions.buildbin-libdir && C:\cygwin\bin\curl.exe -O https://malbec1.bioconductor.org/BBS/3.6/bioc/src/contrib/CGHregions_1.36.0.tar.gz && C:\Users\biocbuild\bbs-3.6-bioc\R\bin\R.exe CMD INSTALL --build --library=CGHregions.buildbin-libdir --merge-multiarch CGHregions_1.36.0.tar.gz && C:\Users\biocbuild\bbs-3.6-bioc\R\bin\R.exe CMD INSTALL CGHregions_1.36.0.zip && rm CGHregions_1.36.0.tar.gz CGHregions_1.36.0.zip
###
##############################################################################
##############################################################################
% Total % Received % Xferd Average Speed Time Time Time Current
Dload Upload Total Spent Left Speed
0 0 0 0 0 0 0 0 --:--:-- --:--:-- --:--:-- 0
100 11493 100 11493 0 0 39865 0 --:--:-- --:--:-- --:--:-- 40326
install for i386
* installing *source* package 'CGHregions' ...
** R
** preparing package for lazy loading
** help
*** installing help indices
converting help for package 'CGHregions'
finding HTML links ... done
CGHregions-package html
CGHregions html
** building package indices
** installing vignettes
** testing if installed package can be loaded
In R CMD INSTALL
install for x64
* installing *source* package 'CGHregions' ...
** testing if installed package can be loaded
* MD5 sums
packaged installation of 'CGHregions' as CGHregions_1.36.0.zip
* DONE (CGHregions)
In R CMD INSTALL
In R CMD INSTALL
* installing to library 'C:/Users/biocbuild/bbs-3.6-bioc/R/library'
package 'CGHregions' successfully unpacked and MD5 sums checked
In R CMD INSTALL