| Back to Multiple platform build/check report for BioC 3.6 |
|
This page was generated on 2018-04-12 13:18:55 -0400 (Thu, 12 Apr 2018).
| Package 204/1472 | Hostname | OS / Arch | INSTALL | BUILD | CHECK | BUILD BIN | ||||||
| CGHcall 2.40.0 Mark van de Wiel
| malbec1 | Linux (Ubuntu 16.04.1 LTS) / x86_64 | OK | OK | OK | |||||||
| tokay1 | Windows Server 2012 R2 Standard / x64 | [ OK ] | OK | OK | OK | |||||||
| veracruz1 | OS X 10.11.6 El Capitan / x86_64 | OK | OK | OK | OK |
| Package: CGHcall |
| Version: 2.40.0 |
| Command: rm -rf CGHcall.buildbin-libdir && mkdir CGHcall.buildbin-libdir && C:\cygwin\bin\curl.exe -O https://malbec1.bioconductor.org/BBS/3.6/bioc/src/contrib/CGHcall_2.40.0.tar.gz && C:\Users\biocbuild\bbs-3.6-bioc\R\bin\R.exe CMD INSTALL --build --library=CGHcall.buildbin-libdir --merge-multiarch CGHcall_2.40.0.tar.gz && C:\Users\biocbuild\bbs-3.6-bioc\R\bin\R.exe CMD INSTALL CGHcall_2.40.0.zip && rm CGHcall_2.40.0.tar.gz CGHcall_2.40.0.zip |
| StartedAt: 2018-04-11 18:24:51 -0400 (Wed, 11 Apr 2018) |
| EndedAt: 2018-04-11 18:25:35 -0400 (Wed, 11 Apr 2018) |
| EllapsedTime: 44.0 seconds |
| RetCode: 0 |
| Status: OK |
##############################################################################
##############################################################################
###
### Running command:
###
### rm -rf CGHcall.buildbin-libdir && mkdir CGHcall.buildbin-libdir && C:\cygwin\bin\curl.exe -O https://malbec1.bioconductor.org/BBS/3.6/bioc/src/contrib/CGHcall_2.40.0.tar.gz && C:\Users\biocbuild\bbs-3.6-bioc\R\bin\R.exe CMD INSTALL --build --library=CGHcall.buildbin-libdir --merge-multiarch CGHcall_2.40.0.tar.gz && C:\Users\biocbuild\bbs-3.6-bioc\R\bin\R.exe CMD INSTALL CGHcall_2.40.0.zip && rm CGHcall_2.40.0.tar.gz CGHcall_2.40.0.zip
###
##############################################################################
##############################################################################
% Total % Received % Xferd Average Speed Time Time Time Current
Dload Upload Total Spent Left Speed
0 0 0 0 0 0 0 0 --:--:-- --:--:-- --:--:-- 0
100 177k 100 177k 0 0 7621k 0 --:--:-- --:--:-- --:--:-- 8881k
install for i386
* installing *source* package 'CGHcall' ...
** R
** data
** preparing package for lazy loading
** help
*** installing help indices
converting help for package 'CGHcall'
finding HTML links ... done
CGHcall-package html
CGHcall html
finding level-2 HTML links ... done
ExpandCGHcall html
Wilting html
normalize html
postsegnormalize html
preprocess html
segmentData html
** building package indices
** installing vignettes
** testing if installed package can be loaded
In R CMD INSTALL
install for x64
* installing *source* package 'CGHcall' ...
** testing if installed package can be loaded
* MD5 sums
packaged installation of 'CGHcall' as CGHcall_2.40.0.zip
* DONE (CGHcall)
In R CMD INSTALL
In R CMD INSTALL
* installing to library 'C:/Users/biocbuild/bbs-3.6-bioc/R/library'
package 'CGHcall' successfully unpacked and MD5 sums checked
In R CMD INSTALL