| Back to Multiple platform build/check report for BioC 3.6 |
|
This page was generated on 2018-04-12 13:23:00 -0400 (Thu, 12 Apr 2018).
| Package 129/1472 | Hostname | OS / Arch | INSTALL | BUILD | CHECK | BUILD BIN | ||||||
| BiocStyle 2.6.1 Bioconductor Package Maintainer
| malbec1 | Linux (Ubuntu 16.04.1 LTS) / x86_64 | OK | OK | OK | |||||||
| tokay1 | Windows Server 2012 R2 Standard / x64 | [ OK ] | OK | OK | OK | |||||||
| veracruz1 | OS X 10.11.6 El Capitan / x86_64 | OK | OK | OK | OK |
| Package: BiocStyle |
| Version: 2.6.1 |
| Command: rm -rf BiocStyle.buildbin-libdir && mkdir BiocStyle.buildbin-libdir && C:\cygwin\bin\curl.exe -O https://malbec1.bioconductor.org/BBS/3.6/bioc/src/contrib/BiocStyle_2.6.1.tar.gz && C:\Users\biocbuild\bbs-3.6-bioc\R\bin\R.exe CMD INSTALL --build --library=BiocStyle.buildbin-libdir --merge-multiarch BiocStyle_2.6.1.tar.gz && C:\Users\biocbuild\bbs-3.6-bioc\R\bin\R.exe CMD INSTALL BiocStyle_2.6.1.zip && rm BiocStyle_2.6.1.tar.gz BiocStyle_2.6.1.zip |
| StartedAt: 2018-04-11 18:24:48 -0400 (Wed, 11 Apr 2018) |
| EndedAt: 2018-04-11 18:26:17 -0400 (Wed, 11 Apr 2018) |
| EllapsedTime: 89.4 seconds |
| RetCode: 0 |
| Status: OK |
##############################################################################
##############################################################################
###
### Running command:
###
### rm -rf BiocStyle.buildbin-libdir && mkdir BiocStyle.buildbin-libdir && C:\cygwin\bin\curl.exe -O https://malbec1.bioconductor.org/BBS/3.6/bioc/src/contrib/BiocStyle_2.6.1.tar.gz && C:\Users\biocbuild\bbs-3.6-bioc\R\bin\R.exe CMD INSTALL --build --library=BiocStyle.buildbin-libdir --merge-multiarch BiocStyle_2.6.1.tar.gz && C:\Users\biocbuild\bbs-3.6-bioc\R\bin\R.exe CMD INSTALL BiocStyle_2.6.1.zip && rm BiocStyle_2.6.1.tar.gz BiocStyle_2.6.1.zip
###
##############################################################################
##############################################################################
% Total % Received % Xferd Average Speed Time Time Time Current
Dload Upload Total Spent Left Speed
0 0 0 0 0 0 0 0 --:--:-- --:--:-- --:--:-- 0
26 61382 26 16384 0 0 19965 0 0:00:03 --:--:-- 0:00:03 20029
100 61382 100 61382 0 0 74764 0 --:--:-- --:--:-- --:--:-- 75039
install for i386
* installing *source* package 'BiocStyle' ...
** R
** inst
** preparing package for lazy loading
** help
*** installing help indices
converting help for package 'BiocStyle'
finding HTML links ... done
BiocStyle-deprecated html
helpers html
html_document html
latex html
macros html
markdown html
md_document html
output html
pdf_document html
finding level-2 HTML links ... done
** building package indices
** installing vignettes
** testing if installed package can be loaded
In R CMD INSTALL
install for x64
* installing *source* package 'BiocStyle' ...
** testing if installed package can be loaded
* MD5 sums
packaged installation of 'BiocStyle' as BiocStyle_2.6.1.zip
* DONE (BiocStyle)
In R CMD INSTALL
In R CMD INSTALL
* installing to library 'C:/Users/biocbuild/bbs-3.6-bioc/R/library'
package 'BiocStyle' successfully unpacked and MD5 sums checked
In R CMD INSTALL