| Back to Multiple platform build/check report for BioC 3.6 | 
 | 
This page was generated on 2018-04-12 13:20:52 -0400 (Thu, 12 Apr 2018).
| Package 125/1472 | Hostname | OS / Arch | INSTALL | BUILD | CHECK | BUILD BIN | ||||||
| BiocInstaller 1.28.0 Bioconductor Package Maintainer 
 | malbec1 | Linux (Ubuntu 16.04.1 LTS) / x86_64 | OK | OK | OK |  | ||||||
| tokay1 | Windows Server 2012 R2 Standard / x64 | [ OK ] | OK | OK | OK |  | ||||||
| veracruz1 | OS X 10.11.6 El Capitan / x86_64 | OK | OK | OK | OK |  | 
| Package: BiocInstaller | 
| Version: 1.28.0 | 
| Command: rm -rf BiocInstaller.buildbin-libdir && mkdir BiocInstaller.buildbin-libdir && C:\cygwin\bin\curl.exe -O https://malbec1.bioconductor.org/BBS/3.6/bioc/src/contrib/BiocInstaller_1.28.0.tar.gz && C:\Users\biocbuild\bbs-3.6-bioc\R\bin\R.exe CMD INSTALL --build --library=BiocInstaller.buildbin-libdir --merge-multiarch BiocInstaller_1.28.0.tar.gz && C:\Users\biocbuild\bbs-3.6-bioc\R\bin\R.exe CMD INSTALL BiocInstaller_1.28.0.zip && rm BiocInstaller_1.28.0.tar.gz BiocInstaller_1.28.0.zip | 
| StartedAt: 2018-04-11 18:10:26 -0400 (Wed, 11 Apr 2018) | 
| EndedAt: 2018-04-11 18:11:17 -0400 (Wed, 11 Apr 2018) | 
| EllapsedTime: 51.3 seconds | 
| RetCode: 0 | 
| Status: OK | 
##############################################################################
##############################################################################
###
### Running command:
###
###   rm -rf BiocInstaller.buildbin-libdir && mkdir BiocInstaller.buildbin-libdir  && C:\cygwin\bin\curl.exe -O https://malbec1.bioconductor.org/BBS/3.6/bioc/src/contrib/BiocInstaller_1.28.0.tar.gz && C:\Users\biocbuild\bbs-3.6-bioc\R\bin\R.exe CMD INSTALL --build --library=BiocInstaller.buildbin-libdir --merge-multiarch BiocInstaller_1.28.0.tar.gz && C:\Users\biocbuild\bbs-3.6-bioc\R\bin\R.exe CMD INSTALL BiocInstaller_1.28.0.zip  && rm BiocInstaller_1.28.0.tar.gz BiocInstaller_1.28.0.zip
###
##############################################################################
##############################################################################
  % Total    % Received % Xferd  Average Speed   Time    Time     Time  Current
                                 Dload  Upload   Total   Spent    Left  Speed
  0     0    0     0    0     0      0      0 --:--:-- --:--:-- --:--:--     0
  0     0    0     0    0     0      0      0 --:--:-- --:--:-- --:--:--     0
100 18706  100 18706    0     0  27190      0 --:--:-- --:--:-- --:--:-- 29598
install for i386
* installing *source* package 'BiocInstaller' ...
** R
** inst
** preparing package for lazy loading
** help
*** installing help indices
  converting help for package 'BiocInstaller'
    finding HTML links ... done
    BiocUpgrade                             html  
    biocLite                                html  
    biocUpdatePackages                      html  
    biocValid                               html  
    biocVersion                             html  
    biocinstallRepos                        html  
    packageGroups                           html  
    useDevel                                html  
** building package indices
** testing if installed package can be loaded
Bioconductor version 3.6 (BiocInstaller 1.28.0), ?biocLite for help
In R CMD INSTALL
install for x64
* installing *source* package 'BiocInstaller' ...
** testing if installed package can be loaded
Bioconductor version 3.6 (BiocInstaller 1.28.0), ?biocLite for help
* MD5 sums
packaged installation of 'BiocInstaller' as BiocInstaller_1.28.0.zip
* DONE (BiocInstaller)
In R CMD INSTALL
In R CMD INSTALL
* installing to library 'C:/Users/biocbuild/bbs-3.6-bioc/R/library'
package 'BiocInstaller' successfully unpacked and MD5 sums checked
In R CMD INSTALL