| Back to Multiple platform build/check report for BioC 3.6 |
|
This page was generated on 2018-04-12 13:06:49 -0400 (Thu, 12 Apr 2018).
| Package 117/1472 | Hostname | OS / Arch | INSTALL | BUILD | CHECK | BUILD BIN | ||||||
| Biobase 2.38.0 Bioconductor Package Maintainer
| malbec1 | Linux (Ubuntu 16.04.1 LTS) / x86_64 | OK | OK | [ OK ] | |||||||
| tokay1 | Windows Server 2012 R2 Standard / x64 | OK | OK | OK | OK | |||||||
| veracruz1 | OS X 10.11.6 El Capitan / x86_64 | OK | OK | OK | OK |
| Package: Biobase |
| Version: 2.38.0 |
| Command: /home/biocbuild/bbs-3.6-bioc/R/bin/R CMD check --no-vignettes --timings Biobase_2.38.0.tar.gz |
| StartedAt: 2018-04-11 21:45:51 -0400 (Wed, 11 Apr 2018) |
| EndedAt: 2018-04-11 21:47:06 -0400 (Wed, 11 Apr 2018) |
| EllapsedTime: 75.5 seconds |
| RetCode: 0 |
| Status: OK |
| CheckDir: Biobase.Rcheck |
| Warnings: 0 |
############################################################################## ############################################################################## ### ### Running command: ### ### /home/biocbuild/bbs-3.6-bioc/R/bin/R CMD check --no-vignettes --timings Biobase_2.38.0.tar.gz ### ############################################################################## ############################################################################## * using log directory ‘/home/biocbuild/bbs-3.6-bioc/meat/Biobase.Rcheck’ * using R version 3.4.4 (2018-03-15) * using platform: x86_64-pc-linux-gnu (64-bit) * using session charset: UTF-8 * using option ‘--no-vignettes’ * checking for file ‘Biobase/DESCRIPTION’ ... OK * this is package ‘Biobase’ version ‘2.38.0’ * checking package namespace information ... OK * checking package dependencies ... OK * checking if this is a source package ... OK * checking if there is a namespace ... OK * checking for hidden files and directories ... OK * checking for portable file names ... OK * checking for sufficient/correct file permissions ... OK * checking whether package ‘Biobase’ can be installed ... OK * checking installed package size ... OK * checking package directory ... OK * checking ‘build’ directory ... OK * checking DESCRIPTION meta-information ... OK * checking top-level files ... OK * checking for left-over files ... OK * checking index information ... OK * checking package subdirectories ... OK * checking R files for non-ASCII characters ... OK * checking R files for syntax errors ... OK * checking whether the package can be loaded ... OK * checking whether the package can be loaded with stated dependencies ... OK * checking whether the package can be unloaded cleanly ... OK * checking whether the namespace can be loaded with stated dependencies ... OK * checking whether the namespace can be unloaded cleanly ... OK * checking dependencies in R code ... OK * checking S3 generic/method consistency ... OK * checking replacement functions ... OK * checking foreign function calls ... OK * checking R code for possible problems ... OK * checking Rd files ... OK * checking Rd metadata ... OK * checking Rd cross-references ... OK * checking for missing documentation entries ... OK * checking for code/documentation mismatches ... OK * checking Rd \usage sections ... OK * checking Rd contents ... OK * checking for unstated dependencies in examples ... OK * checking contents of ‘data’ directory ... OK * checking data for non-ASCII characters ... OK * checking data for ASCII and uncompressed saves ... OK * checking line endings in C/C++/Fortran sources/headers ... OK * checking compiled code ... OK * checking installed files from ‘inst/doc’ ... OK * checking files in ‘vignettes’ ... OK * checking examples ... OK * checking for unstated dependencies in ‘tests’ ... OK * checking tests ... Running ‘test-all.R’ Running ‘test-rowMedians.R’ OK * checking for unstated dependencies in vignettes ... OK * checking package vignettes in ‘inst/doc’ ... OK * checking running R code from vignettes ... SKIPPED * checking re-building of vignette outputs ... SKIPPED * checking PDF version of manual ... OK * DONE Status: OK
Biobase.Rcheck/00install.out
* installing *source* package ‘Biobase’ ... ** libs gcc -I/home/biocbuild/bbs-3.6-bioc/R/include -DNDEBUG -I/usr/local/include -fpic -g -O2 -Wall -c Rinit.c -o Rinit.o gcc -I/home/biocbuild/bbs-3.6-bioc/R/include -DNDEBUG -I/usr/local/include -fpic -g -O2 -Wall -c anyMissing.c -o anyMissing.o gcc -I/home/biocbuild/bbs-3.6-bioc/R/include -DNDEBUG -I/usr/local/include -fpic -g -O2 -Wall -c envir.c -o envir.o gcc -I/home/biocbuild/bbs-3.6-bioc/R/include -DNDEBUG -I/usr/local/include -fpic -g -O2 -Wall -c matchpt.c -o matchpt.o gcc -I/home/biocbuild/bbs-3.6-bioc/R/include -DNDEBUG -I/usr/local/include -fpic -g -O2 -Wall -c rowMedians.c -o rowMedians.o gcc -I/home/biocbuild/bbs-3.6-bioc/R/include -DNDEBUG -I/usr/local/include -fpic -g -O2 -Wall -c sublist_extract.c -o sublist_extract.o g++ -shared -L/home/biocbuild/bbs-3.6-bioc/R/lib -L/usr/local/lib -o Biobase.so Rinit.o anyMissing.o envir.o matchpt.o rowMedians.o sublist_extract.o -L/home/biocbuild/bbs-3.6-bioc/R/lib -lR installing to /home/biocbuild/bbs-3.6-bioc/meat/Biobase.Rcheck/Biobase/libs ** R ** data ** inst ** preparing package for lazy loading ** help *** installing help indices ** building package indices ** installing vignettes ** testing if installed package can be loaded * DONE (Biobase)
Biobase.Rcheck/tests/test-all.Rout
R version 3.4.4 (2018-03-15) -- "Someone to Lean On"
Copyright (C) 2018 The R Foundation for Statistical Computing
Platform: x86_64-pc-linux-gnu (64-bit)
R is free software and comes with ABSOLUTELY NO WARRANTY.
You are welcome to redistribute it under certain conditions.
Type 'license()' or 'licence()' for distribution details.
R is a collaborative project with many contributors.
Type 'contributors()' for more information and
'citation()' on how to cite R or R packages in publications.
Type 'demo()' for some demos, 'help()' for on-line help, or
'help.start()' for an HTML browser interface to help.
Type 'q()' to quit R.
> BiocGenerics:::testPackage("Biobase")
Attaching package: 'BiocGenerics'
The following objects are masked from 'package:parallel':
clusterApply, clusterApplyLB, clusterCall, clusterEvalQ,
clusterExport, clusterMap, parApply, parCapply, parLapply,
parLapplyLB, parRapply, parSapply, parSapplyLB
The following objects are masked from 'package:stats':
IQR, mad, sd, var, xtabs
The following objects are masked from 'package:base':
Filter, Find, Map, Position, Reduce, anyDuplicated, append,
as.data.frame, cbind, colMeans, colSums, colnames, do.call,
duplicated, eval, evalq, get, grep, grepl, intersect, is.unsorted,
lapply, lengths, mapply, match, mget, order, paste, pmax, pmax.int,
pmin, pmin.int, rank, rbind, rowMeans, rowSums, rownames, sapply,
setdiff, sort, table, tapply, union, unique, unsplit, which,
which.max, which.min
Welcome to Bioconductor
Vignettes contain introductory material; view with
'browseVignettes()'. To cite Bioconductor, see
'citation("Biobase")', and for packages 'citation("pkgname")'.
RUNIT TEST PROTOCOL -- Wed Apr 11 21:46:45 2018
***********************************************
Number of test functions: 101
Number of errors: 0
Number of failures: 0
1 Test Suite :
Biobase RUnit Tests - 101 test functions, 0 errors, 0 failures
Number of test functions: 101
Number of errors: 0
Number of failures: 0
>
> proc.time()
user system elapsed
16.632 0.072 16.731
Biobase.Rcheck/tests/test-rowMedians.Rout
R version 3.4.4 (2018-03-15) -- "Someone to Lean On"
Copyright (C) 2018 The R Foundation for Statistical Computing
Platform: x86_64-pc-linux-gnu (64-bit)
R is free software and comes with ABSOLUTELY NO WARRANTY.
You are welcome to redistribute it under certain conditions.
Type 'license()' or 'licence()' for distribution details.
R is a collaborative project with many contributors.
Type 'contributors()' for more information and
'citation()' on how to cite R or R packages in publications.
Type 'demo()' for some demos, 'help()' for on-line help, or
'help.start()' for an HTML browser interface to help.
Type 'q()' to quit R.
> library(Biobase)
Loading required package: BiocGenerics
Loading required package: parallel
Attaching package: 'BiocGenerics'
The following objects are masked from 'package:parallel':
clusterApply, clusterApplyLB, clusterCall, clusterEvalQ,
clusterExport, clusterMap, parApply, parCapply, parLapply,
parLapplyLB, parRapply, parSapply, parSapplyLB
The following objects are masked from 'package:stats':
IQR, mad, sd, var, xtabs
The following objects are masked from 'package:base':
Filter, Find, Map, Position, Reduce, anyDuplicated, append,
as.data.frame, cbind, colMeans, colSums, colnames, do.call,
duplicated, eval, evalq, get, grep, grepl, intersect, is.unsorted,
lapply, lengths, mapply, match, mget, order, paste, pmax, pmax.int,
pmin, pmin.int, rank, rbind, rowMeans, rowSums, rownames, sapply,
setdiff, sort, table, tapply, union, unique, unsplit, which,
which.max, which.min
Welcome to Bioconductor
Vignettes contain introductory material; view with
'browseVignettes()'. To cite Bioconductor, see
'citation("Biobase")', and for packages 'citation("pkgname")'.
> set.seed(1)
>
> # - - - - - - - - - - - - - - - - - - - - - - - - - - - -
> # Consistency checks
> # - - - - - - - - - - - - - - - - - - - - - - - - - - - -
>
> # rowMedians() by rowQ()
> rowMedians2 <- function(imat) {
+ nr <- ncol(imat)
+ half <- (nr + 1)/2
+ if (nr%%2 == 1) {
+ return(rowQ(imat, half))
+ } else {
+ return((rowQ(imat, half) + rowQ(imat, half+1))/2)
+ }
+ }
>
> cat("Consistency checks:\n")
Consistency checks:
> set.seed(1)
> for (kk in 1:20) {
+ cat("Random test #", kk, "\n", sep="")
+
+ # Simulate data in a matrix of any shape
+ nrow <- sample(2000, size=1)
+ ncol <- sample(2000, size=1)
+ x <- rnorm(nrow*ncol)
+ dim(x) <- c(nrow, ncol)
+
+ # Add NAs?
+ nas <- sample(c(TRUE,FALSE), size=1)
+ if (nas) {
+ nna <- sample(nrow*ncol, size=1)
+ x[sample(length(x), size=nna)] <- NA
+ }
+
+ na.rm <- nas
+ t1 <- system.time({
+ y1 <- rowMedians(x, na.rm=na.rm)
+ })
+ t2 <- system.time({
+ y2 <- apply(x, MARGIN=1, FUN=median, na.rm=na.rm)
+ })
+ # When all values of 'y2' are NA, 'y2' is logical
+ if (is.logical(y2)) y2 <- as.double(y2)
+ stopifnot(all.equal(y1,y2))
+ cat(sprintf("rowMedians()/apply(): %.3g\n", (t1/t2)[3]))
+
+ if (!nas) {
+ t3 <- system.time({
+ y3 <- rowMedians2(x)
+ })
+ stopifnot(all.equal(y1,y3))
+ cat(sprintf("rowMedians()/rowMedians2(): %.3g\n", (t1/t3)[3]))
+ }
+ }
Random test #1
rowMedians()/apply(): 0.061
Random test #2
rowMedians()/apply(): 0.22
Random test #3
rowMedians()/apply(): 0.364
rowMedians()/rowMedians2(): 0.786
Random test #4
rowMedians()/apply(): 0.0893
Random test #5
rowMedians()/apply(): 0.4
rowMedians()/rowMedians2(): 0.182
Random test #6
rowMedians()/apply(): 0.158
Random test #7
rowMedians()/apply(): 0.182
Random test #8
rowMedians()/apply(): 0.0968
Random test #9
rowMedians()/apply(): 0.115
rowMedians()/rowMedians2(): 0.455
Random test #10
rowMedians()/apply(): 0.316
rowMedians()/rowMedians2(): 0.476
Random test #11
rowMedians()/apply(): 0.0879
Random test #12
rowMedians()/apply(): 0.267
Random test #13
rowMedians()/apply(): 0.26
rowMedians()/rowMedians2(): 0.844
Random test #14
rowMedians()/apply(): 0.444
rowMedians()/rowMedians2(): 0.857
Random test #15
rowMedians()/apply(): 0.25
Random test #16
rowMedians()/apply(): 0.176
Random test #17
rowMedians()/apply(): 0.298
rowMedians()/rowMedians2(): 0.467
Random test #18
rowMedians()/apply(): 0.0323
Random test #19
rowMedians()/apply(): 0.155
Random test #20
rowMedians()/apply(): 0.143
>
>
> # - - - - - - - - - - - - - - - - - - - - - - - - - - - -
> # Benchmarking
> # - - - - - - - - - - - - - - - - - - - - - - - - - - - -
> cat("Benchmarking:\n")
Benchmarking:
>
> # Simulate data in a matrix of any shape
> nrow <- 1000
> ncol <- 1000
> x <- rnorm(nrow*ncol)
> dim(x) <- c(nrow, ncol)
>
> gc()
used (Mb) gc trigger (Mb) max used (Mb)
Ncells 521943 27.9 940480 50.3 940480 50.3
Vcells 1890397 14.5 3534853 27.0 6523769 49.8
> t0 <- system.time({
+ for (rr in 1:20)
+ y0 <- apply(x, MARGIN=1, FUN=median, na.rm=FALSE)
+ })
> gc()
used (Mb) gc trigger (Mb) max used (Mb)
Ncells 521961 27.9 940480 50.3 940480 50.3
Vcells 1891416 14.5 5266187 40.2 6523769 49.8
> t1 <- system.time({
+ for (rr in 1:20)
+ y1 <- rowMedians(x, na.rm=FALSE)
+ })
> gc()
used (Mb) gc trigger (Mb) max used (Mb)
Ncells 521986 27.9 940480 50.3 940480 50.3
Vcells 1892240 14.5 5266187 40.2 6523769 49.8
> stopifnot(all.equal(y0,y1))
> cat(sprintf("rowMedians()/apply(): %.3g\n", (t1/t0)[3]))
rowMedians()/apply(): 0.25
>
>
> # - - - - - - - - - - - - - - - - - - - - - - - - - - - -
> # Consistency checks
> # - - - - - - - - - - - - - - - - - - - - - - - - - - - -
> cat("Consistency checks without NAs:\n")
Consistency checks without NAs:
> for (kk in 1:20) {
+ cat("Random test #", kk, "\n", sep="")
+
+ # Simulate data in a matrix of any shape
+ nrow <- sample(1000, size=1)
+ ncol <- sample(1000, size=1)
+ x <- rnorm(nrow*ncol)
+ dim(x) <- c(nrow, ncol)
+
+ t0 <- system.time({
+ y0 <- apply(x, MARGIN=1, FUN=median, na.rm=FALSE)
+ })
+ t1 <- system.time({
+ y1 <- rowMedians(x, na.rm=FALSE)
+ })
+ stopifnot(all.equal(y0,y1))
+ } # for (kk in ...)
Random test #1
Random test #2
Random test #3
Random test #4
Random test #5
Random test #6
Random test #7
Random test #8
Random test #9
Random test #10
Random test #11
Random test #12
Random test #13
Random test #14
Random test #15
Random test #16
Random test #17
Random test #18
Random test #19
Random test #20
>
>
>
> cat("Consistency checks with NAs:\n")
Consistency checks with NAs:
> for (kk in 1:20) {
+ cat("Random test #", kk, "\n", sep="")
+
+ # Simulate data in a matrix of any shape
+ nrow <- sample(1000, size=1)
+ ncol <- sample(1000, size=1)
+ x <- rnorm(nrow*ncol)
+ dim(x) <- c(nrow, ncol)
+
+ # Add NAs
+ nna <- sample(nrow*ncol-1, size=1)
+ x[sample(length(x), size=nna)] <- NA
+
+ t0 <- system.time({
+ y0 <- apply(x, MARGIN=1, FUN=median, na.rm=TRUE)
+ y0[is.na(y0)] <- NA
+ })
+ t1 <- system.time({
+ y1 <- rowMedians(x, na.rm=TRUE)
+ })
+ stopifnot(all.equal(y0,y1))
+ } # for (kk in ...)
Random test #1
Random test #2
Random test #3
Random test #4
Random test #5
Random test #6
Random test #7
Random test #8
Random test #9
Random test #10
Random test #11
Random test #12
Random test #13
Random test #14
Random test #15
Random test #16
Random test #17
Random test #18
Random test #19
Random test #20
>
> proc.time()
user system elapsed
15.496 0.088 15.588
Biobase.Rcheck/Biobase-Ex.timings
| name | user | system | elapsed | |
| Aggregate | 0.048 | 0.000 | 0.049 | |
| ScalarObject-class | 0.016 | 0.000 | 0.016 | |
| addVig2Menu | 0.000 | 0.000 | 0.001 | |
| anyMissing | 0.000 | 0.000 | 0.002 | |
| cache | 0.008 | 0.000 | 0.007 | |
| channel | 0.408 | 0.000 | 0.411 | |
| channelNames | 0.144 | 0.000 | 0.145 | |
| class.AnnotatedDataFrame | 0.036 | 0.000 | 0.034 | |
| class.ExpressionSet | 0.300 | 0.000 | 0.303 | |
| class.MIAxE | 0.016 | 0.000 | 0.018 | |
| class.MultiSet | 0.02 | 0.00 | 0.02 | |
| class.NChannelSet | 0.136 | 0.000 | 0.138 | |
| class.Versioned | 0.044 | 0.000 | 0.044 | |
| class.VersionedBiobase | 0.016 | 0.000 | 0.018 | |
| class.Versions | 0.008 | 0.000 | 0.009 | |
| class.VersionsNull | 0 | 0 | 0 | |
| class.container | 0.004 | 0.000 | 0.002 | |
| class.eSet | 0.060 | 0.000 | 0.061 | |
| classVersion | 0.004 | 0.000 | 0.003 | |
| contents | 0.000 | 0.000 | 0.001 | |
| copyEnv | 0.016 | 0.000 | 0.015 | |
| copySubstitute | 0.068 | 0.000 | 0.069 | |
| createPackage | 0.008 | 0.000 | 0.004 | |
| data.aaMap | 0.000 | 0.000 | 0.002 | |
| data.geneData | 0.020 | 0.004 | 0.023 | |
| data.reporter | 0.004 | 0.000 | 0.002 | |
| data.sample.ExpressionSet | 0.012 | 0.000 | 0.012 | |
| data.sample.MultiSet | 0.004 | 0.000 | 0.005 | |
| dumpPackTxt | 0.00 | 0.00 | 0.01 | |
| esApply | 0.980 | 0.000 | 0.982 | |
| getPkgVigs | 0.008 | 0.000 | 0.034 | |
| isCurrent | 0.028 | 0.000 | 0.028 | |
| isUnique | 0.004 | 0.000 | 0.001 | |
| isVersioned | 0.012 | 0.000 | 0.012 | |
| lcSuffix | 0.028 | 0.000 | 0.026 | |
| listLen | 0.000 | 0.000 | 0.001 | |
| makeDataPackage | 0.080 | 0.000 | 0.082 | |
| matchpt | 0.02 | 0.00 | 0.02 | |
| multiassign | 0.016 | 0.000 | 0.016 | |
| note | 0 | 0 | 0 | |
| openPDF | 0 | 0 | 0 | |
| openVignette | 0 | 0 | 0 | |
| package.version | 0.000 | 0.000 | 0.001 | |
| read.AnnotatedDataFrame | 0.012 | 0.000 | 0.011 | |
| read.MIAME | 0.028 | 0.000 | 0.027 | |
| readExpressionSet | 0.064 | 0.000 | 0.062 | |
| reverseSplit | 0 | 0 | 0 | |
| rowMedians | 0.108 | 0.000 | 0.107 | |
| rowQ | 0.016 | 0.000 | 0.016 | |
| selectChannels | 0.032 | 0.000 | 0.033 | |
| selectSome | 0 | 0 | 0 | |
| strbreak | 0.020 | 0.000 | 0.018 | |
| subListExtract | 0.668 | 0.012 | 0.682 | |
| testBioCConnection | 0.012 | 0.000 | 0.412 | |
| updateOldESet | 0 | 0 | 0 | |
| validMsg | 0.000 | 0.000 | 0.001 | |