| Back to Multiple platform build/check report for BioC 3.6 |
|
This page was generated on 2018-04-12 13:22:47 -0400 (Thu, 12 Apr 2018).
| Package 149/1472 | Hostname | OS / Arch | INSTALL | BUILD | CHECK | BUILD BIN | ||||||
| BiSeq 1.18.0 Katja Hebestreit
| malbec1 | Linux (Ubuntu 16.04.1 LTS) / x86_64 | OK | OK | OK | |||||||
| tokay1 | Windows Server 2012 R2 Standard / x64 | [ OK ] | OK | OK | OK | |||||||
| veracruz1 | OS X 10.11.6 El Capitan / x86_64 | OK | OK | OK | OK |
| Package: BiSeq |
| Version: 1.18.0 |
| Command: C:\Users\biocbuild\bbs-3.6-bioc\R\bin\R.exe --arch x64 CMD INSTALL --no-multiarch BiSeq |
| StartedAt: 2018-04-11 18:47:24 -0400 (Wed, 11 Apr 2018) |
| EndedAt: 2018-04-11 18:48:41 -0400 (Wed, 11 Apr 2018) |
| EllapsedTime: 77.1 seconds |
| RetCode: 0 |
| Status: OK |
##############################################################################
##############################################################################
###
### Running command:
###
### C:\Users\biocbuild\bbs-3.6-bioc\R\bin\R.exe --arch x64 CMD INSTALL --no-multiarch BiSeq
###
##############################################################################
##############################################################################
* installing to library 'C:/Users/biocbuild/bbs-3.6-bioc/R/library'
* installing *source* package 'BiSeq' ...
** R
** data
** inst
** preparing package for lazy loading
** help
*** installing help indices
converting help for package 'BiSeq'
finding HTML links ... done
BSraw-class html
finding level-2 HTML links ... done
BSrel-class html
DMRs html
annotateGRanges html
betaRegression html
betaResults html
betaResultsNull html
binomLikelihoodSmooth html
clusterSites html
clusterSitesToGR html
compareTwoSamples html
covBoxplots html
covStatistics html
estLocCor html
filterByCov html
filterBySharedRegions html
findDMRs html
globalTest html
limitCov html
logisticRegression html
makeVariogram html
plotBindingSites html
plotMeth html
plotMethMap html
plotSmoothMeth html
predictMeth html
predictedMeth html
promoters html
rawToRel html
readBismark html
rrbs html
smoothVariogram html
summarizeRegions html
testClusters html
trimClusters html
vario html
writeBED html
** building package indices
** installing vignettes
** testing if installed package can be loaded
* DONE (BiSeq)
Making 'packages.html' ... done
In R CMD INSTALL