| Back to Multiple platform build/check report for BioC 3.6 |
|
This page was generated on 2018-04-12 13:35:23 -0400 (Thu, 12 Apr 2018).
| Package 155/1472 | Hostname | OS / Arch | INSTALL | BUILD | CHECK | BUILD BIN | ||||||
| BRAIN 1.24.0 Piotr Dittwald
| malbec1 | Linux (Ubuntu 16.04.1 LTS) / x86_64 | OK | OK | OK | |||||||
| tokay1 | Windows Server 2012 R2 Standard / x64 | OK | OK | OK | OK | |||||||
| veracruz1 | OS X 10.11.6 El Capitan / x86_64 | OK | OK | OK | [ OK ] |
| Package: BRAIN |
| Version: 1.24.0 |
| Command: rm -rf BRAIN.buildbin-libdir && mkdir BRAIN.buildbin-libdir && /Users/biocbuild/BBS/utils/build-universal.sh BRAIN_1.24.0.tar.gz /Library/Frameworks/R.framework/Versions/Current/Resources/bin/R BRAIN.buildbin-libdir |
| StartedAt: 2018-04-12 11:11:19 -0400 (Thu, 12 Apr 2018) |
| EndedAt: 2018-04-12 11:11:24 -0400 (Thu, 12 Apr 2018) |
| EllapsedTime: 5.5 seconds |
| RetCode: 0 |
| Status: OK |
| PackageFile: BRAIN_1.24.0.tgz |
| PackageFileSize: 1.93 MiB |
############################################################################## ############################################################################## ### ### Running command: ### ### rm -rf BRAIN.buildbin-libdir && mkdir BRAIN.buildbin-libdir && /Users/biocbuild/BBS/utils/build-universal.sh BRAIN_1.24.0.tar.gz /Library/Frameworks/R.framework/Versions/Current/Resources/bin/R BRAIN.buildbin-libdir ### ############################################################################## ############################################################################## >>>>>>> >>>>>>> INSTALLATION WITH 'R CMD INSTALL --preclean --no-multiarch --library=BRAIN.buildbin-libdir BRAIN_1.24.0.tar.gz' >>>>>>> * installing *source* package ‘BRAIN’ ... ** R ** inst ** preparing package for lazy loading ** help *** installing help indices ** building package indices ** installing vignettes ** testing if installed package can be loaded * DONE (BRAIN)