| Back to Multiple platform build/check report for BioC 3.6 |
|
This page was generated on 2018-04-12 13:28:22 -0400 (Thu, 12 Apr 2018).
| Package 39/1472 | Hostname | OS / Arch | INSTALL | BUILD | CHECK | BUILD BIN | ||||||
| AMOUNTAIN 1.4.0 Dong Li
| malbec1 | Linux (Ubuntu 16.04.1 LTS) / x86_64 | OK | OK | OK | |||||||
| tokay1 | Windows Server 2012 R2 Standard / x64 | [ OK ] | OK | OK | OK | |||||||
| veracruz1 | OS X 10.11.6 El Capitan / x86_64 | OK | OK | OK | OK |
| Package: AMOUNTAIN |
| Version: 1.4.0 |
| Command: rm -rf AMOUNTAIN.buildbin-libdir && mkdir AMOUNTAIN.buildbin-libdir && C:\cygwin\bin\curl.exe -O https://malbec1.bioconductor.org/BBS/3.6/bioc/src/contrib/AMOUNTAIN_1.4.0.tar.gz && C:\Users\biocbuild\bbs-3.6-bioc\R\bin\R.exe CMD INSTALL --build --library=AMOUNTAIN.buildbin-libdir --merge-multiarch AMOUNTAIN_1.4.0.tar.gz && C:\Users\biocbuild\bbs-3.6-bioc\R\bin\R.exe CMD INSTALL AMOUNTAIN_1.4.0.zip && rm AMOUNTAIN_1.4.0.tar.gz AMOUNTAIN_1.4.0.zip |
| StartedAt: 2018-04-11 18:11:17 -0400 (Wed, 11 Apr 2018) |
| EndedAt: 2018-04-11 18:12:21 -0400 (Wed, 11 Apr 2018) |
| EllapsedTime: 64.4 seconds |
| RetCode: 0 |
| Status: OK |
##############################################################################
##############################################################################
###
### Running command:
###
### rm -rf AMOUNTAIN.buildbin-libdir && mkdir AMOUNTAIN.buildbin-libdir && C:\cygwin\bin\curl.exe -O https://malbec1.bioconductor.org/BBS/3.6/bioc/src/contrib/AMOUNTAIN_1.4.0.tar.gz && C:\Users\biocbuild\bbs-3.6-bioc\R\bin\R.exe CMD INSTALL --build --library=AMOUNTAIN.buildbin-libdir --merge-multiarch AMOUNTAIN_1.4.0.tar.gz && C:\Users\biocbuild\bbs-3.6-bioc\R\bin\R.exe CMD INSTALL AMOUNTAIN_1.4.0.zip && rm AMOUNTAIN_1.4.0.tar.gz AMOUNTAIN_1.4.0.zip
###
##############################################################################
##############################################################################
% Total % Received % Xferd Average Speed Time Time Time Current
Dload Upload Total Spent Left Speed
0 0 0 0 0 0 0 0 --:--:-- --:--:-- --:--:-- 0
100 320k 100 320k 0 0 2507k 0 --:--:-- --:--:-- --:--:-- 2583k
install for i386
* installing *source* package 'AMOUNTAIN' ...
** libs
C:/Rtools/mingw_32/bin/gcc -I"C:/Users/BIOCBU˜1/BBS-3˜1.6-B/R/include" -DNDEBUG -I/src/include -I/i386/include -I"C:/local323/include" -O3 -Wall -std=gnu99 -mtune=generic -c AMOUNTAIN.c -o AMOUNTAIN.o
C:/Rtools/mingw_32/bin/g++ -shared -s -static-libgcc -o AMOUNTAIN.dll tmp.def AMOUNTAIN.o -L/i386/lib -lgsl -lgslcblas -lm -LC:/local323/lib/i386 -LC:/local323/lib -LC:/Users/BIOCBU˜1/BBS-3˜1.6-B/R/bin/i386 -lR
installing to C:/Users/biocbuild/bbs-3.6-bioc/meat/AMOUNTAIN.buildbin-libdir/AMOUNTAIN/libs/i386
** R
** inst
** preparing package for lazy loading
** help
*** installing help indices
converting help for package 'AMOUNTAIN'
finding HTML links ... done
CGPFixSS html
CGPFixSSMultiLayer html
CGPFixSSTwolayer html
EuclideanProjectionENNORM html
moduleIdentificationGPFixSS html
moduleIdentificationGPFixSSMultilayer html
moduleIdentificationGPFixSSTwolayer html
multilayernetworkSimulation html
networkSimulation html
twolayernetworkSimulation html
** building package indices
** installing vignettes
'AMOUNTAIN.Rmd' using 'UTF-8'
** testing if installed package can be loaded
In R CMD INSTALL
install for x64
* installing *source* package 'AMOUNTAIN' ...
** libs
C:/Rtools/mingw_64/bin/gcc -I"C:/Users/BIOCBU˜1/BBS-3˜1.6-B/R/include" -DNDEBUG -I/src/include -I/x64/include -I"C:/local323/include" -O2 -Wall -std=gnu99 -mtune=generic -c AMOUNTAIN.c -o AMOUNTAIN.o
C:/Rtools/mingw_64/bin/g++ -shared -s -static-libgcc -o AMOUNTAIN.dll tmp.def AMOUNTAIN.o -L/x64/lib -lgsl -lgslcblas -lm -LC:/local323/lib/x64 -LC:/local323/lib -LC:/Users/BIOCBU˜1/BBS-3˜1.6-B/R/bin/x64 -lR
installing to C:/Users/biocbuild/bbs-3.6-bioc/meat/AMOUNTAIN.buildbin-libdir/AMOUNTAIN/libs/x64
** testing if installed package can be loaded
* MD5 sums
packaged installation of 'AMOUNTAIN' as AMOUNTAIN_1.4.0.zip
* DONE (AMOUNTAIN)
In R CMD INSTALL
In R CMD INSTALL
* installing to library 'C:/Users/biocbuild/bbs-3.6-bioc/R/library'
package 'AMOUNTAIN' successfully unpacked and MD5 sums checked
In R CMD INSTALL