| sizepower 1.47.0 Weiliang Qiu
 
 | Snapshot Date: 2017-08-15 17:18:21 -0400 (Tue, 15 Aug 2017) |  | URL: https://hedgehog.fhcrc.org/bioconductor/trunk/madman/Rpacks/sizepower |  | Last Changed Rev: 129129 / Revision: 131943 |  | Last Changed Date: 2017-04-24 15:50:57 -0400 (Mon, 24 Apr 2017) | 
 | malbec1 | Linux (Ubuntu 16.04.1 LTS) / x86_64 | OK | OK | OK |  |  | 
| tokay1 | Windows Server 2012 R2 Standard / x64 | OK | OK | OK | [ OK ] |  | 
| veracruz1 | OS X 10.11.6 El Capitan / x86_64 | OK | OK | OK | OK |  | 
##############################################################################
##############################################################################
###
### Running command:
###
###   cd sizepower.buildbin-libdir/sizepower && zip -r ../../sizepower_1.47.0.zip . & cd ../..
###
##############################################################################
##############################################################################
  adding: DESCRIPTION (332 bytes security) (deflated 44%)
  adding: doc/ (372 bytes security) (stored 0%)
  adding: doc/index.html (332 bytes security) (deflated 57%)
  adding: doc/sizepower.pdf (332 bytes security) (deflated 9%)
  adding: doc/sizepower.R (332 bytes security) (deflated 81%)
  adding: doc/sizepower.Rnw (332 bytes security) (deflated 69%)
  adding: help/ (372 bytes security) (stored 0%)
  adding: help/aliases.rds (332 bytes security) (stored 0%)
  adding: help/AnIndex (332 bytes security) (deflated 56%)
  adding: help/paths.rds (332 bytes security) (stored 0%)
  adding: help/sizepower.rdb (332 bytes security) (deflated 0%)
  adding: help/sizepower.rdx (332 bytes security) (stored 0%)
  adding: html/ (372 bytes security) (stored 0%)
  adding: html/00Index.html (332 bytes security) (deflated 63%)
  adding: html/R.css (332 bytes security) (deflated 75%)
  adding: INDEX (332 bytes security) (deflated 71%)
  adding: MD5 (332 bytes security) (deflated 43%)
  adding: Meta/ (372 bytes security) (stored 0%)
  adding: Meta/features.rds (332 bytes security) (stored 0%)
  adding: Meta/hsearch.rds (332 bytes security) (stored 0%)
  adding: Meta/links.rds (332 bytes security) (stored 0%)
  adding: Meta/nsInfo.rds (332 bytes security) (stored 0%)
  adding: Meta/package.rds (332 bytes security) (stored 0%)
  adding: Meta/Rd.rds (332 bytes security) (stored 0%)
  adding: Meta/vignette.rds (332 bytes security) (stored 0%)
  adding: NAMESPACE (332 bytes security) (deflated 33%)
  adding: R/ (372 bytes security) (stored 0%)
  adding: R/sizepower (332 bytes security) (deflated 41%)
  adding: R/sizepower.rdb (332 bytes security) (deflated 33%)
  adding: R/sizepower.rdx (332 bytes security) (stored 0%)