| epivizrServer 1.5.0 Hector Corrada Bravo
 
 | Snapshot Date: 2017-08-15 17:18:21 -0400 (Tue, 15 Aug 2017) |  | URL: https://hedgehog.fhcrc.org/bioconductor/trunk/madman/Rpacks/epivizrServer |  | Last Changed Rev: 129129 / Revision: 131943 |  | Last Changed Date: 2017-04-24 15:50:57 -0400 (Mon, 24 Apr 2017) | 
 | malbec1 | Linux (Ubuntu 16.04.1 LTS) / x86_64 | OK | OK | OK |  |  | 
| tokay1 | Windows Server 2012 R2 Standard / x64 | [ OK ] | OK | OK | OK |  | 
| veracruz1 | OS X 10.11.6 El Capitan / x86_64 | OK | OK | OK | OK |  | 
##############################################################################
##############################################################################
###
### Running command:
###
###   rm -rf epivizrServer.buildbin-libdir && mkdir epivizrServer.buildbin-libdir  && C:\cygwin\bin\curl.exe -O https://malbec1.bioconductor.org/BBS/3.6/bioc/src/contrib/epivizrServer_1.5.0.tar.gz && C:\Users\biocbuild\bbs-3.6-bioc\R\bin\R.exe CMD INSTALL --build --library=epivizrServer.buildbin-libdir --merge-multiarch epivizrServer_1.5.0.tar.gz && C:\Users\biocbuild\bbs-3.6-bioc\R\bin\R.exe CMD INSTALL epivizrServer_1.5.0.zip  && rm epivizrServer_1.5.0.tar.gz epivizrServer_1.5.0.zip
###
##############################################################################
##############################################################################
  % Total    % Received % Xferd  Average Speed   Time    Time     Time  Current
                                 Dload  Upload   Total   Spent    Left  Speed
  0     0    0     0    0     0      0      0 --:--:-- --:--:-- --:--:--     0
100 19018  100 19018    0     0   411k      0 --:--:-- --:--:-- --:--:--  452k
install for i386
* installing *source* package 'epivizrServer' ...
** R
** inst
** preparing package for lazy loading
** help
*** installing help indices
** building package indices
** installing vignettes
** testing if installed package can be loaded
install for x64
* installing *source* package 'epivizrServer' ...
** testing if installed package can be loaded
* MD5 sums
packaged installation of 'epivizrServer' as epivizrServer_1.5.0.zip
* DONE (epivizrServer)
* installing to library 'C:/Users/biocbuild/bbs-3.6-bioc/R/library'
package 'epivizrServer' successfully unpacked and MD5 sums checked