bumphunter 1.17.2 Rafael A. Irizarry
 | Snapshot Date: 2017-08-15 17:18:21 -0400 (Tue, 15 Aug 2017) |  | URL: https://hedgehog.fhcrc.org/bioconductor/trunk/madman/Rpacks/bumphunter |  | Last Changed Rev: 129749 / Revision: 131943 |  | Last Changed Date: 2017-05-19 09:43:40 -0400 (Fri, 19 May 2017) |  
  | malbec1  | Linux (Ubuntu 16.04.1 LTS) / x86_64  |  OK  |  OK  |  OK  |  |   | 
| tokay1  | Windows Server 2012 R2 Standard / x64  |  OK  |  OK  |  OK  | [ OK ] |   | 
| veracruz1  | OS X 10.11.6 El Capitan / x86_64  |  OK  |  OK  |  OK  |  OK  |   | 
##############################################################################
##############################################################################
###
### Running command:
###
###   cd bumphunter.buildbin-libdir/bumphunter && zip -r ../../bumphunter_1.17.2.zip . & cd ../..
###
##############################################################################
##############################################################################
  adding: CITATION (332 bytes security) (deflated 58%)
  adding: data/ (372 bytes security) (stored 0%)
  adding: data/datalist (332 bytes security) (stored 0%)
  adding: data/Rdata.rdb (332 bytes security) (deflated 0%)
  adding: data/Rdata.rds (332 bytes security) (deflated 3%)
  adding: data/Rdata.rdx (332 bytes security) (stored 0%)
  adding: DESCRIPTION (332 bytes security) (deflated 47%)
  adding: doc/ (372 bytes security) (stored 0%)
  adding: doc/bumphunter.pdf (332 bytes security) (deflated 11%)
  adding: doc/bumphunter.R (332 bytes security) (deflated 74%)
  adding: doc/bumphunter.Rnw (332 bytes security) (deflated 58%)
  adding: doc/index.html (332 bytes security) (deflated 59%)
  adding: help/ (372 bytes security) (stored 0%)
  adding: help/aliases.rds (332 bytes security) (stored 0%)
  adding: help/AnIndex (332 bytes security) (deflated 60%)
  adding: help/bumphunter.rdb (332 bytes security) (deflated 1%)
  adding: help/bumphunter.rdx (332 bytes security) (stored 0%)
  adding: help/paths.rds (332 bytes security) (stored 0%)
  adding: html/ (372 bytes security) (stored 0%)
  adding: html/00Index.html (332 bytes security) (deflated 70%)
  adding: html/R.css (332 bytes security) (deflated 75%)
  adding: INDEX (332 bytes security) (deflated 64%)
  adding: MD5 (332 bytes security) (deflated 46%)
  adding: Meta/ (372 bytes security) (stored 0%)
  adding: Meta/data.rds (332 bytes security) (stored 0%)
  adding: Meta/features.rds (332 bytes security) (stored 0%)
  adding: Meta/hsearch.rds (332 bytes security) (stored 0%)
  adding: Meta/links.rds (332 bytes security) (stored 0%)
  adding: Meta/nsInfo.rds (332 bytes security) (stored 0%)
  adding: Meta/package.rds (332 bytes security) (stored 0%)
  adding: Meta/Rd.rds (332 bytes security) (stored 0%)
  adding: Meta/vignette.rds (332 bytes security) (stored 0%)
  adding: NAMESPACE (332 bytes security) (deflated 59%)
  adding: NEWS.Rd (332 bytes security) (deflated 50%)
  adding: R/ (372 bytes security) (stored 0%)
  adding: R/bumphunter (332 bytes security) (deflated 41%)
  adding: R/bumphunter.rdb (332 bytes security) (deflated 6%)
  adding: R/bumphunter.rdx (332 bytes security) (stored 0%)
  adding: testData/ (372 bytes security) (stored 0%)
  adding: testData/testData.R (332 bytes security) (deflated 67%)
  adding: testData/testData.Rout (332 bytes security) (deflated 66%)
  adding: unitTests/ (372 bytes security) (stored 0%)
  adding: unitTests/bumpsTest1.rda (332 bytes security) (stored 0%)
  adding: unitTests/bumpsTest2.rda (332 bytes security) (stored 0%)
  adding: unitTests/loessSmoothed.rda (332 bytes security) (stored 0%)
  adding: unitTests/runmedSmoothed.rda (332 bytes security) (stored 0%)
  adding: unitTests/test_bumphunter.R (332 bytes security) (deflated 78%)
  adding: unitTests/test_smoothers.R (332 bytes security) (deflated 76%)