| Starr 1.33.0 Benedikt Zacher
 
 | Snapshot Date: 2017-08-15 17:18:21 -0400 (Tue, 15 Aug 2017) |  | URL: https://hedgehog.fhcrc.org/bioconductor/trunk/madman/Rpacks/Starr |  | Last Changed Rev: 129129 / Revision: 131943 |  | Last Changed Date: 2017-04-24 15:50:57 -0400 (Mon, 24 Apr 2017) | 
 | malbec1 | Linux (Ubuntu 16.04.1 LTS) / x86_64 | OK | OK | OK |  |  | 
| tokay1 | Windows Server 2012 R2 Standard / x64 | [ OK ] | OK | OK | OK |  | 
| veracruz1 | OS X 10.11.6 El Capitan / x86_64 | OK | OK | OK | OK |  | 
##############################################################################
##############################################################################
###
### Running command:
###
###   rm -rf Starr.buildbin-libdir && mkdir Starr.buildbin-libdir  && C:\cygwin\bin\curl.exe -O https://malbec1.bioconductor.org/BBS/3.6/bioc/src/contrib/Starr_1.33.0.tar.gz && C:\Users\biocbuild\bbs-3.6-bioc\R\bin\R.exe CMD INSTALL --build --library=Starr.buildbin-libdir --merge-multiarch Starr_1.33.0.tar.gz && C:\Users\biocbuild\bbs-3.6-bioc\R\bin\R.exe CMD INSTALL Starr_1.33.0.zip  && rm Starr_1.33.0.tar.gz Starr_1.33.0.zip
###
##############################################################################
##############################################################################
  % Total    % Received % Xferd  Average Speed   Time    Time     Time  Current
                                 Dload  Upload   Total   Spent    Left  Speed
  0     0    0     0    0     0      0      0 --:--:-- --:--:-- --:--:--     0
100  699k  100  699k    0     0  8293k      0 --:--:-- --:--:-- --:--:-- 8636k
install for i386
* installing *source* package 'Starr' ...
   **********************************************
   WARNING: this package has a configure script
         It probably needs manual configuration
   **********************************************
** libs
C:/Rtools/mingw_32/bin/gcc  -I"C:/Users/biocbuild/bbs-3.6-bioc/R/library/zlibbioc/include" -I"C:/Users/BIOCBU˜1/BBS-3˜1.6-B/R/include" -DNDEBUG     -I"C:/local323/include"     -O3 -Wall  -std=gnu99 -mtune=core2 -c ahocorasick.c -o ahocorasick.o
C:/Rtools/mingw_32/bin/gcc  -I"C:/Users/biocbuild/bbs-3.6-bioc/R/library/zlibbioc/include" -I"C:/Users/BIOCBU˜1/BBS-3˜1.6-B/R/include" -DNDEBUG     -I"C:/local323/include"     -O3 -Wall  -std=gnu99 -mtune=core2 -c collect.c -o collect.o
C:/Rtools/mingw_32/bin/gcc  -I"C:/Users/biocbuild/bbs-3.6-bioc/R/library/zlibbioc/include" -I"C:/Users/BIOCBU˜1/BBS-3˜1.6-B/R/include" -DNDEBUG     -I"C:/local323/include"     -O3 -Wall  -std=gnu99 -mtune=core2 -c rm_small_peak.c -o rm_small_peak.o
C:/Rtools/mingw_32/bin/gcc  -I"C:/Users/biocbuild/bbs-3.6-bioc/R/library/zlibbioc/include" -I"C:/Users/BIOCBU˜1/BBS-3˜1.6-B/R/include" -DNDEBUG     -I"C:/local323/include"     -O3 -Wall  -std=gnu99 -mtune=core2 -c sort_by_genomic.c -o sort_by_genomic.o
C:/Rtools/mingw_32/bin/gcc -shared -s -static-libgcc -o Starr.dll tmp.def ahocorasick.o collect.o rm_small_peak.o sort_by_genomic.o -LC:/Users/biocbuild/bbs-3.6-bioc/R/library/zlibbioc/libs/i386 -lzlib1bioc -LC:/local323/lib/i386 -LC:/local323/lib -LC:/Users/BIOCBU˜1/BBS-3˜1.6-B/R/bin/i386 -lR
installing to C:/Users/biocbuild/bbs-3.6-bioc/meat/Starr.buildbin-libdir/Starr/libs/i386
** R
** inst
** preparing package for lazy loading
** help
*** installing help indices
** building package indices
** installing vignettes
** testing if installed package can be loaded
install for x64
* installing *source* package 'Starr' ...
   **********************************************
   WARNING: this package has a configure script
         It probably needs manual configuration
   **********************************************
** libs
C:/Rtools/mingw_64/bin/gcc  -I"C:/Users/biocbuild/bbs-3.6-bioc/R/library/zlibbioc/include" -I"C:/Users/BIOCBU˜1/BBS-3˜1.6-B/R/include" -DNDEBUG     -I"C:/local323/include"     -O2 -Wall  -std=gnu99 -mtune=core2 -c ahocorasick.c -o ahocorasick.o
C:/Rtools/mingw_64/bin/gcc  -I"C:/Users/biocbuild/bbs-3.6-bioc/R/library/zlibbioc/include" -I"C:/Users/BIOCBU˜1/BBS-3˜1.6-B/R/include" -DNDEBUG     -I"C:/local323/include"     -O2 -Wall  -std=gnu99 -mtune=core2 -c collect.c -o collect.o
C:/Rtools/mingw_64/bin/gcc  -I"C:/Users/biocbuild/bbs-3.6-bioc/R/library/zlibbioc/include" -I"C:/Users/BIOCBU˜1/BBS-3˜1.6-B/R/include" -DNDEBUG     -I"C:/local323/include"     -O2 -Wall  -std=gnu99 -mtune=core2 -c rm_small_peak.c -o rm_small_peak.o
C:/Rtools/mingw_64/bin/gcc  -I"C:/Users/biocbuild/bbs-3.6-bioc/R/library/zlibbioc/include" -I"C:/Users/BIOCBU˜1/BBS-3˜1.6-B/R/include" -DNDEBUG     -I"C:/local323/include"     -O2 -Wall  -std=gnu99 -mtune=core2 -c sort_by_genomic.c -o sort_by_genomic.o
C:/Rtools/mingw_64/bin/gcc -shared -s -static-libgcc -o Starr.dll tmp.def ahocorasick.o collect.o rm_small_peak.o sort_by_genomic.o -LC:/Users/biocbuild/bbs-3.6-bioc/R/library/zlibbioc/libs/x64 -lzlib1bioc -LC:/local323/lib/x64 -LC:/local323/lib -LC:/Users/BIOCBU˜1/BBS-3˜1.6-B/R/bin/x64 -lR
installing to C:/Users/biocbuild/bbs-3.6-bioc/meat/Starr.buildbin-libdir/Starr/libs/x64
** testing if installed package can be loaded
* MD5 sums
packaged installation of 'Starr' as Starr_1.33.0.zip
* DONE (Starr)
* installing to library 'C:/Users/biocbuild/bbs-3.6-bioc/R/library'
package 'Starr' successfully unpacked and MD5 sums checked