| Genominator 1.31.0 James Bullard
 
 | Snapshot Date: 2017-08-15 17:18:21 -0400 (Tue, 15 Aug 2017) |  | URL: https://hedgehog.fhcrc.org/bioconductor/trunk/madman/Rpacks/Genominator |  | Last Changed Rev: 129129 / Revision: 131943 |  | Last Changed Date: 2017-04-24 15:50:57 -0400 (Mon, 24 Apr 2017) | 
 | malbec1 | Linux (Ubuntu 16.04.1 LTS) / x86_64 | OK | OK | OK |  |  | 
| tokay1 | Windows Server 2012 R2 Standard / x64 | [ OK ] | OK | OK | OK |  | 
| veracruz1 | OS X 10.11.6 El Capitan / x86_64 | OK | OK | OK | OK |  | 
##############################################################################
##############################################################################
###
### Running command:
###
###   rm -rf Genominator.buildbin-libdir && mkdir Genominator.buildbin-libdir  && C:\cygwin\bin\curl.exe -O https://malbec1.bioconductor.org/BBS/3.6/bioc/src/contrib/Genominator_1.31.0.tar.gz && C:\Users\biocbuild\bbs-3.6-bioc\R\bin\R.exe CMD INSTALL --build --library=Genominator.buildbin-libdir --merge-multiarch Genominator_1.31.0.tar.gz && C:\Users\biocbuild\bbs-3.6-bioc\R\bin\R.exe CMD INSTALL Genominator_1.31.0.zip  && rm Genominator_1.31.0.tar.gz Genominator_1.31.0.zip
###
##############################################################################
##############################################################################
  % Total    % Received % Xferd  Average Speed   Time    Time     Time  Current
                                 Dload  Upload   Total   Spent    Left  Speed
  0     0    0     0    0     0      0      0 --:--:-- --:--:-- --:--:--     0
100 1478k  100 1478k    0     0  9580k      0 --:--:-- --:--:-- --:--:-- 9790k
install for i386
* installing *source* package 'Genominator' ...
** R
** data
** inst
** preparing package for lazy loading
** help
*** installing help indices
** building package indices
** installing vignettes
** testing if installed package can be loaded
install for x64
* installing *source* package 'Genominator' ...
** testing if installed package can be loaded
* MD5 sums
packaged installation of 'Genominator' as Genominator_1.31.0.zip
* DONE (Genominator)
* installing to library 'C:/Users/biocbuild/bbs-3.6-bioc/R/library'
package 'Genominator' successfully unpacked and MD5 sums checked