impute 1.50.1 Balasubramanian Narasimhan
 | Snapshot Date: 2017-10-17 17:00:52 -0400 (Tue, 17 Oct 2017) |  | URL: https://git.bioconductor.org/packages/impute |  | Branch: RELEASE_3_5 |  | Last Commit: 31d1cc1 |  | Last Changed Date: 2017-05-05 15:32:27 -0400 (Fri, 05 May 2017) |  
  | malbec2  | Linux (Ubuntu 16.04.1 LTS) / x86_64  |  OK  |  OK  |  OK  |  |   | 
| tokay2  | Windows Server 2012 R2 Standard / x64  |  OK  |  OK  |  OK  | [ OK ] |   | 
| veracruz2  | OS X 10.11.6 El Capitan / x86_64  |  OK  |  OK  |  OK  |  OK  |   | 
##############################################################################
##############################################################################
###
### Running command:
###
###   cd impute.buildbin-libdir/impute && zip -r ../../impute_1.50.1.zip . & cd ../..
###
##############################################################################
##############################################################################
  adding: data/ (304 bytes security) (stored 0%)
  adding: data/khanmiss.rda (264 bytes security) (deflated 0%)
  adding: DESCRIPTION (264 bytes security) (deflated 35%)
  adding: help/ (304 bytes security) (stored 0%)
  adding: help/aliases.rds (264 bytes security) (stored 0%)
  adding: help/AnIndex (264 bytes security) (deflated 29%)
  adding: help/impute.rdb (264 bytes security) (stored 0%)
  adding: help/impute.rdx (264 bytes security) (stored 0%)
  adding: help/paths.rds (264 bytes security) (stored 0%)
  adding: html/ (304 bytes security) (stored 0%)
  adding: html/00Index.html (264 bytes security) (deflated 52%)
  adding: html/R.css (264 bytes security) (deflated 75%)
  adding: INDEX (264 bytes security) (deflated 33%)
  adding: libs/ (304 bytes security) (stored 0%)
  adding: libs/i386/ (304 bytes security) (stored 0%)
  adding: libs/i386/impute.dll (264 bytes security) (deflated 58%)
  adding: libs/x64/ (304 bytes security) (stored 0%)
  adding: libs/x64/impute.dll (264 bytes security) (deflated 60%)
  adding: MD5 (264 bytes security) (deflated 42%)
  adding: Meta/ (304 bytes security) (stored 0%)
  adding: Meta/data.rds (264 bytes security) (stored 0%)
  adding: Meta/features.rds (264 bytes security) (stored 0%)
  adding: Meta/hsearch.rds (264 bytes security) (stored 0%)
  adding: Meta/links.rds (264 bytes security) (stored 0%)
  adding: Meta/nsInfo.rds (264 bytes security) (stored 0%)
  adding: Meta/package.rds (264 bytes security) (stored 0%)
  adding: Meta/Rd.rds (264 bytes security) (stored 0%)
  adding: NAMESPACE (264 bytes security) (deflated 11%)
  adding: R/ (304 bytes security) (stored 0%)
  adding: R/impute (264 bytes security) (deflated 41%)
  adding: R/impute.rdb (264 bytes security) (deflated 3%)
  adding: R/impute.rdx (264 bytes security) (stored 0%)