| affycomp 1.52.0 Rafael A. Irizarry
 
 | Snapshot Date: 2017-10-17 17:00:52 -0400 (Tue, 17 Oct 2017) |  | URL: https://git.bioconductor.org/packages/affycomp |  | Branch: RELEASE_3_5 |  | Last Commit: 1b97a1c |  | Last Changed Date: 2017-04-24 15:45:44 -0400 (Mon, 24 Apr 2017) | 
 | malbec2 | Linux (Ubuntu 16.04.1 LTS) / x86_64 | OK | OK | OK |  |  | 
| tokay2 | Windows Server 2012 R2 Standard / x64 | OK | OK | OK | [ OK ] |  | 
| veracruz2 | OS X 10.11.6 El Capitan / x86_64 | OK | OK | OK | OK |  | 
##############################################################################
##############################################################################
###
### Running command:
###
###   cd affycomp.buildbin-libdir/affycomp && zip -r ../../affycomp_1.52.0.zip . & cd ../..
###
##############################################################################
##############################################################################
  adding: data/ (304 bytes security) (stored 0%)
  adding: data/datalist (264 bytes security) (deflated 40%)
  adding: data/dilution.phenodata.rda (264 bytes security) (stored 0%)
  adding: data/hgu133a.spikein.phenodata.rda (264 bytes security) (stored 0%)
  adding: data/hgu133a.spikein.xhyb.rda (264 bytes security) (stored 0%)
  adding: data/mas5.assessment.rda (264 bytes security) (deflated 1%)
  adding: data/spikein.phenodata.rda (264 bytes security) (stored 0%)
  adding: DESCRIPTION (264 bytes security) (deflated 38%)
  adding: doc/ (304 bytes security) (stored 0%)
  adding: doc/affycomp.pdf (264 bytes security) (deflated 6%)
  adding: doc/affycomp.R (264 bytes security) (deflated 87%)
  adding: doc/affycomp.Rnw (264 bytes security) (deflated 71%)
  adding: doc/index.html (264 bytes security) (deflated 58%)
  adding: help/ (304 bytes security) (stored 0%)
  adding: help/affycomp.rdb (264 bytes security) (deflated 1%)
  adding: help/affycomp.rdx (264 bytes security) (stored 0%)
  adding: help/aliases.rds (264 bytes security) (stored 0%)
  adding: help/AnIndex (264 bytes security) (deflated 84%)
  adding: help/paths.rds (264 bytes security) (stored 0%)
  adding: html/ (304 bytes security) (stored 0%)
  adding: html/00Index.html (264 bytes security) (deflated 88%)
  adding: html/R.css (264 bytes security) (deflated 75%)
  adding: INDEX (264 bytes security) (deflated 68%)
  adding: MD5 (264 bytes security) (deflated 46%)
  adding: Meta/ (304 bytes security) (stored 0%)
  adding: Meta/data.rds (264 bytes security) (stored 0%)
  adding: Meta/features.rds (264 bytes security) (stored 0%)
  adding: Meta/hsearch.rds (264 bytes security) (stored 0%)
  adding: Meta/links.rds (264 bytes security) (stored 0%)
  adding: Meta/nsInfo.rds (264 bytes security) (stored 0%)
  adding: Meta/package.rds (264 bytes security) (stored 0%)
  adding: Meta/Rd.rds (264 bytes security) (stored 0%)
  adding: Meta/vignette.rds (264 bytes security) (stored 0%)
  adding: NAMESPACE (264 bytes security) (deflated 73%)
  adding: R/ (304 bytes security) (stored 0%)
  adding: R/affycomp (264 bytes security) (deflated 41%)
  adding: R/affycomp.rdb (264 bytes security) (deflated 3%)
  adding: R/affycomp.rdx (264 bytes security) (stored 0%)
  adding: Rnw/ (304 bytes security) (stored 0%)
  adding: Rnw/comparison.Rnw (264 bytes security) (deflated 72%)
  adding: Rnw/complete-assessment.Rnw (264 bytes security) (deflated 71%)
  adding: Rnw/dilution-assessment.Rnw (264 bytes security) (deflated 54%)
  adding: Rnw/Fig5cde.133.Rnw (264 bytes security) (deflated 69%)
  adding: Rnw/Fig5cde.Rnw (264 bytes security) (deflated 69%)
  adding: Rnw/simple.Rnw (264 bytes security) (deflated 64%)
  adding: Rnw/spike-in-133-assessment.Rnw (264 bytes security) (deflated 70%)
  adding: Rnw/spike-in-assessment.Rnw (264 bytes security) (deflated 69%)