| Back to the "Multiple platform build/check report" | A B C D E F G H I J K L M N O P Q R [S] T U V W X Y Z |
This page was generated on 2017-04-23 14:41:24 -0400 (Sun, 23 Apr 2017).
| Package 1249/1377 | Hostname | OS / Arch | INSTALL | BUILD | CHECK | BUILD BIN | |||||
| SpidermiR 1.5.8 Claudia Cava
| malbec2 | Linux (Ubuntu 16.04.1 LTS) / x86_64 | OK | OK | OK | ||||||
| tokay2 | Windows Server 2012 R2 Standard / x64 | OK | OK | OK | OK | ||||||
| toluca2 | Mac OS X Mavericks (10.9.5) / x86_64 | OK | OK | [ OK ] | OK | ||||||
| veracruz2 | OS X 10.11.6 El Capitan / x86_64 | OK | OK | OK | OK |
| Package: SpidermiR |
| Version: 1.5.8 |
| Command: /Library/Frameworks/R.framework/Versions/Current/Resources/bin/R CMD check --no-vignettes --timings SpidermiR_1.5.8.tar.gz |
| StartedAt: 2017-04-23 10:15:23 -0400 (Sun, 23 Apr 2017) |
| EndedAt: 2017-04-23 10:23:13 -0400 (Sun, 23 Apr 2017) |
| EllapsedTime: 470.1 seconds |
| RetCode: 0 |
| Status: OK |
| CheckDir: SpidermiR.Rcheck |
| Warnings: 0 |
##############################################################################
##############################################################################
###
### Running command:
###
### /Library/Frameworks/R.framework/Versions/Current/Resources/bin/R CMD check --no-vignettes --timings SpidermiR_1.5.8.tar.gz
###
##############################################################################
##############################################################################
* using log directory ‘/Users/biocbuild/bbs-3.5-bioc/meat/SpidermiR.Rcheck’
* using R Under development (unstable) (2017-02-15 r72187)
* using platform: x86_64-apple-darwin13.4.0 (64-bit)
* using session charset: UTF-8
* using option ‘--no-vignettes’
* checking for file ‘SpidermiR/DESCRIPTION’ ... OK
* checking extension type ... Package
* this is package ‘SpidermiR’ version ‘1.5.8’
* checking package namespace information ... OK
* checking package dependencies ... OK
* checking if this is a source package ... OK
* checking if there is a namespace ... OK
* checking for hidden files and directories ... OK
* checking for portable file names ... OK
* checking for sufficient/correct file permissions ... OK
* checking whether package ‘SpidermiR’ can be installed ... OK
* checking installed package size ... OK
* checking package directory ... OK
* checking ‘build’ directory ... OK
* checking DESCRIPTION meta-information ... OK
* checking top-level files ... OK
* checking for left-over files ... OK
* checking index information ... OK
* checking package subdirectories ... OK
* checking R files for non-ASCII characters ... OK
* checking R files for syntax errors ... OK
* checking whether the package can be loaded ... OK
* checking whether the package can be loaded with stated dependencies ... OK
* checking whether the package can be unloaded cleanly ... OK
* checking whether the namespace can be loaded with stated dependencies ... OK
* checking whether the namespace can be unloaded cleanly ... OK
* checking dependencies in R code ... OK
* checking S3 generic/method consistency ... OK
* checking replacement functions ... OK
* checking foreign function calls ... OK
* checking R code for possible problems ... NOTE
.SpidermiRvisualize_gene: possible error in simpleNetwork(NetworkData,
linkColour = "gray", textColour = "black", zoom = TRUE): unused
argument (textColour = "black")
SpidermiRvisualize_plot_target: no visible binding for global variable
‘miRNAs’
SpidermiRvisualize_plot_target: no visible binding for global variable
‘mRNA_target’
Undefined global functions or variables:
mRNA_target miRNAs
* checking Rd files ... OK
* checking Rd metadata ... OK
* checking Rd cross-references ... OK
* checking for missing documentation entries ... OK
* checking for code/documentation mismatches ... OK
* checking Rd \usage sections ... OK
* checking Rd contents ... OK
* checking for unstated dependencies in examples ... OK
* checking contents of ‘data’ directory ... OK
* checking data for non-ASCII characters ... OK
* checking data for ASCII and uncompressed saves ... OK
* checking sizes of PDF files under ‘inst/doc’ ... OK
* checking installed files from ‘inst/doc’ ... OK
* checking files in ‘vignettes’ ... OK
* checking examples ... OK
Examples with CPU or elapsed time > 5s
user system elapsed
SpidermiRdownload_miRNAprediction 10.232 0.734 11.908
SpidermiRanalyze_mirna_gene_complnet 3.599 0.205 5.530
* checking for unstated dependencies in ‘tests’ ... OK
* checking tests ...
Running ‘testthat.R’
OK
* checking for unstated dependencies in vignettes ... OK
* checking package vignettes in ‘inst/doc’ ... OK
* checking running R code from vignettes ... SKIPPED
* checking re-building of vignette outputs ... SKIPPED
* checking PDF version of manual ... OK
* DONE
Status: 1 NOTE
See
‘/Users/biocbuild/bbs-3.5-bioc/meat/SpidermiR.Rcheck/00check.log’
for details.
SpidermiR.Rcheck/00install.out:
* installing *source* package ‘SpidermiR’ ... ** R ** data *** moving datasets to lazyload DB ** inst ** preparing package for lazy loading ** help *** installing help indices ** building package indices ** installing vignettes ** testing if installed package can be loaded * DONE (SpidermiR)
SpidermiR.Rcheck/SpidermiR-Ex.timings:
| name | user | system | elapsed | |
| Case_Study1_loading_1_network | 0.000 | 0.001 | 0.001 | |
| Case_Study1_loading_2_network | 0.000 | 0.000 | 0.001 | |
| Case_Study1_loading_3_network | 0.000 | 0.000 | 0.001 | |
| Case_Study1_loading_4_network | 0 | 0 | 0 | |
| Case_Study2_loading_1_network | 0.001 | 0.001 | 0.000 | |
| Case_Study2_loading_2_network | 0.001 | 0.000 | 0.000 | |
| Case_Study2_loading_3_network | 0.001 | 0.000 | 0.001 | |
| SpidermiRanalyze_Community_detection | 0.673 | 0.002 | 0.785 | |
| SpidermiRanalyze_Community_detection_bi | 0.494 | 0.011 | 0.569 | |
| SpidermiRanalyze_Community_detection_net | 0.015 | 0.002 | 0.020 | |
| SpidermiRanalyze_DEnetworkTCGA | 2.983 | 0.101 | 3.253 | |
| SpidermiRanalyze_degree_centrality | 0.003 | 0.000 | 0.003 | |
| SpidermiRanalyze_direct_net | 0.049 | 0.000 | 0.049 | |
| SpidermiRanalyze_direct_subnetwork | 0.060 | 0.001 | 0.061 | |
| SpidermiRanalyze_mirna_gene_complnet | 3.599 | 0.205 | 5.530 | |
| SpidermiRanalyze_mirna_network | 2.963 | 0.190 | 4.731 | |
| SpidermiRanalyze_mirnanet_pharm | 0.000 | 0.000 | 0.001 | |
| SpidermiRanalyze_subnetwork_neigh | 0.008 | 0.000 | 0.012 | |
| SpidermiRdownload_miRNAextra_cir | 0.069 | 0.006 | 1.800 | |
| SpidermiRdownload_miRNAprediction | 10.232 | 0.734 | 11.908 | |
| SpidermiRdownload_miRNAvalidate | 2.508 | 0.197 | 3.929 | |
| SpidermiRdownload_net | 2.317 | 0.023 | 3.642 | |
| SpidermiRdownload_pharmacomir | 0 | 0 | 0 | |
| SpidermiRprepare_NET | 1.340 | 0.059 | 2.638 | |
| SpidermiRquery_disease | 0.028 | 0.003 | 0.369 | |
| SpidermiRquery_networks_type | 0.016 | 0.001 | 0.432 | |
| SpidermiRquery_spec_networks | 0.061 | 0.001 | 0.514 | |
| SpidermiRquery_species | 0.011 | 0.000 | 0.338 | |
| SpidermiRvisualize_3Dbarplot | 1.195 | 0.005 | 1.355 | |
| SpidermiRvisualize_BI | 0.388 | 0.019 | 0.453 | |
| SpidermiRvisualize_adj_matrix | 0.087 | 0.002 | 0.107 | |
| SpidermiRvisualize_degree_dist | 0.015 | 0.001 | 0.017 | |
| SpidermiRvisualize_direction | 0.260 | 0.011 | 0.309 | |
| SpidermiRvisualize_mirnanet | 0.085 | 0.004 | 0.100 | |
| SpidermiRvisualize_plot_target | 1.270 | 0.004 | 1.443 | |