zlibbioc 1.22.0 Bioconductor Package Maintainer
 | Snapshot Date: 2017-08-15 17:17:57 -0400 (Tue, 15 Aug 2017) |  | URL: https://hedgehog.fhcrc.org/bioconductor/branches/RELEASE_3_5/madman/Rpacks/zlibbioc |  | Last Changed Rev: 129126 / Revision: 131943 |  | Last Changed Date: 2017-04-24 15:25:24 -0400 (Mon, 24 Apr 2017) |  
  | malbec2  | Linux (Ubuntu 16.04.1 LTS) / x86_64  |  OK  |  OK  |  OK  |  |   | 
| tokay2  | Windows Server 2012 R2 Standard / x64  | [ OK ] |  OK  |  OK  |  OK  |   | 
| veracruz2  | OS X 10.11.6 El Capitan / x86_64  |  OK  |  OK  |  OK  |  OK  |   | 
##############################################################################
##############################################################################
###
### Running command:
###
###   rm -rf zlibbioc.buildbin-libdir && mkdir zlibbioc.buildbin-libdir  && C:\cygwin\bin\curl.exe -O http://172.29.0.4/BBS/3.5/bioc/src/contrib/zlibbioc_1.22.0.tar.gz && C:\Users\biocbuild\bbs-3.5-bioc\R\bin\R.exe CMD INSTALL --build --library=zlibbioc.buildbin-libdir --merge-multiarch zlibbioc_1.22.0.tar.gz && C:\Users\biocbuild\bbs-3.5-bioc\R\bin\R.exe CMD INSTALL zlibbioc_1.22.0.zip  && rm zlibbioc_1.22.0.tar.gz zlibbioc_1.22.0.zip
###
##############################################################################
##############################################################################
  % Total    % Received % Xferd  Average Speed   Time    Time     Time  Current
                                 Dload  Upload   Total   Spent    Left  Speed
  0     0    0     0    0     0      0      0 --:--:-- --:--:-- --:--:--     0
100  160k  100  160k    0     0   886k      0 --:--:-- --:--:-- --:--:--  896k
install for i386
* installing *source* package 'zlibbioc' ...
   **********************************************
   WARNING: this package has a configure script
         It probably needs manual configuration
   **********************************************
** libs
mkdir -p "C:/Users/biocbuild/bbs-3.5-bioc/meat/zlibbioc.buildbin-libdir/zlibbioc/include" "C:/Users/biocbuild/bbs-3.5-bioc/meat/zlibbioc.buildbin-libdir/zlibbioc/libs/i386"
make -C zlib-1.2.5 -fwin32/Makefile.gcc libzbioc.a zlib1bioc.dll
make[1]: Entering directory `/cygdrive/c/Users/biocbuild/bbs-3.5-bioc/tmpdir/RtmpAH5o1y/R.INSTALL101c78ad6f18/zlibbioc/src/zlib-1.2.5'
C:/Rtools/mingw_32/bin/gcc -m32  -O3 -Wall -DNO_VIZ -DZ_PREFIX -c -o adler32.o adler32.c
C:/Rtools/mingw_32/bin/gcc -m32  -O3 -Wall -DNO_VIZ -DZ_PREFIX -c -o compress.o compress.c
C:/Rtools/mingw_32/bin/gcc -m32  -O3 -Wall -DNO_VIZ -DZ_PREFIX -c -o crc32.o crc32.c
C:/Rtools/mingw_32/bin/gcc -m32  -O3 -Wall -DNO_VIZ -DZ_PREFIX -c -o deflate.o deflate.c
C:/Rtools/mingw_32/bin/gcc -m32  -O3 -Wall -DNO_VIZ -DZ_PREFIX -c -o gzclose.o gzclose.c
C:/Rtools/mingw_32/bin/gcc -m32  -O3 -Wall -DNO_VIZ -DZ_PREFIX -c -o gzlib.o gzlib.c
C:/Rtools/mingw_32/bin/gcc -m32  -O3 -Wall -DNO_VIZ -DZ_PREFIX -c -o gzread.o gzread.c
C:/Rtools/mingw_32/bin/gcc -m32  -O3 -Wall -DNO_VIZ -DZ_PREFIX -c -o gzwrite.o gzwrite.c
C:/Rtools/mingw_32/bin/gcc -m32  -O3 -Wall -DNO_VIZ -DZ_PREFIX -c -o infback.o infback.c
C:/Rtools/mingw_32/bin/gcc -m32  -O3 -Wall -DNO_VIZ -DZ_PREFIX -c -o inffast.o inffast.c
C:/Rtools/mingw_32/bin/gcc -m32  -O3 -Wall -DNO_VIZ -DZ_PREFIX -c -o inflate.o inflate.c
C:/Rtools/mingw_32/bin/gcc -m32  -O3 -Wall -DNO_VIZ -DZ_PREFIX -c -o inftrees.o inftrees.c
C:/Rtools/mingw_32/bin/gcc -m32  -O3 -Wall -DNO_VIZ -DZ_PREFIX -c -o trees.o trees.c
C:/Rtools/mingw_32/bin/gcc -m32  -O3 -Wall -DNO_VIZ -DZ_PREFIX -c -o uncompr.o uncompr.c
C:/Rtools/mingw_32/bin/gcc -m32  -O3 -Wall -DNO_VIZ -DZ_PREFIX -c -o zutil.o zutil.c
C:/Rtools/mingw_32/bin/ar rcs libzbioc.a adler32.o compress.o crc32.o deflate.o gzclose.o gzlib.o gzread.o gzwrite.o infback.o inffast.o inflate.o inftrees.o trees.o uncompr.o zutil.o 
C:/Rtools/mingw_32/bin/windres --define GCC_WINDRES --target=pe-i386 -o zlibrc.o win32/zlib1.rc
C:/Rtools/mingw_32/bin/gcc -m32 -shared -Wl,--out-implib,libzbiocdll.a  \
-o zlib1bioc.dll win32/zlib.def adler32.o compress.o crc32.o deflate.o gzclose.o gzlib.o gzread.o gzwrite.o infback.o inffast.o inflate.o inftrees.o trees.o uncompr.o zutil.o  zlibrc.o
C:/Rtools/mingw_32/bin/strip zlib1bioc.dll
make[1]: Leaving directory `/cygdrive/c/Users/biocbuild/bbs-3.5-bioc/tmpdir/RtmpAH5o1y/R.INSTALL101c78ad6f18/zlibbioc/src/zlib-1.2.5'
cp zlib-1.2.5/libzbioc.a zlib-1.2.5/zlib1bioc.dll \
            "C:/Users/biocbuild/bbs-3.5-bioc/meat/zlibbioc.buildbin-libdir/zlibbioc/libs/i386"
cp zlib-1.2.5/zconf.h zlib-1.2.5/zlib.h "C:/Users/biocbuild/bbs-3.5-bioc/meat/zlibbioc.buildbin-libdir/zlibbioc/include"
C:/Rtools/mingw_32/bin/gcc  -I"C:/Users/BIOCBU˜1/BBS-3˜1.5-B/R/include" -DNDEBUG     -I"C:/local323/include"     -O3 -Wall  -std=gnu99 -mtune=core2 -c R_init_zlibbioc.c -o R_init_zlibbioc.o
C:/Rtools/mingw_32/bin/gcc -shared -s -static-libgcc -o zlibbioc.dll tmp.def R_init_zlibbioc.o -LC:/local323/lib/i386 -LC:/local323/lib -LC:/Users/BIOCBU˜1/BBS-3˜1.5-B/R/bin/i386 -lR
installing to C:/Users/biocbuild/bbs-3.5-bioc/meat/zlibbioc.buildbin-libdir/zlibbioc/libs/i386
** R
** preparing package for lazy loading
** help
*** installing help indices
** building package indices
** installing vignettes
** testing if installed package can be loaded
install for x64
* installing *source* package 'zlibbioc' ...
   **********************************************
   WARNING: this package has a configure script
         It probably needs manual configuration
   **********************************************
** libs
mkdir -p "C:/Users/biocbuild/bbs-3.5-bioc/meat/zlibbioc.buildbin-libdir/zlibbioc/include" "C:/Users/biocbuild/bbs-3.5-bioc/meat/zlibbioc.buildbin-libdir/zlibbioc/libs/x64"
make -C zlib-1.2.5 -fwin32/Makefile.gcc libzbioc.a zlib1bioc.dll
make[1]: Entering directory `/cygdrive/c/Users/biocbuild/bbs-3.5-bioc/tmpdir/Rtmpo9RAhy/R.INSTALL17e065122dfc/zlibbioc/src/zlib-1.2.5'
C:/Rtools/mingw_64/bin/gcc -m64  -O3 -Wall -DNO_VIZ -DZ_PREFIX -c -o adler32.o adler32.c
C:/Rtools/mingw_64/bin/gcc -m64  -O3 -Wall -DNO_VIZ -DZ_PREFIX -c -o compress.o compress.c
C:/Rtools/mingw_64/bin/gcc -m64  -O3 -Wall -DNO_VIZ -DZ_PREFIX -c -o crc32.o crc32.c
C:/Rtools/mingw_64/bin/gcc -m64  -O3 -Wall -DNO_VIZ -DZ_PREFIX -c -o deflate.o deflate.c
C:/Rtools/mingw_64/bin/gcc -m64  -O3 -Wall -DNO_VIZ -DZ_PREFIX -c -o gzclose.o gzclose.c
C:/Rtools/mingw_64/bin/gcc -m64  -O3 -Wall -DNO_VIZ -DZ_PREFIX -c -o gzlib.o gzlib.c
C:/Rtools/mingw_64/bin/gcc -m64  -O3 -Wall -DNO_VIZ -DZ_PREFIX -c -o gzread.o gzread.c
C:/Rtools/mingw_64/bin/gcc -m64  -O3 -Wall -DNO_VIZ -DZ_PREFIX -c -o gzwrite.o gzwrite.c
C:/Rtools/mingw_64/bin/gcc -m64  -O3 -Wall -DNO_VIZ -DZ_PREFIX -c -o infback.o infback.c
C:/Rtools/mingw_64/bin/gcc -m64  -O3 -Wall -DNO_VIZ -DZ_PREFIX -c -o inffast.o inffast.c
C:/Rtools/mingw_64/bin/gcc -m64  -O3 -Wall -DNO_VIZ -DZ_PREFIX -c -o inflate.o inflate.c
C:/Rtools/mingw_64/bin/gcc -m64  -O3 -Wall -DNO_VIZ -DZ_PREFIX -c -o inftrees.o inftrees.c
C:/Rtools/mingw_64/bin/gcc -m64  -O3 -Wall -DNO_VIZ -DZ_PREFIX -c -o trees.o trees.c
C:/Rtools/mingw_64/bin/gcc -m64  -O3 -Wall -DNO_VIZ -DZ_PREFIX -c -o uncompr.o uncompr.c
C:/Rtools/mingw_64/bin/gcc -m64  -O3 -Wall -DNO_VIZ -DZ_PREFIX -c -o zutil.o zutil.c
C:/Rtools/mingw_64/bin/ar rcs libzbioc.a adler32.o compress.o crc32.o deflate.o gzclose.o gzlib.o gzread.o gzwrite.o infback.o inffast.o inflate.o inftrees.o trees.o uncompr.o zutil.o 
C:/Rtools/mingw_64/bin/windres --define GCC_WINDRES --target=pe-x86-64 -o zlibrc.o win32/zlib1.rc
C:/Rtools/mingw_64/bin/gcc -m64 -shared -Wl,--out-implib,libzbiocdll.a  \
-o zlib1bioc.dll win32/zlib.def adler32.o compress.o crc32.o deflate.o gzclose.o gzlib.o gzread.o gzwrite.o infback.o inffast.o inflate.o inftrees.o trees.o uncompr.o zutil.o  zlibrc.o
C:/Rtools/mingw_64/bin/strip zlib1bioc.dll
make[1]: Leaving directory `/cygdrive/c/Users/biocbuild/bbs-3.5-bioc/tmpdir/Rtmpo9RAhy/R.INSTALL17e065122dfc/zlibbioc/src/zlib-1.2.5'
cp zlib-1.2.5/libzbioc.a zlib-1.2.5/zlib1bioc.dll \
            "C:/Users/biocbuild/bbs-3.5-bioc/meat/zlibbioc.buildbin-libdir/zlibbioc/libs/x64"
cp zlib-1.2.5/zconf.h zlib-1.2.5/zlib.h "C:/Users/biocbuild/bbs-3.5-bioc/meat/zlibbioc.buildbin-libdir/zlibbioc/include"
C:/Rtools/mingw_64/bin/gcc  -I"C:/Users/BIOCBU˜1/BBS-3˜1.5-B/R/include" -DNDEBUG     -I"C:/local323/include"     -O2 -Wall  -std=gnu99 -mtune=core2 -c R_init_zlibbioc.c -o R_init_zlibbioc.o
C:/Rtools/mingw_64/bin/gcc -shared -s -static-libgcc -o zlibbioc.dll tmp.def R_init_zlibbioc.o -LC:/local323/lib/x64 -LC:/local323/lib -LC:/Users/BIOCBU˜1/BBS-3˜1.5-B/R/bin/x64 -lR
installing to C:/Users/biocbuild/bbs-3.5-bioc/meat/zlibbioc.buildbin-libdir/zlibbioc/libs/x64
** testing if installed package can be loaded
* MD5 sums
packaged installation of 'zlibbioc' as zlibbioc_1.22.0.zip
* DONE (zlibbioc)
* installing to library 'C:/Users/biocbuild/bbs-3.5-bioc/R/library'
package 'zlibbioc' successfully unpacked and MD5 sums checked