xcms 1.52.0 Steffen Neumann
 | Snapshot Date: 2017-08-15 17:17:57 -0400 (Tue, 15 Aug 2017) |  | URL: https://hedgehog.fhcrc.org/bioconductor/branches/RELEASE_3_5/madman/Rpacks/xcms |  | Last Changed Rev: 129126 / Revision: 131943 |  | Last Changed Date: 2017-04-24 15:25:24 -0400 (Mon, 24 Apr 2017) |  
  | malbec2  | Linux (Ubuntu 16.04.1 LTS) / x86_64  |  OK  |  OK  |  OK  |  |   | 
| tokay2  | Windows Server 2012 R2 Standard / x64  |  OK  |  OK  |  OK  | [ OK ] |   | 
| veracruz2  | OS X 10.11.6 El Capitan / x86_64  |  OK  |  OK  |  OK  |  OK  |   | 
##############################################################################
##############################################################################
###
### Running command:
###
###   cd xcms.buildbin-libdir/xcms && zip -r ../../xcms_1.52.0.zip . & cd ../..
###
##############################################################################
##############################################################################
  adding: CHANGELOG (264 bytes security) (deflated 60%)
  adding: CITATION (264 bytes security) (deflated 61%)
  adding: DESCRIPTION (264 bytes security) (deflated 55%)
  adding: doc/ (304 bytes security) (stored 0%)
  adding: doc/index.html (264 bytes security) (deflated 76%)
  adding: doc/new_functionality.html (264 bytes security) (deflated 61%)
  adding: doc/new_functionality.R (264 bytes security) (deflated 73%)
  adding: doc/new_functionality.Rmd (264 bytes security) (deflated 69%)
  adding: doc/xcmsDirect.pdf (264 bytes security) (deflated 9%)
  adding: doc/xcmsDirect.R (264 bytes security) (deflated 70%)
  adding: doc/xcmsDirect.Rnw (264 bytes security) (deflated 56%)
  adding: doc/xcmsInstall.pdf (264 bytes security) (deflated 9%)
  adding: doc/xcmsInstall.Rnw (264 bytes security) (deflated 61%)
  adding: doc/xcmsMSn.pdf (264 bytes security) (deflated 7%)
  adding: doc/xcmsMSn.R (264 bytes security) (deflated 76%)
  adding: doc/xcmsMSn.Rnw (264 bytes security) (deflated 52%)
  adding: doc/xcmsPreprocess.pdf (264 bytes security) (deflated 11%)
  adding: doc/xcmsPreprocess.R (264 bytes security) (deflated 79%)
  adding: doc/xcmsPreprocess.Rnw (264 bytes security) (deflated 63%)
  adding: help/ (304 bytes security) (stored 0%)
  adding: help/aliases.rds (264 bytes security) (stored 0%)
  adding: help/AnIndex (264 bytes security) (deflated 87%)
  adding: help/paths.rds (264 bytes security) (stored 0%)
  adding: help/xcms.rdb (264 bytes security) (deflated 1%)
  adding: help/xcms.rdx (264 bytes security) (deflated 0%)
  adding: html/ (304 bytes security) (stored 0%)
  adding: html/00Index.html (264 bytes security) (deflated 93%)
  adding: html/R.css (264 bytes security) (deflated 75%)
  adding: INDEX (264 bytes security) (deflated 74%)
  adding: libs/ (304 bytes security) (stored 0%)
  adding: libs/i386/ (304 bytes security) (stored 0%)
  adding: libs/i386/xcms.dll (264 bytes security) (deflated 64%)
  adding: libs/x64/ (304 bytes security) (stored 0%)
  adding: libs/x64/xcms.dll (264 bytes security) (deflated 65%)
  adding: LICENSE (264 bytes security) (deflated 62%)
  adding: MD5 (264 bytes security) (deflated 50%)
  adding: Meta/ (304 bytes security) (stored 0%)
  adding: Meta/features.rds (264 bytes security) (stored 0%)
  adding: Meta/hsearch.rds (264 bytes security) (deflated 1%)
  adding: Meta/links.rds (264 bytes security) (stored 0%)
  adding: Meta/nsInfo.rds (264 bytes security) (stored 0%)
  adding: Meta/package.rds (264 bytes security) (stored 0%)
  adding: Meta/Rd.rds (264 bytes security) (stored 0%)
  adding: Meta/vignette.rds (264 bytes security) (stored 0%)
  adding: NAMESPACE (264 bytes security) (deflated 72%)
  adding: NEWS (264 bytes security) (deflated 67%)
  adding: R/ (304 bytes security) (stored 0%)
  adding: R/xcms (264 bytes security) (deflated 41%)
  adding: R/xcms.rdb (264 bytes security) (deflated 35%)
  adding: R/xcms.rdx (264 bytes security) (deflated 7%)
  adding: unitTests/ (304 bytes security) (stored 0%)
  adding: unitTests/Makefile (264 bytes security) (deflated 27%)
  adding: unitTests/mzQuantML_1_0_0.xsd (264 bytes security) (deflated 87%)
  adding: unitTests/report.html (264 bytes security) (deflated 90%)
  adding: unitTests/report.txt (264 bytes security) (deflated 84%)
  adding: unitTests/reportSummary.txt (264 bytes security) (deflated 42%)
  adding: unitTests/runit.absentPresent.R (264 bytes security) (deflated 85%)
  adding: unitTests/runit.binning.R (264 bytes security) (deflated 83%)
  adding: unitTests/runit.BiocParallel.R (264 bytes security) (deflated 56%)
  adding: unitTests/runit.Chromatogram.R (264 bytes security) (deflated 81%)
  adding: unitTests/runit.createProfileMatrix.R (264 bytes security) (deflated 80%)
  adding: unitTests/runit.diffreport.R (264 bytes security) (deflated 60%)
  adding: unitTests/runit.do_adjustRtime.R (264 bytes security) (deflated 81%)
  adding: unitTests/runit.do_findChromPeaks_centWave.R (264 bytes security) (deflated 84%)
  adding: unitTests/runit.do_findChromPeaks_centWave_isotopes.R (264 bytes security) (deflated 79%)
  adding: unitTests/runit.do_findChromPeaks_massifquant.R (264 bytes security) (deflated 89%)
  adding: unitTests/runit.do_findChromPeaks_matchedFilter.R (264 bytes security) (deflated 85%)
  adding: unitTests/runit.do_findChromPeaks_MSW.R (264 bytes security) (deflated 74%)
  adding: unitTests/runit.do_groupChromPeaks.R (264 bytes security) (deflated 83%)
  adding: unitTests/runit.fillChromPeaks.R (264 bytes security) (deflated 83%)
  adding: unitTests/runit.fillPeaks.R (264 bytes security) (deflated 76%)
  adding: unitTests/runit.findPeaksCentWave.fitGauss.plot.R (264 bytes security) (deflated 31%)
  adding: unitTests/runit.findPeaksCentWave.R (264 bytes security) (deflated 40%)
  adding: unitTests/runit.findPeaksCentWaveWithIsotopeROIs.R (264 bytes security) (deflated 55%)
  adding: unitTests/runit.findPeaksMassIfQuant.R (264 bytes security) (deflated 23%)
  adding: unitTests/runit.getEIC.R (264 bytes security) (deflated 78%)
  adding: unitTests/runit.getXcmsRaw.R (264 bytes security) (deflated 64%)
  adding: unitTests/runit.group.R (264 bytes security) (deflated 54%)
  adding: unitTests/runit.msms.R (264 bytes security) (deflated 64%)
  adding: unitTests/runit.new_read_data.R (264 bytes security) (deflated 71%)
  adding: unitTests/runit.new_scanrange_subsetting.R (264 bytes security) (deflated 73%)
  adding: unitTests/runit.obiwarp.R (264 bytes security) (deflated 78%)
  adding: unitTests/runit.Param-classes.R (264 bytes security) (deflated 85%)
  adding: unitTests/runit.phenoData.R (264 bytes security) (deflated 63%)
  adding: unitTests/runit.processHistory.R (264 bytes security) (deflated 72%)
  adding: unitTests/runit.profStepPad.R (264 bytes security) (deflated 56%)
  adding: unitTests/runit.ramp.R (264 bytes security) (deflated 46%)
  adding: unitTests/runit.rawMat.R (264 bytes security) (deflated 67%)
  adding: unitTests/runit.sampclass.R (264 bytes security) (deflated 63%)
  adding: unitTests/runit.scanrage.R (264 bytes security) (deflated 79%)
  adding: unitTests/runit.snames.R (264 bytes security) (deflated 55%)
  adding: unitTests/runit.specDist.R (264 bytes security) (deflated 61%)
  adding: unitTests/runit.splitCombine.R (264 bytes security) (deflated 75%)
  adding: unitTests/runit.splitRaw.R (264 bytes security) (deflated 73%)
  adding: unitTests/runit.stopOnError.R (264 bytes security) (deflated 54%)
  adding: unitTests/runit.subset_extraction.R (264 bytes security) (deflated 80%)
  adding: unitTests/runit.unusedGroups.R (264 bytes security) (deflated 42%)
  adding: unitTests/runit.updateObject.R (264 bytes security) (deflated 42%)
  adding: unitTests/runit.useOriginalCode.R (264 bytes security) (deflated 69%)
  adding: unitTests/runit.writecdf.R (264 bytes security) (deflated 43%)
  adding: unitTests/runit.writemzdata.R (264 bytes security) (deflated 77%)
  adding: unitTests/runit.writemzquantml.R (264 bytes security) (deflated 31%)
  adding: unitTests/runit.XCMSnExp.R (264 bytes security) (deflated 84%)
  adding: unitTests/runit.xcmsRawCopy.R (264 bytes security) (deflated 43%)
  adding: unitTests/runit.xcmsSet.R (264 bytes security) (deflated 80%)