vsn 3.43.9 Wolfgang Huber
 | Snapshot Date: 2017-03-03 17:15:47 -0500 (Fri, 03 Mar 2017) |  | URL: https://hedgehog.fhcrc.org/bioconductor/trunk/madman/Rpacks/vsn |  | Last Changed Rev: 126664 / Revision: 127142 |  | Last Changed Date: 2017-02-10 07:46:28 -0500 (Fri, 10 Feb 2017) |  
  | malbec2  | Linux (Ubuntu 16.04.1 LTS) / x86_64  |  OK  |  OK  |  OK  |  |   | 
| tokay2  | Windows Server 2012 R2 Standard / x64  |  OK  |  OK  |  OK  |  OK  |   | 
| toluca2  | Mac OS X Mavericks (10.9.5) / x86_64  |  OK  |  OK  |  OK  |  OK  |   | 
| oaxaca  | Mac OS X Mavericks (10.9.5) / x86_64  |  OK  | [ OK ] |  OK  |  OK  |  | 
##############################################################################
##############################################################################
###
### Running command:
###
###   /Library/Frameworks/R.framework/Versions/Current/Resources/bin/R CMD build --keep-empty-dirs --no-resave-data vsn
###
##############################################################################
##############################################################################
* checking for file ‘vsn/DESCRIPTION’ ... OK
* preparing ‘vsn’:
* checking DESCRIPTION meta-information ... OK
* cleaning src
* installing the package to build vignettes
* creating vignettes ... OK
* cleaning src
* checking for LF line-endings in source and make files
* checking for empty or unneeded directories
* looking to see if a ‘data/datalist’ file should be added
* building ‘vsn_3.43.9.tar.gz’