trackViewer 1.12.0 Jianhong Ou
 | Snapshot Date: 2017-08-15 17:17:57 -0400 (Tue, 15 Aug 2017) |  | URL: https://hedgehog.fhcrc.org/bioconductor/branches/RELEASE_3_5/madman/Rpacks/trackViewer |  | Last Changed Rev: 129126 / Revision: 131943 |  | Last Changed Date: 2017-04-24 15:25:24 -0400 (Mon, 24 Apr 2017) |  
  | malbec2  | Linux (Ubuntu 16.04.1 LTS) / x86_64  |  OK  |  OK  |  OK  |  |   | 
| tokay2  | Windows Server 2012 R2 Standard / x64  |  OK  |  OK  |  OK  | [ OK ] |   | 
| veracruz2  | OS X 10.11.6 El Capitan / x86_64  |  OK  |  OK  |  OK  |  OK  |   | 
##############################################################################
##############################################################################
###
### Running command:
###
###   cd trackViewer.buildbin-libdir/trackViewer && zip -r ../../trackViewer_1.12.0.zip . & cd ../..
###
##############################################################################
##############################################################################
  adding: DESCRIPTION (264 bytes security) (deflated 39%)
  adding: doc/ (304 bytes security) (stored 0%)
  adding: doc/index.html (264 bytes security) (deflated 60%)
  adding: doc/trackViewer.html (264 bytes security) (deflated 41%)
  adding: doc/trackViewer.R (264 bytes security) (deflated 77%)
  adding: doc/trackViewer.Rmd (264 bytes security) (deflated 72%)
  adding: extdata/ (304 bytes security) (stored 0%)
  adding: extdata/cpsf160.repA_+.wig (264 bytes security) (deflated 97%)
  adding: extdata/cpsf160.repA_-.wig (264 bytes security) (deflated 96%)
  adding: extdata/cpsf160.repB_+.wig (264 bytes security) (deflated 96%)
  adding: extdata/cpsf160.repB_-.wig (264 bytes security) (deflated 95%)
  adding: extdata/fox2.bed (264 bytes security) (deflated 73%)
  adding: extdata/ideo.hg38.rds (264 bytes security) (deflated 18%)
  adding: extdata/map-pin-red.xml (264 bytes security) (deflated 81%)
  adding: extdata/methy.bed (264 bytes security) (deflated 84%)
  adding: help/ (304 bytes security) (stored 0%)
  adding: help/aliases.rds (264 bytes security) (stored 0%)
  adding: help/AnIndex (264 bytes security) (deflated 73%)
  adding: help/paths.rds (264 bytes security) (stored 0%)
  adding: help/trackViewer.rdb (264 bytes security) (deflated 2%)
  adding: help/trackViewer.rdx (264 bytes security) (stored 0%)
  adding: html/ (304 bytes security) (stored 0%)
  adding: html/00Index.html (264 bytes security) (deflated 79%)
  adding: html/R.css (264 bytes security) (deflated 75%)
  adding: INDEX (264 bytes security) (deflated 62%)
  adding: MD5 (264 bytes security) (deflated 44%)
  adding: Meta/ (304 bytes security) (stored 0%)
  adding: Meta/features.rds (264 bytes security) (stored 0%)
  adding: Meta/hsearch.rds (264 bytes security) (stored 0%)
  adding: Meta/links.rds (264 bytes security) (stored 0%)
  adding: Meta/nsInfo.rds (264 bytes security) (stored 0%)
  adding: Meta/package.rds (264 bytes security) (stored 0%)
  adding: Meta/Rd.rds (264 bytes security) (stored 0%)
  adding: Meta/vignette.rds (264 bytes security) (stored 0%)
  adding: NAMESPACE (264 bytes security) (deflated 59%)
  adding: NEWS (264 bytes security) (deflated 78%)
  adding: R/ (304 bytes security) (stored 0%)
  adding: R/trackViewer (264 bytes security) (deflated 41%)
  adding: R/trackViewer.rdb (264 bytes security) (deflated 23%)
  adding: R/trackViewer.rdx (264 bytes security) (stored 0%)
  adding: unitTests/ (304 bytes security) (stored 0%)
  adding: unitTests/test_coverage.R (264 bytes security) (deflated 39%)