survcomp 1.26.0 Benjamin Haibe-Kains , Markus Schroeder , Catharina Olsen
 | Snapshot Date: 2017-08-15 17:17:57 -0400 (Tue, 15 Aug 2017) |  | URL: https://hedgehog.fhcrc.org/bioconductor/branches/RELEASE_3_5/madman/Rpacks/survcomp |  | Last Changed Rev: 129126 / Revision: 131943 |  | Last Changed Date: 2017-04-24 15:25:24 -0400 (Mon, 24 Apr 2017) |  
  | malbec2  | Linux (Ubuntu 16.04.1 LTS) / x86_64  |  OK  |  OK  |  OK  |  |   | 
| tokay2  | Windows Server 2012 R2 Standard / x64  |  OK  |  OK  |  OK  | [ OK ] |   | 
| veracruz2  | OS X 10.11.6 El Capitan / x86_64  |  OK  |  OK  |  OK  |  OK  |   | 
##############################################################################
##############################################################################
###
### Running command:
###
###   cd survcomp.buildbin-libdir/survcomp && zip -r ../../survcomp_1.26.0.zip . & cd ../..
###
##############################################################################
##############################################################################
  adding: CITATION (264 bytes security) (deflated 61%)
  adding: data/ (304 bytes security) (stored 0%)
  adding: data/breastCancerData.RData (264 bytes security) (deflated 0%)
  adding: DESCRIPTION (264 bytes security) (deflated 37%)
  adding: doc/ (304 bytes security) (stored 0%)
  adding: doc/index.html (264 bytes security) (deflated 58%)
  adding: doc/survcomp.pdf (264 bytes security) (deflated 27%)
  adding: doc/survcomp.R (264 bytes security) (deflated 86%)
  adding: doc/survcomp.Rnw (264 bytes security) (deflated 77%)
  adding: help/ (304 bytes security) (stored 0%)
  adding: help/aliases.rds (264 bytes security) (stored 0%)
  adding: help/AnIndex (264 bytes security) (deflated 64%)
  adding: help/paths.rds (264 bytes security) (stored 0%)
  adding: help/survcomp.rdb (264 bytes security) (deflated 1%)
  adding: help/survcomp.rdx (264 bytes security) (stored 0%)
  adding: html/ (304 bytes security) (stored 0%)
  adding: html/00Index.html (264 bytes security) (deflated 78%)
  adding: html/R.css (264 bytes security) (deflated 75%)
  adding: INDEX (264 bytes security) (deflated 76%)
  adding: libs/ (304 bytes security) (stored 0%)
  adding: libs/i386/ (304 bytes security) (stored 0%)
  adding: libs/i386/survcomp.dll (264 bytes security) (deflated 65%)
  adding: libs/x64/ (304 bytes security) (stored 0%)
  adding: libs/x64/survcomp.dll (264 bytes security) (deflated 67%)
  adding: MD5 (264 bytes security) (deflated 43%)
  adding: Meta/ (304 bytes security) (stored 0%)
  adding: Meta/data.rds (264 bytes security) (stored 0%)
  adding: Meta/features.rds (264 bytes security) (stored 0%)
  adding: Meta/hsearch.rds (264 bytes security) (stored 0%)
  adding: Meta/links.rds (264 bytes security) (stored 0%)
  adding: Meta/nsInfo.rds (264 bytes security) (stored 0%)
  adding: Meta/package.rds (264 bytes security) (stored 0%)
  adding: Meta/Rd.rds (264 bytes security) (stored 0%)
  adding: Meta/vignette.rds (264 bytes security) (stored 0%)
  adding: NAMESPACE (264 bytes security) (deflated 41%)
  adding: R/ (304 bytes security) (stored 0%)
  adding: R/survcomp (264 bytes security) (deflated 41%)
  adding: R/survcomp.rdb (264 bytes security) (deflated 1%)
  adding: R/survcomp.rdx (264 bytes security) (stored 0%)