scran 1.3.10 Aaron Lun
 | Snapshot Date: 2017-03-03 17:15:47 -0500 (Fri, 03 Mar 2017) |  | URL: https://hedgehog.fhcrc.org/bioconductor/trunk/madman/Rpacks/scran |  | Last Changed Rev: 126732 / Revision: 127142 |  | Last Changed Date: 2017-02-13 10:50:48 -0500 (Mon, 13 Feb 2017) |  
  | malbec2  | Linux (Ubuntu 16.04.1 LTS) / x86_64  |  OK  |  OK  |  OK  |  |   | 
| tokay2  | Windows Server 2012 R2 Standard / x64  |  OK  |  OK  |  OK  |  OK  |   | 
| toluca2  | Mac OS X Mavericks (10.9.5) / x86_64  |  OK  |  OK  |  OK  |  OK  |   | 
| oaxaca  | Mac OS X Mavericks (10.9.5) / x86_64  | [ OK ] |  OK  |  OK  |  OK  |  | 
##############################################################################
##############################################################################
###
### Running command:
###
###   /Library/Frameworks/R.framework/Versions/Current/Resources/bin/R CMD INSTALL scran
###
##############################################################################
##############################################################################
* installing to library ‘/Library/Frameworks/R.framework/Versions/3.4/Resources/library’
* installing *source* package ‘scran’ ...
** libs
clang++  -I/Library/Frameworks/R.framework/Resources/include -DNDEBUG   -I/usr/local/include -I/usr/local/include/freetype2 -I/opt/X11/include   -fPIC  -Wall -mtune=core2 -g -O2  -c compute_CV2.cpp -o compute_CV2.o
clang++  -I/Library/Frameworks/R.framework/Resources/include -DNDEBUG   -I/usr/local/include -I/usr/local/include/freetype2 -I/opt/X11/include   -fPIC  -Wall -mtune=core2 -g -O2  -c compute_cordist.cpp -o compute_cordist.o
clang++  -I/Library/Frameworks/R.framework/Resources/include -DNDEBUG   -I/usr/local/include -I/usr/local/include/freetype2 -I/opt/X11/include   -fPIC  -Wall -mtune=core2 -g -O2  -c compute_rho.cpp -o compute_rho.o
compute_rho.cpp:421:31: warning: unused variable 'temp_abs_rho' [-Wunused-variable]
        double temp_combined, temp_abs_rho;
                              ^
1 warning generated.
clang++  -I/Library/Frameworks/R.framework/Resources/include -DNDEBUG   -I/usr/local/include -I/usr/local/include/freetype2 -I/opt/X11/include   -fPIC  -Wall -mtune=core2 -g -O2  -c estimate_variance.cpp -o estimate_variance.o
clang++  -I/Library/Frameworks/R.framework/Resources/include -DNDEBUG   -I/usr/local/include -I/usr/local/include/freetype2 -I/opt/X11/include   -fPIC  -Wall -mtune=core2 -g -O2  -c forge_system.cpp -o forge_system.o
clang++  -I/Library/Frameworks/R.framework/Resources/include -DNDEBUG   -I/usr/local/include -I/usr/local/include/freetype2 -I/opt/X11/include   -fPIC  -Wall -mtune=core2 -g -O2  -c init.cpp -o init.o
clang++  -I/Library/Frameworks/R.framework/Resources/include -DNDEBUG   -I/usr/local/include -I/usr/local/include/freetype2 -I/opt/X11/include   -fPIC  -Wall -mtune=core2 -g -O2  -c matrix_info.cpp -o matrix_info.o
clang++  -I/Library/Frameworks/R.framework/Resources/include -DNDEBUG   -I/usr/local/include -I/usr/local/include/freetype2 -I/opt/X11/include   -fPIC  -Wall -mtune=core2 -g -O2  -c run_dormqr.cpp -o run_dormqr.o
clang++  -I/Library/Frameworks/R.framework/Resources/include -DNDEBUG   -I/usr/local/include -I/usr/local/include/freetype2 -I/opt/X11/include   -fPIC  -Wall -mtune=core2 -g -O2  -c shuffle_scores.cpp -o shuffle_scores.o
clang++ -dynamiclib -Wl,-headerpad_max_install_names -undefined dynamic_lookup -single_module -multiply_defined suppress -L/Library/Frameworks/R.framework/Resources/lib -L/usr/local/lib -o scran.so compute_CV2.o compute_cordist.o compute_rho.o estimate_variance.o forge_system.o init.o matrix_info.o run_dormqr.o shuffle_scores.o -L/Library/Frameworks/R.framework/Resources/lib -lRlapack -L/Library/Frameworks/R.framework/Resources/lib -lRblas -L/usr/local/lib/gcc/x86_64-apple-darwin13.0.0/4.8.2 -lgfortran -lquadmath -lm -F/Library/Frameworks/R.framework/.. -framework R -Wl,-framework -Wl,CoreFoundation
installing to /Library/Frameworks/R.framework/Versions/3.4/Resources/library/scran/libs
** R
** inst
** preparing package for lazy loading
** help
*** installing help indices
** building package indices
** installing vignettes
** testing if installed package can be loaded
* DONE (scran)