rtracklayer 1.36.4 Michael Lawrence
 | Snapshot Date: 2017-08-15 17:17:57 -0400 (Tue, 15 Aug 2017) |  | URL: https://hedgehog.fhcrc.org/bioconductor/branches/RELEASE_3_5/madman/Rpacks/rtracklayer |  | Last Changed Rev: 131118 / Revision: 131943 |  | Last Changed Date: 2017-07-11 14:48:38 -0400 (Tue, 11 Jul 2017) |  
  | malbec2  | Linux (Ubuntu 16.04.1 LTS) / x86_64  |  OK  | [ OK ] |  WARNINGS  |  |   | 
| tokay2  | Windows Server 2012 R2 Standard / x64  |  OK  |  OK  |  WARNINGS  |  OK  |   | 
| veracruz2  | OS X 10.11.6 El Capitan / x86_64  |  OK  |  OK  |  WARNINGS  |  OK  |   | 
##############################################################################
##############################################################################
###
### Running command:
###
###   /home/biocbuild/bbs-3.5-bioc/R/bin/R CMD build --keep-empty-dirs --no-resave-data rtracklayer
###
##############################################################################
##############################################################################
* checking for file ‘rtracklayer/DESCRIPTION’ ... OK
* preparing ‘rtracklayer’:
* checking DESCRIPTION meta-information ... OK
* cleaning src
* installing the package to build vignettes
* creating vignettes ... OK
* cleaning src
* checking for LF line-endings in source and make files
* checking for empty or unneeded directories
* looking to see if a ‘data/datalist’ file should be added
* building ‘rtracklayer_1.36.4.tar.gz’