qpgraph 2.10.1 Robert Castelo
 | Snapshot Date: 2017-08-15 17:17:57 -0400 (Tue, 15 Aug 2017) |  | URL: https://hedgehog.fhcrc.org/bioconductor/branches/RELEASE_3_5/madman/Rpacks/qpgraph |  | Last Changed Rev: 129423 / Revision: 131943 |  | Last Changed Date: 2017-05-05 15:32:27 -0400 (Fri, 05 May 2017) |  
  | malbec2  | Linux (Ubuntu 16.04.1 LTS) / x86_64  |  OK  |  OK  |  OK  |  |   | 
| tokay2  | Windows Server 2012 R2 Standard / x64  |  OK  |  OK  |  OK  | [ OK ] |   | 
| veracruz2  | OS X 10.11.6 El Capitan / x86_64  |  OK  |  OK  |  OK  |  OK  |   | 
##############################################################################
##############################################################################
###
### Running command:
###
###   cd qpgraph.buildbin-libdir/qpgraph && zip -r ../../qpgraph_2.10.1.zip . & cd ../..
###
##############################################################################
##############################################################################
  adding: CITATION (264 bytes security) (deflated 70%)
  adding: data/ (304 bytes security) (stored 0%)
  adding: data/datalist (264 bytes security) (deflated 34%)
  adding: data/Rdata.rdb (264 bytes security) (deflated 0%)
  adding: data/Rdata.rds (264 bytes security) (stored 0%)
  adding: data/Rdata.rdx (264 bytes security) (stored 0%)
  adding: DESCRIPTION (264 bytes security) (deflated 43%)
  adding: doc/ (304 bytes security) (stored 0%)
  adding: doc/BasicUsersGuide.pdf (264 bytes security) (deflated 8%)
  adding: doc/eQTLnetworks.pdf (264 bytes security) (deflated 11%)
  adding: doc/eQTLnetworks.R (264 bytes security) (deflated 79%)
  adding: doc/eQTLnetworks.Rnw (264 bytes security) (deflated 68%)
  adding: doc/index.html (264 bytes security) (deflated 72%)
  adding: doc/qpgraphSimulate.pdf (264 bytes security) (deflated 20%)
  adding: doc/qpgraphSimulate.R (264 bytes security) (deflated 82%)
  adding: doc/qpgraphSimulate.Rnw (264 bytes security) (deflated 68%)
  adding: doc/qpTxRegNet.pdf (264 bytes security) (deflated 13%)
  adding: doc/qpTxRegNet.R (264 bytes security) (deflated 81%)
  adding: doc/qpTxRegNet.Rnw (264 bytes security) (deflated 69%)
  adding: help/ (304 bytes security) (stored 0%)
  adding: help/aliases.rds (264 bytes security) (stored 0%)
  adding: help/AnIndex (264 bytes security) (deflated 85%)
  adding: help/paths.rds (264 bytes security) (stored 0%)
  adding: help/qpgraph.rdb (264 bytes security) (deflated 1%)
  adding: help/qpgraph.rdx (264 bytes security) (stored 0%)
  adding: html/ (304 bytes security) (stored 0%)
  adding: html/00Index.html (264 bytes security) (deflated 89%)
  adding: html/R.css (264 bytes security) (deflated 75%)
  adding: INDEX (264 bytes security) (deflated 66%)
  adding: libs/ (304 bytes security) (stored 0%)
  adding: libs/i386/ (304 bytes security) (stored 0%)
  adding: libs/i386/qpgraph.dll (264 bytes security) (deflated 56%)
  adding: libs/x64/ (304 bytes security) (stored 0%)
  adding: libs/x64/qpgraph.dll (264 bytes security) (deflated 53%)
  adding: MD5 (264 bytes security) (deflated 44%)
  adding: Meta/ (304 bytes security) (stored 0%)
  adding: Meta/data.rds (264 bytes security) (stored 0%)
  adding: Meta/features.rds (264 bytes security) (stored 0%)
  adding: Meta/hsearch.rds (264 bytes security) (stored 0%)
  adding: Meta/links.rds (264 bytes security) (stored 0%)
  adding: Meta/nsInfo.rds (264 bytes security) (stored 0%)
  adding: Meta/package.rds (264 bytes security) (stored 0%)
  adding: Meta/Rd.rds (264 bytes security) (stored 0%)
  adding: Meta/vignette.rds (264 bytes security) (stored 0%)
  adding: NAMESPACE (264 bytes security) (deflated 75%)
  adding: NEWS (264 bytes security) (deflated 66%)
  adding: R/ (304 bytes security) (stored 0%)
  adding: R/qpgraph (264 bytes security) (deflated 41%)
  adding: R/qpgraph.rdb (264 bytes security) (deflated 24%)
  adding: R/qpgraph.rdx (264 bytes security) (deflated 2%)
  adding: snow/ (304 bytes security) (stored 0%)
  adding: snow/RMPInode.R (264 bytes security) (deflated 51%)
  adding: snow/RNWSnode.R (264 bytes security) (deflated 57%)
  adding: snow/RPVMnode.R (264 bytes security) (deflated 54%)
  adding: snow/RSOCKnode.R (264 bytes security) (deflated 53%)
  adding: unitTests/ (304 bytes security) (stored 0%)
  adding: unitTests/test_qpCItest.R (264 bytes security) (deflated 50%)
  adding: unitTests/test_qpNrr.R (264 bytes security) (deflated 58%)
  adding: unitTests/test_rgraphBAM.R (264 bytes security) (deflated 39%)