nem 2.50.0 Holger Froehlich
 | Snapshot Date: 2017-08-15 17:17:57 -0400 (Tue, 15 Aug 2017) |  | URL: https://hedgehog.fhcrc.org/bioconductor/branches/RELEASE_3_5/madman/Rpacks/nem |  | Last Changed Rev: 129126 / Revision: 131943 |  | Last Changed Date: 2017-04-24 15:25:24 -0400 (Mon, 24 Apr 2017) |  
  | malbec2  | Linux (Ubuntu 16.04.1 LTS) / x86_64  |  OK  |  OK  |  OK  |  |   | 
| tokay2  | Windows Server 2012 R2 Standard / x64  |  OK  |  OK  |  OK  | [ OK ] |   | 
| veracruz2  | OS X 10.11.6 El Capitan / x86_64  |  OK  |  OK  |  OK  |  OK  |   | 
##############################################################################
##############################################################################
###
### Running command:
###
###   cd nem.buildbin-libdir/nem && zip -r ../../nem_2.50.0.zip . & cd ../..
###
##############################################################################
##############################################################################
  adding: data/ (304 bytes security) (stored 0%)
  adding: data/BoutrosRNAi2002.RData (264 bytes security) (deflated 0%)
  adding: data/datalist (264 bytes security) (deflated 48%)
  adding: data/Ivanova2006RNAiTimeSeries.RData (264 bytes security) (stored 0%)
  adding: data/NiederbergerMediator2012.RData (264 bytes security) (deflated 0%)
  adding: data/SahinRNAi2008.RData (264 bytes security) (deflated 1%)
  adding: DESCRIPTION (264 bytes security) (deflated 42%)
  adding: doc/ (304 bytes security) (stored 0%)
  adding: doc/index.html (264 bytes security) (deflated 61%)
  adding: doc/markowetz-thesis-2006.pdf (264 bytes security) (deflated 30%)
  adding: doc/ModuleNetworks1.png (264 bytes security) (deflated 19%)
  adding: doc/nem.pdf (264 bytes security) (deflated 26%)
  adding: doc/nem.R (264 bytes security) (deflated 81%)
  adding: doc/nem.Rnw (264 bytes security) (deflated 69%)
  adding: doc/references.bib (264 bytes security) (deflated 67%)
  adding: help/ (304 bytes security) (stored 0%)
  adding: help/aliases.rds (264 bytes security) (stored 0%)
  adding: help/AnIndex (264 bytes security) (deflated 74%)
  adding: help/nem.rdb (264 bytes security) (deflated 1%)
  adding: help/nem.rdx (264 bytes security) (stored 0%)
  adding: help/paths.rds (264 bytes security) (stored 0%)
  adding: html/ (304 bytes security) (stored 0%)
  adding: html/00Index.html (264 bytes security) (deflated 87%)
  adding: html/R.css (264 bytes security) (deflated 75%)
  adding: INDEX (264 bytes security) (deflated 63%)
  adding: libs/ (304 bytes security) (stored 0%)
  adding: libs/i386/ (304 bytes security) (stored 0%)
  adding: libs/i386/nem.dll (264 bytes security) (deflated 55%)
  adding: libs/x64/ (304 bytes security) (stored 0%)
  adding: libs/x64/nem.dll (264 bytes security) (deflated 54%)
  adding: MD5 (264 bytes security) (deflated 41%)
  adding: Meta/ (304 bytes security) (stored 0%)
  adding: Meta/data.rds (264 bytes security) (stored 0%)
  adding: Meta/features.rds (264 bytes security) (stored 0%)
  adding: Meta/hsearch.rds (264 bytes security) (stored 0%)
  adding: Meta/links.rds (264 bytes security) (stored 0%)
  adding: Meta/nsInfo.rds (264 bytes security) (stored 0%)
  adding: Meta/package.rds (264 bytes security) (stored 0%)
  adding: Meta/Rd.rds (264 bytes security) (stored 0%)
  adding: Meta/vignette.rds (264 bytes security) (stored 0%)
  adding: NAMESPACE (264 bytes security) (deflated 58%)
  adding: R/ (304 bytes security) (stored 0%)
  adding: R/nem (264 bytes security) (deflated 41%)
  adding: R/nem.rdb (264 bytes security) (deflated 4%)
  adding: R/nem.rdx (264 bytes security) (stored 0%)