motifStack 1.20.1 Jianhong Ou
 | Snapshot Date: 2017-08-15 17:17:57 -0400 (Tue, 15 Aug 2017) |  | URL: https://hedgehog.fhcrc.org/bioconductor/branches/RELEASE_3_5/madman/Rpacks/motifStack |  | Last Changed Rev: 131067 / Revision: 131943 |  | Last Changed Date: 2017-07-10 13:06:13 -0400 (Mon, 10 Jul 2017) |  
  | malbec2  | Linux (Ubuntu 16.04.1 LTS) / x86_64  |  OK  |  OK  |  OK  |  |   | 
| tokay2  | Windows Server 2012 R2 Standard / x64  |  OK  |  OK  |  OK  |  OK  |   | 
| veracruz2  | OS X 10.11.6 El Capitan / x86_64  |  OK  |  OK  |  OK  | [ OK ] |   | 
##############################################################################
##############################################################################
###
### Running command:
###
###   rm -rf motifStack.buildbin-libdir && mkdir motifStack.buildbin-libdir && /Users/biocbuild/BBS/utils/build-universal.sh motifStack_1.20.1.tar.gz /Library/Frameworks/R.framework/Versions/Current/Resources/bin/R motifStack.buildbin-libdir
###
##############################################################################
##############################################################################
>>>>>>> 
>>>>>>> INSTALLATION WITH 'R CMD INSTALL --preclean --no-multiarch --library=motifStack.buildbin-libdir motifStack_1.20.1.tar.gz'
>>>>>>> 
* installing *source* package ‘motifStack’ ...
** R
** inst
** preparing package for lazy loading
** help
*** installing help indices
** building package indices
** installing vignettes
** testing if installed package can be loaded
* DONE (motifStack)