minet 3.34.0 Patrick E. Meyer
 | Snapshot Date: 2017-08-15 17:17:57 -0400 (Tue, 15 Aug 2017) |  | URL: https://hedgehog.fhcrc.org/bioconductor/branches/RELEASE_3_5/madman/Rpacks/minet |  | Last Changed Rev: 129126 / Revision: 131943 |  | Last Changed Date: 2017-04-24 15:25:24 -0400 (Mon, 24 Apr 2017) |  
  | malbec2  | Linux (Ubuntu 16.04.1 LTS) / x86_64  | [ OK ] |  OK  |  OK  |  |   | 
| tokay2  | Windows Server 2012 R2 Standard / x64  |  OK  |  OK  |  OK  |  OK  |   | 
| veracruz2  | OS X 10.11.6 El Capitan / x86_64  |  OK  |  OK  |  OK  |  OK  |   | 
##############################################################################
##############################################################################
###
### Running command:
###
###   /home/biocbuild/bbs-3.5-bioc/R/bin/R CMD INSTALL minet
###
##############################################################################
##############################################################################
* installing to library ‘/home/biocbuild/bbs-3.5-bioc/R/library’
* installing *source* package ‘minet’ ...
** libs
g++  -I/home/biocbuild/bbs-3.5-bioc/R/include -DNDEBUG   -I/usr/local/include   -fpic  -g -O2  -Wall -c aracne.cpp -o aracne.o
g++  -I/home/biocbuild/bbs-3.5-bioc/R/include -DNDEBUG   -I/usr/local/include   -fpic  -g -O2  -Wall -c clr.cpp -o clr.o
g++  -I/home/biocbuild/bbs-3.5-bioc/R/include -DNDEBUG   -I/usr/local/include   -fpic  -g -O2  -Wall -c minet.cpp -o minet.o
g++  -I/home/biocbuild/bbs-3.5-bioc/R/include -DNDEBUG   -I/usr/local/include   -fpic  -g -O2  -Wall -c mrnet.cpp -o mrnet.o
mrnet.cpp: In function ‘SEXPREC* mrnet(SEXP, SEXP)’:
mrnet.cpp:190:34: warning: comparison between signed and unsigned integer expressions [-Wsign-compare]
                   for( int l=0; l<n; ++l )  
                                  ^
g++  -I/home/biocbuild/bbs-3.5-bioc/R/include -DNDEBUG   -I/usr/local/include   -fpic  -g -O2  -Wall -c validate.cpp -o validate.o
g++ -shared -L/home/biocbuild/bbs-3.5-bioc/R/lib -L/usr/local/lib -o minet.so aracne.o clr.o minet.o mrnet.o validate.o -L/home/biocbuild/bbs-3.5-bioc/R/lib -lR
installing to /home/biocbuild/bbs-3.5-bioc/R/library/minet/libs
** R
** data
** inst
** preparing package for lazy loading
** help
*** installing help indices
** building package indices
** testing if installed package can be loaded
* DONE (minet)