illuminaio 0.18.0 Kasper Daniel Hansen
 | Snapshot Date: 2017-08-15 17:17:57 -0400 (Tue, 15 Aug 2017) |  | URL: https://hedgehog.fhcrc.org/bioconductor/branches/RELEASE_3_5/madman/Rpacks/illuminaio |  | Last Changed Rev: 129126 / Revision: 131943 |  | Last Changed Date: 2017-04-24 15:25:24 -0400 (Mon, 24 Apr 2017) |  
  | malbec2  | Linux (Ubuntu 16.04.1 LTS) / x86_64  | [ OK ] |  OK  |  OK  |  |   | 
| tokay2  | Windows Server 2012 R2 Standard / x64  |  OK  |  OK  |  OK  |  OK  |   | 
| veracruz2  | OS X 10.11.6 El Capitan / x86_64  |  OK  |  OK  |  OK  |  OK  |   | 
##############################################################################
##############################################################################
###
### Running command:
###
###   /home/biocbuild/bbs-3.5-bioc/R/bin/R CMD INSTALL illuminaio
###
##############################################################################
##############################################################################
* installing to library ‘/home/biocbuild/bbs-3.5-bioc/R/library’
* installing *source* package ‘illuminaio’ ...
** libs
gcc -I/home/biocbuild/bbs-3.5-bioc/R/include -DNDEBUG   -I/usr/local/include   -fpic  -g -O2  -Wall -c des.c -o des.o
gcc -I/home/biocbuild/bbs-3.5-bioc/R/include -DNDEBUG   -I/usr/local/include   -fpic  -g -O2  -Wall -c local_des.c -o local_des.o
local_des.c: In function ‘decrypt’:
local_des.c:27:9: warning: ignoring return value of ‘fread’, declared with attribute warn_unused_result [-Wunused-result]
         fread(sessionKey, 8, 1, f);
         ^
local_des.c:35:9: warning: ignoring return value of ‘fread’, declared with attribute warn_unused_result [-Wunused-result]
         fread(data, len, 1, f);
         ^
gcc -shared -L/home/biocbuild/bbs-3.5-bioc/R/lib -L/usr/local/lib -o illuminaio.so des.o local_des.o -L/home/biocbuild/bbs-3.5-bioc/R/lib -lR
installing to /home/biocbuild/bbs-3.5-bioc/R/library/illuminaio/libs
** R
** inst
** preparing package for lazy loading
** help
*** installing help indices
** building package indices
** installing vignettes
** testing if installed package can be loaded
* DONE (illuminaio)