ggbio 1.24.1 Michael Lawrence
 | Snapshot Date: 2017-08-15 17:17:57 -0400 (Tue, 15 Aug 2017) |  | URL: https://hedgehog.fhcrc.org/bioconductor/branches/RELEASE_3_5/madman/Rpacks/ggbio |  | Last Changed Rev: 130641 / Revision: 131943 |  | Last Changed Date: 2017-06-23 13:52:53 -0400 (Fri, 23 Jun 2017) |  
  | malbec2  | Linux (Ubuntu 16.04.1 LTS) / x86_64  |  OK  |  OK  |  OK  |  |   | 
| tokay2  | Windows Server 2012 R2 Standard / x64  |  OK  |  OK  |  OK  |  OK  |   | 
| veracruz2  | OS X 10.11.6 El Capitan / x86_64  |  OK  |  OK  |  OK  | [ OK ] |   | 
##############################################################################
##############################################################################
###
### Running command:
###
###   rm -rf ggbio.buildbin-libdir && mkdir ggbio.buildbin-libdir && /Users/biocbuild/BBS/utils/build-universal.sh ggbio_1.24.1.tar.gz /Library/Frameworks/R.framework/Versions/Current/Resources/bin/R ggbio.buildbin-libdir
###
##############################################################################
##############################################################################
>>>>>>> 
>>>>>>> INSTALLATION WITH 'R CMD INSTALL --preclean --no-multiarch --library=ggbio.buildbin-libdir ggbio_1.24.1.tar.gz'
>>>>>>> 
* installing *source* package ‘ggbio’ ...
** R
** inst
** preparing package for lazy loading
No methods found in "RSQLite" for requests: dbGetQuery
Creating a new generic function for 'rescale' in package 'ggbio'
Creating a new generic function for 'xlim' in package 'ggbio'
Creating a new generic function for 'geom_rect' in package 'ggbio'
Creating a new generic function for 'geom_segment' in package 'ggbio'
Creating a new generic function for 'geom_bar' in package 'ggbio'
Creating a new generic function for 'stat_identity' in package 'ggbio'
Creating a new generic function for 'stat_bin' in package 'ggbio'
** help
*** installing help indices
** building package indices
** installing vignettes
** testing if installed package can be loaded
No methods found in "RSQLite" for requests: dbGetQuery
* DONE (ggbio)