genefu 2.8.0 Benjamin Haibe-Kains , Markus Schroeder
 | Snapshot Date: 2017-08-15 17:17:57 -0400 (Tue, 15 Aug 2017) |  | URL: https://hedgehog.fhcrc.org/bioconductor/branches/RELEASE_3_5/madman/Rpacks/genefu |  | Last Changed Rev: 129126 / Revision: 131943 |  | Last Changed Date: 2017-04-24 15:25:24 -0400 (Mon, 24 Apr 2017) |  
  | malbec2  | Linux (Ubuntu 16.04.1 LTS) / x86_64  |  OK  |  OK  |  WARNINGS  |  |   | 
| tokay2  | Windows Server 2012 R2 Standard / x64  |  OK  |  OK  |  WARNINGS  | [ OK ] |   | 
| veracruz2  | OS X 10.11.6 El Capitan / x86_64  |  OK  |  OK  |  WARNINGS  |  OK  |   | 
##############################################################################
##############################################################################
###
### Running command:
###
###   cd genefu.buildbin-libdir/genefu && zip -r ../../genefu_2.8.0.zip . & cd ../..
###
##############################################################################
##############################################################################
  adding: data/ (304 bytes security) (stored 0%)
  adding: data/datalist (264 bytes security) (deflated 53%)
  adding: data/Rdata.rdb (264 bytes security) (deflated 1%)
  adding: data/Rdata.rds (264 bytes security) (stored 0%)
  adding: data/Rdata.rdx (264 bytes security) (stored 0%)
  adding: DESCRIPTION (264 bytes security) (deflated 42%)
  adding: doc/ (304 bytes security) (stored 0%)
  adding: doc/genefu.pdf (264 bytes security) (deflated 9%)
  adding: doc/genefu.R (264 bytes security) (deflated 74%)
  adding: doc/genefu.Rnw (264 bytes security) (deflated 70%)
  adding: doc/index.html (264 bytes security) (deflated 57%)
  adding: extdata/ (304 bytes security) (stored 0%)
  adding: extdata/bentink2012_angiogenic.csv (264 bytes security) (deflated 46%)
  adding: extdata/crijns2009_sig.csv (264 bytes security) (deflated 47%)
  adding: extdata/desmedt2008_genemodules.csv (264 bytes security) (deflated 60%)
  adding: extdata/filipits2011_sig_endopredict.csv (264 bytes security) (deflated 47%)
  adding: extdata/haibekains2009_sig_genius.csv (264 bytes security) (deflated 62%)
  adding: extdata/loi2008_tamr13.csv (264 bytes security) (deflated 62%)
  adding: extdata/loi2010_pik3cags.csv (264 bytes security) (deflated 67%)
  adding: extdata/paik2004_sig_oncotypedx.csv (264 bytes security) (deflated 49%)
  adding: extdata/pam50_model.csv (264 bytes security) (deflated 51%)
  adding: extdata/scmgene_robust_model.csv (264 bytes security) (deflated 40%)
  adding: extdata/scmod1_robust_model.csv (264 bytes security) (deflated 65%)
  adding: extdata/scmod2_robust_model.csv (264 bytes security) (deflated 67%)
  adding: extdata/sotiriou2006_sig_ggi.csv (264 bytes security) (deflated 55%)
  adding: extdata/spentzos2011_sig.csv (264 bytes security) (deflated 50%)
  adding: extdata/ssp2003_model.csv (264 bytes security) (deflated 69%)
  adding: extdata/ssp2006_model.csv (264 bytes security) (deflated 78%)
  adding: extdata/T.E.9CELL-LINE.txt (264 bytes security) (deflated 64%)
  adding: extdata/tcga2011_sig.csv (264 bytes security) (deflated 55%)
  adding: extdata/veer2002_sig_gene70.csv (264 bytes security) (deflated 51%)
  adding: extdata/wang2005_sig_gene76.csv (264 bytes security) (deflated 51%)
  adding: extdata/wirapati2008_genemodules.csv (264 bytes security) (deflated 55%)
  adding: extdata/yoshihara2010_sig.csv (264 bytes security) (deflated 53%)
  adding: help/ (304 bytes security) (stored 0%)
  adding: help/aliases.rds (264 bytes security) (stored 0%)
  adding: help/AnIndex (264 bytes security) (deflated 67%)
  adding: help/genefu.rdb (264 bytes security) (deflated 2%)
  adding: help/genefu.rdx (264 bytes security) (stored 0%)
  adding: help/paths.rds (264 bytes security) (stored 0%)
  adding: html/ (304 bytes security) (stored 0%)
  adding: html/00Index.html (264 bytes security) (deflated 82%)
  adding: html/R.css (264 bytes security) (deflated 75%)
  adding: INDEX (264 bytes security) (deflated 76%)
  adding: MD5 (264 bytes security) (deflated 46%)
  adding: Meta/ (304 bytes security) (stored 0%)
  adding: Meta/data.rds (264 bytes security) (stored 0%)
  adding: Meta/features.rds (264 bytes security) (stored 0%)
  adding: Meta/hsearch.rds (264 bytes security) (stored 0%)
  adding: Meta/links.rds (264 bytes security) (stored 0%)
  adding: Meta/nsInfo.rds (264 bytes security) (stored 0%)
  adding: Meta/package.rds (264 bytes security) (stored 0%)
  adding: Meta/Rd.rds (264 bytes security) (stored 0%)
  adding: Meta/vignette.rds (264 bytes security) (stored 0%)
  adding: NAMESPACE (264 bytes security) (deflated 35%)
  adding: R/ (304 bytes security) (stored 0%)
  adding: R/genefu (264 bytes security) (deflated 41%)
  adding: R/genefu.rdb (264 bytes security) (deflated 1%)
  adding: R/genefu.rdx (264 bytes security) (stored 0%)