gcrma 2.48.0 Z. Wu
 | Snapshot Date: 2017-08-15 17:17:57 -0400 (Tue, 15 Aug 2017) |  | URL: https://hedgehog.fhcrc.org/bioconductor/branches/RELEASE_3_5/madman/Rpacks/gcrma |  | Last Changed Rev: 129126 / Revision: 131943 |  | Last Changed Date: 2017-04-24 15:25:24 -0400 (Mon, 24 Apr 2017) |  
  | malbec2  | Linux (Ubuntu 16.04.1 LTS) / x86_64  | [ OK ] |  OK  |  OK  |  |   | 
| tokay2  | Windows Server 2012 R2 Standard / x64  |  OK  |  OK  |  OK  |  OK  |   | 
| veracruz2  | OS X 10.11.6 El Capitan / x86_64  |  OK  |  OK  |  OK  |  OK  |   | 
##############################################################################
##############################################################################
###
### Running command:
###
###   /home/biocbuild/bbs-3.5-bioc/R/bin/R CMD INSTALL gcrma
###
##############################################################################
##############################################################################
* installing to library ‘/home/biocbuild/bbs-3.5-bioc/R/library’
* installing *source* package ‘gcrma’ ...
** libs
gcc -I/home/biocbuild/bbs-3.5-bioc/R/include -DNDEBUG   -I/usr/local/include   -fpic  -g -O2  -Wall -c baseProfile.c -o baseProfile.o
gcc -I/home/biocbuild/bbs-3.5-bioc/R/include -DNDEBUG   -I/usr/local/include   -fpic  -g -O2  -Wall -c computeAffinities.c -o computeAffinities.o
gcc -I/home/biocbuild/bbs-3.5-bioc/R/include -DNDEBUG   -I/usr/local/include   -fpic  -g -O2  -Wall -c postmean.c -o postmean.o
gcc -shared -L/home/biocbuild/bbs-3.5-bioc/R/lib -L/usr/local/lib -o gcrma.so baseProfile.o computeAffinities.o postmean.o -L/home/biocbuild/bbs-3.5-bioc/R/lib -lR
installing to /home/biocbuild/bbs-3.5-bioc/R/library/gcrma/libs
** R
** data
** inst
** preparing package for lazy loading
** help
*** installing help indices
** building package indices
** installing vignettes
** testing if installed package can be loaded
* DONE (gcrma)