gage 2.26.1 Weijun Luo
 | Snapshot Date: 2017-08-15 17:17:57 -0400 (Tue, 15 Aug 2017) |  | URL: https://hedgehog.fhcrc.org/bioconductor/branches/RELEASE_3_5/madman/Rpacks/gage |  | Last Changed Rev: 130662 / Revision: 131943 |  | Last Changed Date: 2017-06-24 17:33:06 -0400 (Sat, 24 Jun 2017) |  
  | malbec2  | Linux (Ubuntu 16.04.1 LTS) / x86_64  |  OK  |  OK  |  OK  |  |   | 
| tokay2  | Windows Server 2012 R2 Standard / x64  |  OK  |  OK  |  OK  | [ OK ] |   | 
| veracruz2  | OS X 10.11.6 El Capitan / x86_64  |  OK  |  OK  |  OK  |  OK  |   | 
##############################################################################
##############################################################################
###
### Running command:
###
###   cd gage.buildbin-libdir/gage && zip -r ../../gage_2.26.1.zip . & cd ../..
###
##############################################################################
##############################################################################
  adding: CITATION (264 bytes security) (deflated 43%)
  adding: data/ (304 bytes security) (stored 0%)
  adding: data/bods.rda (264 bytes security) (stored 0%)
  adding: data/carta.gs.rda (264 bytes security) (stored 0%)
  adding: data/datalist (264 bytes security) (deflated 18%)
  adding: data/egSymb.rda (264 bytes security) (deflated 0%)
  adding: data/go.gs.rda (264 bytes security) (deflated 0%)
  adding: data/gse16873.rda (264 bytes security) (deflated 0%)
  adding: data/kegg.gs.dise.rda (264 bytes security) (stored 0%)
  adding: data/kegg.gs.rda (264 bytes security) (stored 0%)
  adding: data/khier.rda (264 bytes security) (stored 0%)
  adding: data/korg.rda (264 bytes security) (deflated 0%)
  adding: DESCRIPTION (264 bytes security) (deflated 46%)
  adding: doc/ (304 bytes security) (stored 0%)
  adding: doc/dataPrep.pdf (264 bytes security) (deflated 9%)
  adding: doc/dataPrep.R (264 bytes security) (deflated 64%)
  adding: doc/dataPrep.Rnw (264 bytes security) (deflated 58%)
  adding: doc/gage.pdf (264 bytes security) (deflated 16%)
  adding: doc/gage.R (264 bytes security) (deflated 81%)
  adding: doc/gage.Rnw (264 bytes security) (deflated 69%)
  adding: doc/index.html (264 bytes security) (deflated 70%)
  adding: doc/RNA-seqWorkflow.pdf (264 bytes security) (deflated 8%)
  adding: doc/RNA-seqWorkflow.R (264 bytes security) (deflated 75%)
  adding: doc/RNA-seqWorkflow.Rnw (264 bytes security) (deflated 69%)
  adding: extdata/ (304 bytes security) (stored 0%)
  adding: extdata/c2.demo.gmt (264 bytes security) (deflated 49%)
  adding: extdata/gse16873.demo (264 bytes security) (deflated 51%)
  adding: help/ (304 bytes security) (stored 0%)
  adding: help/aliases.rds (264 bytes security) (stored 0%)
  adding: help/AnIndex (264 bytes security) (deflated 61%)
  adding: help/gage.rdb (264 bytes security) (deflated 1%)
  adding: help/gage.rdx (264 bytes security) (stored 0%)
  adding: help/paths.rds (264 bytes security) (stored 0%)
  adding: html/ (304 bytes security) (stored 0%)
  adding: html/00Index.html (264 bytes security) (deflated 75%)
  adding: html/R.css (264 bytes security) (deflated 75%)
  adding: INDEX (264 bytes security) (deflated 60%)
  adding: MD5 (264 bytes security) (deflated 45%)
  adding: Meta/ (304 bytes security) (stored 0%)
  adding: Meta/data.rds (264 bytes security) (stored 0%)
  adding: Meta/features.rds (264 bytes security) (stored 0%)
  adding: Meta/hsearch.rds (264 bytes security) (stored 0%)
  adding: Meta/links.rds (264 bytes security) (stored 0%)
  adding: Meta/nsInfo.rds (264 bytes security) (stored 0%)
  adding: Meta/package.rds (264 bytes security) (stored 0%)
  adding: Meta/Rd.rds (264 bytes security) (stored 0%)
  adding: Meta/vignette.rds (264 bytes security) (stored 0%)
  adding: NAMESPACE (264 bytes security) (deflated 36%)
  adding: NEWS (264 bytes security) (deflated 58%)
  adding: R/ (304 bytes security) (stored 0%)
  adding: R/gage (264 bytes security) (deflated 41%)
  adding: R/gage.rdb (264 bytes security) (deflated 1%)
  adding: R/gage.rdx (264 bytes security) (stored 0%)