flowType 2.13.0 Nima Aghaeepour
 | Snapshot Date: 2017-04-22 17:18:01 -0400 (Sat, 22 Apr 2017) |  | URL: https://hedgehog.fhcrc.org/bioconductor/trunk/madman/Rpacks/flowType |  | Last Changed Rev: 122712 / Revision: 129046 |  | Last Changed Date: 2016-10-17 15:10:43 -0400 (Mon, 17 Oct 2016) |  
  | malbec2  | Linux (Ubuntu 16.04.1 LTS) / x86_64  |  OK  |  OK  |  OK  |  |   | 
| tokay2  | Windows Server 2012 R2 Standard / x64  |  OK  |  OK  |  OK  |  OK  |   | 
| toluca2  | Mac OS X Mavericks (10.9.5) / x86_64  |  OK  |  OK  |  WARNINGS  | [ OK ] |  | 
| veracruz2  | OS X 10.11.6 El Capitan / x86_64  |  OK  |  OK  |  WARNINGS  |  OK  |   | 
##############################################################################
##############################################################################
###
### Running command:
###
###   rm -rf flowType.buildbin-libdir && mkdir flowType.buildbin-libdir && /Users/biocbuild/BBS/utils/build-universal.sh flowType_2.13.0.tar.gz /Library/Frameworks/R.framework/Versions/Current/Resources/bin/R flowType.buildbin-libdir
###
##############################################################################
##############################################################################
>>>>>>> 
>>>>>>> INSTALLATION WITH 'R CMD INSTALL --preclean --no-multiarch --library=flowType.buildbin-libdir flowType_2.13.0.tar.gz'
>>>>>>> 
* installing *source* package ‘flowType’ ...
** libs
clang++  -I/Library/Frameworks/R.framework/Resources/include -DNDEBUG  -I"/Library/Frameworks/R.framework/Versions/3.4/Resources/library/Rcpp/include" -I"/Library/Frameworks/R.framework/Versions/3.4/Resources/library/BH/include" -I/usr/local/include -I/usr/local/include/freetype2 -I/opt/X11/include   -fPIC  -Wall -mtune=core2 -g -O2  -c countsAndMeans.cpp -o countsAndMeans.o
clang++  -I/Library/Frameworks/R.framework/Resources/include -DNDEBUG  -I"/Library/Frameworks/R.framework/Versions/3.4/Resources/library/Rcpp/include" -I"/Library/Frameworks/R.framework/Versions/3.4/Resources/library/BH/include" -I/usr/local/include -I/usr/local/include/freetype2 -I/opt/X11/include   -fPIC  -Wall -mtune=core2 -g -O2  -c flowType.cpp -o flowType.o
clang++  -I/Library/Frameworks/R.framework/Resources/include -DNDEBUG  -I"/Library/Frameworks/R.framework/Versions/3.4/Resources/library/Rcpp/include" -I"/Library/Frameworks/R.framework/Versions/3.4/Resources/library/BH/include" -I/usr/local/include -I/usr/local/include/freetype2 -I/opt/X11/include   -fPIC  -Wall -mtune=core2 -g -O2  -c numberGenerator.cpp -o numberGenerator.o
clang++ -dynamiclib -Wl,-headerpad_max_install_names -undefined dynamic_lookup -single_module -multiply_defined suppress -L/Library/Frameworks/R.framework/Resources/lib -L/usr/local/lib -o flowType.so countsAndMeans.o flowType.o numberGenerator.o -F/Library/Frameworks/R.framework/.. -framework R -Wl,-framework -Wl,CoreFoundation
installing to /Users/biocbuild/bbs-3.5-bioc/meat/flowType.buildbin-libdir/flowType/libs
** R
** data
** inst
** preparing package for lazy loading
Warning in rgl.init(initValue, onlyNULL) :
  RGL: GLX extension missing on server
Warning: 'rgl_init' failed, running with rgl.useNULL = TRUE
** help
*** installing help indices
** building package indices
** installing vignettes
** testing if installed package can be loaded
Warning in rgl.init(initValue, onlyNULL) :
  RGL: GLX extension missing on server
Warning: 'rgl_init' failed, running with rgl.useNULL = TRUE
* DONE (flowType)
>>>>>>> 
>>>>>>> FIXING LINKS FOR flowType.buildbin-libdir/flowType/libs//flowType.so
>>>>>>> 
install_name_tool -change "/usr/local/lib/libgcc_s.1.dylib" "/Library/Frameworks/R.framework/Versions/3.4/Resources/lib/libgcc_s.1.dylib" "flowType.buildbin-libdir/flowType/libs//flowType.so"
install_name_tool -change "/usr/local/lib/libgfortran.3.dylib" "/Library/Frameworks/R.framework/Versions/3.4/Resources/lib/libgfortran.3.dylib" "flowType.buildbin-libdir/flowType/libs//flowType.so"
install_name_tool -change "/usr/local/lib/libreadline.5.2.dylib" "/Library/Frameworks/R.framework/Versions/3.4/Resources/lib/libreadline.5.2.dylib" "flowType.buildbin-libdir/flowType/libs//flowType.so"
install_name_tool -change "/usr/local/lib/libreadline.dylib" "/Library/Frameworks/R.framework/Versions/3.4/Resources/lib/libreadline.dylib" "flowType.buildbin-libdir/flowType/libs//flowType.so"
install_name_tool -change "/usr/local/lib/libquadmath.0.dylib" "/Library/Frameworks/R.framework/Versions/3.4/Resources/lib/libquadmath.0.dylib" "flowType.buildbin-libdir/flowType/libs//flowType.so"