flowPeaks 1.20.0 Yongchao Ge
 | Snapshot Date: 2017-08-15 17:17:57 -0400 (Tue, 15 Aug 2017) |  | URL: https://hedgehog.fhcrc.org/bioconductor/branches/RELEASE_3_5/madman/Rpacks/flowPeaks |  | Last Changed Rev: 129126 / Revision: 131943 |  | Last Changed Date: 2017-04-24 15:25:24 -0400 (Mon, 24 Apr 2017) |  
  | malbec2  | Linux (Ubuntu 16.04.1 LTS) / x86_64  | [ OK ] |  OK  |  OK  |  |   | 
| tokay2  | Windows Server 2012 R2 Standard / x64  |  OK  |  OK  |  OK  |  OK  |   | 
| veracruz2  | OS X 10.11.6 El Capitan / x86_64  |  OK  |  OK  |  OK  |  OK  |   | 
##############################################################################
##############################################################################
###
### Running command:
###
###   /home/biocbuild/bbs-3.5-bioc/R/bin/R CMD INSTALL flowPeaks
###
##############################################################################
##############################################################################
* installing to library ‘/home/biocbuild/bbs-3.5-bioc/R/library’
* installing *source* package ‘flowPeaks’ ...
** libs
g++  -I/home/biocbuild/bbs-3.5-bioc/R/include -DNDEBUG   -I/usr/local/include  `gsl-config --cflags`  -fpic  -g -O2  -Wall -c Rpack.cpp -o Rpack.o
Rpack.cpp: In function ‘void Rpack_relevel(int*, int*, int*, int*, int*, int*)’:
Rpack.cpp:141:18: warning: comparison between signed and unsigned integer expressions [-Wsign-compare]
  if(levels.size()<(i+1)){
                  ^
g++  -I/home/biocbuild/bbs-3.5-bioc/R/include -DNDEBUG   -I/usr/local/include  `gsl-config --cflags`  -fpic  -g -O2  -Wall -c Rregistrate.cpp -o Rregistrate.o
g++  -I/home/biocbuild/bbs-3.5-bioc/R/include -DNDEBUG   -I/usr/local/include  `gsl-config --cflags`  -fpic  -g -O2  -Wall -c VoronoiDiagramGenerator.cpp -o VoronoiDiagramGenerator.o
VoronoiDiagramGenerator.cpp: In member function ‘void VoronoiDiagramGenerator::out_site(Site*)’:
VoronoiDiagramGenerator.cpp:803:6: warning: suggest parentheses around operand of ‘!’ or change ‘&’ to ‘&&’ or ‘!’ to ‘˜’ [-Wparentheses]
  if(!triangulate & plot & !debug)
      ^
g++  -I/home/biocbuild/bbs-3.5-bioc/R/include -DNDEBUG   -I/usr/local/include  `gsl-config --cflags`  -fpic  -g -O2  -Wall -c flowPeaks.cpp -o flowPeaks.o
g++  -I/home/biocbuild/bbs-3.5-bioc/R/include -DNDEBUG   -I/usr/local/include  `gsl-config --cflags`  -fpic  -g -O2  -Wall -c func_collect.cpp -o func_collect.o
g++  -I/home/biocbuild/bbs-3.5-bioc/R/include -DNDEBUG   -I/usr/local/include  `gsl-config --cflags`  -fpic  -g -O2  -Wall -c func_collect_supp.cpp -o func_collect_supp.o
g++  -I/home/biocbuild/bbs-3.5-bioc/R/include -DNDEBUG   -I/usr/local/include  `gsl-config --cflags`  -fpic  -g -O2  -Wall -c gvector_gmatrix.cpp -o gvector_gmatrix.o
g++  -I/home/biocbuild/bbs-3.5-bioc/R/include -DNDEBUG   -I/usr/local/include  `gsl-config --cflags`  -fpic  -g -O2  -Wall -c kd_tree.cpp -o kd_tree.o
g++  -I/home/biocbuild/bbs-3.5-bioc/R/include -DNDEBUG   -I/usr/local/include  `gsl-config --cflags`  -fpic  -g -O2  -Wall -c kmns.cpp -o kmns.o
g++ -shared -L/home/biocbuild/bbs-3.5-bioc/R/lib -L/usr/local/lib -o flowPeaks.so Rpack.o Rregistrate.o VoronoiDiagramGenerator.o flowPeaks.o func_collect.o func_collect_supp.o gvector_gmatrix.o kd_tree.o kmns.o -L/usr/lib/x86_64-linux-gnu -lgsl -lgslcblas -lm -L/home/biocbuild/bbs-3.5-bioc/R/lib -lR
installing to /home/biocbuild/bbs-3.5-bioc/R/library/flowPeaks/libs
** R
** data
** inst
** preparing package for lazy loading
** help
*** installing help indices
** building package indices
** installing vignettes
** testing if installed package can be loaded
* DONE (flowPeaks)