crlmm 1.34.0 Benilton S Carvalho
 | Snapshot Date: 2017-08-15 17:17:57 -0400 (Tue, 15 Aug 2017) |  | URL: https://hedgehog.fhcrc.org/bioconductor/branches/RELEASE_3_5/madman/Rpacks/crlmm |  | Last Changed Rev: 129126 / Revision: 131943 |  | Last Changed Date: 2017-04-24 15:25:24 -0400 (Mon, 24 Apr 2017) |  
  | malbec2  | Linux (Ubuntu 16.04.1 LTS) / x86_64  |  OK  |  OK  |  OK  |  |   | 
| tokay2  | Windows Server 2012 R2 Standard / x64  |  OK  |  OK  |  OK  | [ OK ] |   | 
| veracruz2  | OS X 10.11.6 El Capitan / x86_64  |  OK  |  OK  |  OK  |  OK  |   | 
##############################################################################
##############################################################################
###
### Running command:
###
###   cd crlmm.buildbin-libdir/crlmm && zip -r ../../crlmm_1.34.0.zip . & cd ../..
###
##############################################################################
##############################################################################
  adding: CITATION (264 bytes security) (deflated 67%)
  adding: data/ (304 bytes security) (stored 0%)
  adding: data/cnSetExample.rda (264 bytes security) (deflated 0%)
  adding: data/cnSetExample2.rda (264 bytes security) (deflated 0%)
  adding: data/datalist (264 bytes security) (deflated 24%)
  adding: DESCRIPTION (264 bytes security) (deflated 44%)
  adding: doc/ (304 bytes security) (stored 0%)
  adding: doc/AffyGW.pdf (264 bytes security) (deflated 13%)
  adding: doc/AffyGW.Rnw (264 bytes security) (deflated 36%)
  adding: doc/CopyNumberOverview.pdf (264 bytes security) (deflated 5%)
  adding: doc/CopyNumberOverview.Rnw (264 bytes security) (deflated 58%)
  adding: doc/genotyping.pdf (264 bytes security) (deflated 6%)
  adding: doc/genotyping.R (264 bytes security) (deflated 67%)
  adding: doc/genotyping.Rnw (264 bytes security) (deflated 52%)
  adding: doc/gtypeDownstream.pdf (264 bytes security) (deflated 1%)
  adding: doc/gtypeDownstream.Rnw (264 bytes security) (deflated 32%)
  adding: doc/IlluminaPreprocessCN.pdf (264 bytes security) (deflated 13%)
  adding: doc/IlluminaPreprocessCN.Rnw (264 bytes security) (deflated 37%)
  adding: doc/index.html (264 bytes security) (deflated 78%)
  adding: doc/Infrastructure.pdf (264 bytes security) (deflated 12%)
  adding: doc/Infrastructure.Rnw (264 bytes security) (deflated 37%)
  adding: help/ (304 bytes security) (stored 0%)
  adding: help/aliases.rds (264 bytes security) (stored 0%)
  adding: help/AnIndex (264 bytes security) (deflated 76%)
  adding: help/crlmm.rdb (264 bytes security) (deflated 1%)
  adding: help/crlmm.rdx (264 bytes security) (stored 0%)
  adding: help/paths.rds (264 bytes security) (stored 0%)
  adding: html/ (304 bytes security) (stored 0%)
  adding: html/00Index.html (264 bytes security) (deflated 84%)
  adding: html/R.css (264 bytes security) (deflated 75%)
  adding: INDEX (264 bytes security) (deflated 67%)
  adding: libs/ (304 bytes security) (stored 0%)
  adding: libs/i386/ (304 bytes security) (stored 0%)
  adding: libs/i386/crlmm.dll (264 bytes security) (deflated 55%)
  adding: libs/x64/ (304 bytes security) (stored 0%)
  adding: libs/x64/crlmm.dll (264 bytes security) (deflated 54%)
  adding: MD5 (264 bytes security) (deflated 50%)
  adding: Meta/ (304 bytes security) (stored 0%)
  adding: Meta/data.rds (264 bytes security) (stored 0%)
  adding: Meta/features.rds (264 bytes security) (stored 0%)
  adding: Meta/hsearch.rds (264 bytes security) (stored 0%)
  adding: Meta/links.rds (264 bytes security) (stored 0%)
  adding: Meta/nsInfo.rds (264 bytes security) (stored 0%)
  adding: Meta/package.rds (264 bytes security) (stored 0%)
  adding: Meta/Rd.rds (264 bytes security) (stored 0%)
  adding: Meta/vignette.rds (264 bytes security) (stored 0%)
  adding: NAMESPACE (264 bytes security) (deflated 65%)
  adding: NEWS.Rd (264 bytes security) (deflated 63%)
  adding: R/ (304 bytes security) (stored 0%)
  adding: R/crlmm (264 bytes security) (deflated 41%)
  adding: R/crlmm.rdb (264 bytes security) (deflated 25%)
  adding: R/crlmm.rdx (264 bytes security) (deflated 4%)
  adding: scripts/ (304 bytes security) (stored 0%)
  adding: scripts/AffyGW.pdf (264 bytes security) (deflated 13%)
  adding: scripts/AffyGW.Rnw (264 bytes security) (deflated 59%)
  adding: scripts/copynumber.Rnw (264 bytes security) (deflated 61%)
  adding: scripts/crlmmDownstream.pdf (264 bytes security) (deflated 20%)
  adding: scripts/crlmmIllumina.pdf (264 bytes security) (deflated 19%)
  adding: scripts/crlmmIllumina.Rnw (264 bytes security) (deflated 55%)
  adding: scripts/gtypeDownstream.pdf (264 bytes security) (deflated 1%)
  adding: scripts/gtypeDownstream.Rnw (264 bytes security) (deflated 56%)
  adding: scripts/IlluminaPreprocessCN.pdf (264 bytes security) (deflated 13%)
  adding: scripts/IlluminaPreprocessCN.Rnw (264 bytes security) (deflated 61%)
  adding: scripts/Infrastructure.pdf (264 bytes security) (deflated 12%)
  adding: scripts/Infrastructure.Rnw (264 bytes security) (deflated 66%)
  adding: scripts/refs.bib (264 bytes security) (deflated 55%)
  adding: scripts/sync (264 bytes security) (deflated 55%)
  adding: unitTests/ (304 bytes security) (stored 0%)
  adding: unitTests/report.html (264 bytes security) (deflated 68%)
  adding: unitTests/report.txt (264 bytes security) (deflated 62%)
  adding: unitTests/reportSummary.txt (264 bytes security) (deflated 42%)
  adding: unitTests/test_crlmm.R (264 bytes security) (deflated 54%)
  adding: unitTests/test_dataExamples.R (264 bytes security) (deflated 46%)
  adding: unitTests/test_ff.R (264 bytes security) (deflated 61%)