chipseq 1.26.0 Bioconductor Package Maintainer
 | Snapshot Date: 2017-08-15 17:17:57 -0400 (Tue, 15 Aug 2017) |  | URL: https://hedgehog.fhcrc.org/bioconductor/branches/RELEASE_3_5/madman/Rpacks/chipseq |  | Last Changed Rev: 129126 / Revision: 131943 |  | Last Changed Date: 2017-04-24 15:25:24 -0400 (Mon, 24 Apr 2017) |  
  | malbec2  | Linux (Ubuntu 16.04.1 LTS) / x86_64  |  OK  |  OK  |  WARNINGS  |  |   | 
| tokay2  | Windows Server 2012 R2 Standard / x64  |  OK  |  OK  |  WARNINGS  | [ OK ] |   | 
| veracruz2  | OS X 10.11.6 El Capitan / x86_64  |  OK  |  OK  |  WARNINGS  |  OK  |   | 
##############################################################################
##############################################################################
###
### Running command:
###
###   cd chipseq.buildbin-libdir/chipseq && zip -r ../../chipseq_1.26.0.zip . & cd ../..
###
##############################################################################
##############################################################################
  adding: data/ (304 bytes security) (stored 0%)
  adding: data/cstest.rda (264 bytes security) (deflated 0%)
  adding: data/datalist (264 bytes security) (stored 0%)
  adding: DESCRIPTION (264 bytes security) (deflated 40%)
  adding: doc/ (304 bytes security) (stored 0%)
  adding: doc/index.html (264 bytes security) (deflated 57%)
  adding: doc/Workflow.pdf (264 bytes security) (deflated 8%)
  adding: doc/Workflow.R (264 bytes security) (deflated 80%)
  adding: doc/Workflow.Rnw (264 bytes security) (deflated 62%)
  adding: help/ (304 bytes security) (stored 0%)
  adding: help/aliases.rds (264 bytes security) (stored 0%)
  adding: help/AnIndex (264 bytes security) (deflated 70%)
  adding: help/chipseq.rdb (264 bytes security) (deflated 1%)
  adding: help/chipseq.rdx (264 bytes security) (stored 0%)
  adding: help/paths.rds (264 bytes security) (stored 0%)
  adding: html/ (304 bytes security) (stored 0%)
  adding: html/00Index.html (264 bytes security) (deflated 77%)
  adding: html/R.css (264 bytes security) (deflated 75%)
  adding: INDEX (264 bytes security) (deflated 56%)
  adding: libs/ (304 bytes security) (stored 0%)
  adding: libs/i386/ (304 bytes security) (stored 0%)
  adding: libs/i386/chipseq.dll (264 bytes security) (deflated 60%)
  adding: libs/x64/ (304 bytes security) (stored 0%)
  adding: libs/x64/chipseq.dll (264 bytes security) (deflated 59%)
  adding: MD5 (264 bytes security) (deflated 47%)
  adding: Meta/ (304 bytes security) (stored 0%)
  adding: Meta/data.rds (264 bytes security) (stored 0%)
  adding: Meta/features.rds (264 bytes security) (stored 0%)
  adding: Meta/hsearch.rds (264 bytes security) (stored 0%)
  adding: Meta/links.rds (264 bytes security) (stored 0%)
  adding: Meta/nsInfo.rds (264 bytes security) (stored 0%)
  adding: Meta/package.rds (264 bytes security) (stored 0%)
  adding: Meta/Rd.rds (264 bytes security) (stored 0%)
  adding: Meta/vignette.rds (264 bytes security) (stored 0%)
  adding: NAMESPACE (264 bytes security) (deflated 54%)
  adding: R/ (304 bytes security) (stored 0%)
  adding: R/chipseq (264 bytes security) (deflated 41%)
  adding: R/chipseq.rdb (264 bytes security) (deflated 24%)
  adding: R/chipseq.rdx (264 bytes security) (stored 0%)
  adding: Scripts/ (304 bytes security) (stored 0%)
  adding: Scripts/abc.rda (264 bytes security) (deflated 4%)
  adding: Scripts/AntibodyComparison.Rnw (264 bytes security) (deflated 79%)
  adding: Scripts/antibody_comparison.R (264 bytes security) (deflated 76%)
  adding: Scripts/CopyNumber.Rnw (264 bytes security) (deflated 35%)
  adding: Scripts/CTCFBindingSites.R (264 bytes security) (deflated 77%)
  adding: Scripts/CTCF_ERV.R (264 bytes security) (deflated 71%)
  adding: Scripts/dePeaks.R (264 bytes security) (deflated 68%)
  adding: Scripts/diffpeak.R (264 bytes security) (deflated 82%)
  adding: Scripts/diffpeaks.R (264 bytes security) (deflated 74%)
  adding: Scripts/estimate_fragment_size.R (264 bytes security) (deflated 75%)
  adding: Scripts/fibroblasts.R (264 bytes security) (deflated 76%)
  adding: Scripts/figs/ (304 bytes security) (stored 0%)
  adding: Scripts/getIsochores.R (264 bytes security) (deflated 55%)
  adding: Scripts/hmm.R (264 bytes security) (deflated 66%)
  adding: Scripts/human-islands.R (264 bytes security) (deflated 59%)
  adding: Scripts/Islands.Rnw (264 bytes security) (deflated 72%)
  adding: Scripts/isochores.mm9.rda (264 bytes security) (deflated 0%)
  adding: Scripts/isochore_comparison.R (264 bytes security) (deflated 74%)
  adding: Scripts/MyoD.R (264 bytes security) (deflated 53%)
  adding: Scripts/negbinomial.R (264 bytes security) (deflated 73%)
  adding: Scripts/PairedEndComparison.Rnw (264 bytes security) (deflated 67%)
  adding: Scripts/peakContext.R (264 bytes security) (deflated 67%)
  adding: Scripts/PeakContextHuman.Rnw (264 bytes security) (deflated 62%)
  adding: Scripts/PeakContextMouse.Rnw (264 bytes security) (deflated 66%)
  adding: Scripts/PeakCutoff.Rnw (264 bytes security) (deflated 66%)
  adding: Scripts/PeakModel.Rnw (264 bytes security) (deflated 63%)
  adding: Scripts/PeakReproducibility.Rnw (264 bytes security) (deflated 79%)
  adding: Scripts/PeaksByCopyNumber.Rnw (264 bytes security) (deflated 67%)
  adding: Scripts/peak_mle.R (264 bytes security) (deflated 67%)
  adding: Scripts/poisson.R (264 bytes security) (deflated 69%)
  adding: Scripts/RateComparison.Rnw (264 bytes security) (deflated 77%)
  adding: Scripts/ReadAndSave54.R (264 bytes security) (deflated 69%)
  adding: Scripts/ReadAndSaveCTCF.R (264 bytes security) (deflated 72%)
  adding: Scripts/ReadAndSaveData.R (264 bytes security) (deflated 71%)
  adding: Scripts/ReadAndSaveSimulation.R (264 bytes security) (deflated 54%)
  adding: Scripts/simulate.R (264 bytes security) (deflated 56%)
  adding: Scripts/singletons.Rnw (264 bytes security) (deflated 83%)
  adding: Scripts/solexa54.R (264 bytes security) (deflated 68%)
  adding: Scripts/SolexaSim.R (264 bytes security) (deflated 32%)