bsseq 1.12.2 Kasper Daniel Hansen
 | Snapshot Date: 2017-08-15 17:17:57 -0400 (Tue, 15 Aug 2017) |  | URL: https://hedgehog.fhcrc.org/bioconductor/branches/RELEASE_3_5/madman/Rpacks/bsseq |  | Last Changed Rev: 131467 / Revision: 131943 |  | Last Changed Date: 2017-07-21 09:26:45 -0400 (Fri, 21 Jul 2017) |  
  | malbec2  | Linux (Ubuntu 16.04.1 LTS) / x86_64  |  OK  |  OK  |  OK  |  |   | 
| tokay2  | Windows Server 2012 R2 Standard / x64  |  OK  |  OK  |  OK  | [ OK ] |   | 
| veracruz2  | OS X 10.11.6 El Capitan / x86_64  |  OK  |  OK  |  OK  |  OK  |   | 
##############################################################################
##############################################################################
###
### Running command:
###
###   cd bsseq.buildbin-libdir/bsseq && zip -r ../../bsseq_1.12.2.zip . & cd ../..
###
##############################################################################
##############################################################################
  adding: CITATION (264 bytes security) (deflated 42%)
  adding: data/ (304 bytes security) (stored 0%)
  adding: data/datalist (264 bytes security) (stored 0%)
  adding: data/Rdata.rdb (264 bytes security) (deflated 0%)
  adding: data/Rdata.rds (264 bytes security) (deflated 1%)
  adding: data/Rdata.rdx (264 bytes security) (stored 0%)
  adding: DESCRIPTION (264 bytes security) (deflated 47%)
  adding: doc/ (304 bytes security) (stored 0%)
  adding: doc/bsseq.pdf (264 bytes security) (deflated 13%)
  adding: doc/bsseq.R (264 bytes security) (deflated 76%)
  adding: doc/bsseq.Rnw (264 bytes security) (deflated 63%)
  adding: doc/bsseq_analysis.pdf (264 bytes security) (deflated 11%)
  adding: doc/bsseq_analysis.R (264 bytes security) (deflated 72%)
  adding: doc/bsseq_analysis.Rnw (264 bytes security) (deflated 61%)
  adding: doc/index.html (264 bytes security) (deflated 66%)
  adding: extdata/ (304 bytes security) (stored 0%)
  adding: extdata/test_data.cytosineReport.gz (264 bytes security) (stored 0%)
  adding: extdata/test_data.fastq_bismark.bismark.cov.gz (264 bytes security) (deflated 0%)
  adding: help/ (304 bytes security) (stored 0%)
  adding: help/aliases.rds (264 bytes security) (stored 0%)
  adding: help/AnIndex (264 bytes security) (deflated 80%)
  adding: help/bsseq.rdb (264 bytes security) (deflated 1%)
  adding: help/bsseq.rdx (264 bytes security) (stored 0%)
  adding: help/paths.rds (264 bytes security) (stored 0%)
  adding: html/ (304 bytes security) (stored 0%)
  adding: html/00Index.html (264 bytes security) (deflated 84%)
  adding: html/R.css (264 bytes security) (deflated 75%)
  adding: INDEX (264 bytes security) (deflated 65%)
  adding: MD5 (264 bytes security) (deflated 45%)
  adding: Meta/ (304 bytes security) (stored 0%)
  adding: Meta/data.rds (264 bytes security) (stored 0%)
  adding: Meta/features.rds (264 bytes security) (stored 0%)
  adding: Meta/hsearch.rds (264 bytes security) (stored 0%)
  adding: Meta/links.rds (264 bytes security) (stored 0%)
  adding: Meta/nsInfo.rds (264 bytes security) (stored 0%)
  adding: Meta/package.rds (264 bytes security) (stored 0%)
  adding: Meta/Rd.rds (264 bytes security) (stored 0%)
  adding: Meta/vignette.rds (264 bytes security) (stored 0%)
  adding: NAMESPACE (264 bytes security) (deflated 66%)
  adding: NEWS.Rd (264 bytes security) (deflated 60%)
  adding: R/ (304 bytes security) (stored 0%)
  adding: R/bsseq (264 bytes security) (deflated 41%)
  adding: R/bsseq.rdb (264 bytes security) (deflated 28%)
  adding: R/bsseq.rdx (264 bytes security) (stored 0%)
  adding: scripts/ (304 bytes security) (stored 0%)
  adding: scripts/get_BS.chr22.R (264 bytes security) (deflated 61%)
  adding: unitTests/ (304 bytes security) (stored 0%)
  adding: unitTests/test_base.R (264 bytes security) (deflated 77%)
  adding: unitTests/test_combine.R (264 bytes security) (deflated 78%)
  adding: unitTests/test_hdf5_utils.R (264 bytes security) (deflated 73%)
  adding: unitTests/test_perm.R (264 bytes security) (deflated 89%)
  adding: unitTests/test_read.bismark.R (264 bytes security) (deflated 82%)
  adding: unitTests/test_utils.R (264 bytes security) (deflated 42%)