TFBSTools 1.14.2 Ge Tan
 | Snapshot Date: 2017-08-15 17:17:57 -0400 (Tue, 15 Aug 2017) |  | URL: https://hedgehog.fhcrc.org/bioconductor/branches/RELEASE_3_5/madman/Rpacks/TFBSTools |  | Last Changed Rev: 131810 / Revision: 131943 |  | Last Changed Date: 2017-08-08 09:09:27 -0400 (Tue, 08 Aug 2017) |  
  | malbec2  | Linux (Ubuntu 16.04.1 LTS) / x86_64  |  OK  |  OK  |  OK  |  |   | 
| tokay2  | Windows Server 2012 R2 Standard / x64  |  OK  |  OK  |  OK  | [ OK ] |   | 
| veracruz2  | OS X 10.11.6 El Capitan / x86_64  |  OK  |  OK  |  OK  |  OK  |   | 
##############################################################################
##############################################################################
###
### Running command:
###
###   cd TFBSTools.buildbin-libdir/TFBSTools && zip -r ../../TFBSTools_1.14.2.zip . & cd ../..
###
##############################################################################
##############################################################################
  adding: CITATION (264 bytes security) (deflated 53%)
  adding: data/ (304 bytes security) (stored 0%)
  adding: data/Rdata.rdb (264 bytes security) (stored 0%)
  adding: data/Rdata.rds (264 bytes security) (stored 0%)
  adding: data/Rdata.rdx (264 bytes security) (stored 0%)
  adding: DESCRIPTION (264 bytes security) (deflated 51%)
  adding: doc/ (304 bytes security) (stored 0%)
  adding: doc/index.html (264 bytes security) (deflated 58%)
  adding: doc/TFBSTools.html (264 bytes security) (deflated 46%)
  adding: doc/TFBSTools.R (264 bytes security) (deflated 69%)
  adding: doc/TFBSTools.Rmd (264 bytes security) (deflated 63%)
  adding: extdata/ (304 bytes security) (stored 0%)
  adding: extdata/crp0.s (264 bytes security) (deflated 60%)
  adding: extdata/hg19.danRer7.net.axt (264 bytes security) (deflated 69%)
  adding: extdata/MA0001.1.pfm (264 bytes security) (deflated 35%)
  adding: extdata/meme.output (264 bytes security) (deflated 83%)
  adding: extdata/pfm_all_example.txt (264 bytes security) (deflated 49%)
  adding: extdata/tffm_detailed.xml (264 bytes security) (deflated 89%)
  adding: extdata/tffm_first_order.xml (264 bytes security) (deflated 70%)
  adding: help/ (304 bytes security) (stored 0%)
  adding: help/aliases.rds (264 bytes security) (stored 0%)
  adding: help/AnIndex (264 bytes security) (deflated 86%)
  adding: help/paths.rds (264 bytes security) (stored 0%)
  adding: help/TFBSTools.rdb (264 bytes security) (deflated 1%)
  adding: help/TFBSTools.rdx (264 bytes security) (stored 0%)
  adding: html/ (304 bytes security) (stored 0%)
  adding: html/00Index.html (264 bytes security) (deflated 89%)
  adding: html/R.css (264 bytes security) (deflated 75%)
  adding: INDEX (264 bytes security) (deflated 65%)
  adding: libs/ (304 bytes security) (stored 0%)
  adding: libs/i386/ (304 bytes security) (stored 0%)
  adding: libs/i386/TFBSTools.dll (264 bytes security) (deflated 58%)
  adding: libs/x64/ (304 bytes security) (stored 0%)
  adding: libs/x64/TFBSTools.dll (264 bytes security) (deflated 60%)
  adding: MD5 (264 bytes security) (deflated 44%)
  adding: Meta/ (304 bytes security) (stored 0%)
  adding: Meta/data.rds (264 bytes security) (stored 0%)
  adding: Meta/features.rds (264 bytes security) (stored 0%)
  adding: Meta/hsearch.rds (264 bytes security) (stored 0%)
  adding: Meta/links.rds (264 bytes security) (stored 0%)
  adding: Meta/nsInfo.rds (264 bytes security) (stored 0%)
  adding: Meta/package.rds (264 bytes security) (stored 0%)
  adding: Meta/Rd.rds (264 bytes security) (stored 0%)
  adding: Meta/vignette.rds (264 bytes security) (stored 0%)
  adding: NAMESPACE (264 bytes security) (deflated 67%)
  adding: NEWS (264 bytes security) (deflated 55%)
  adding: obsolete/ (304 bytes security) (stored 0%)
  adding: obsolete/matrixAligner.c (264 bytes security) (deflated 75%)
  adding: obsolete/PairwiseAlignmentTFBS-class.Rd (264 bytes security) (deflated 65%)
  adding: obsolete/TFBSTools.Rnw (264 bytes security) (deflated 63%)
  adding: R/ (304 bytes security) (stored 0%)
  adding: R/TFBSTools (264 bytes security) (deflated 41%)
  adding: R/TFBSTools.rdb (264 bytes security) (deflated 28%)
  adding: R/TFBSTools.rdx (264 bytes security) (deflated 5%)
  adding: TFBSToolsBuild/ (304 bytes security) (stored 0%)
  adding: TFBSToolsBuild/build.r (264 bytes security) (deflated 59%)
  adding: TFBSToolsBuild/build2.R (264 bytes security) (deflated 52%)
  adding: TFBSToolsBuild/timing.R (264 bytes security) (deflated 59%)