SummarizedExperiment 1.5.10 Bioconductor Package Maintainer
 | Snapshot Date: 2017-04-22 17:18:01 -0400 (Sat, 22 Apr 2017) |  | URL: https://hedgehog.fhcrc.org/bioconductor/trunk/madman/Rpacks/SummarizedExperiment |  | Last Changed Rev: 128965 / Revision: 129046 |  | Last Changed Date: 2017-04-20 12:35:20 -0400 (Thu, 20 Apr 2017) |  
  | malbec2  | Linux (Ubuntu 16.04.1 LTS) / x86_64  |  OK  |  OK  |  OK  |  |   | 
| tokay2  | Windows Server 2012 R2 Standard / x64  |  OK  |  OK  |  OK  |  OK  |   | 
| toluca2  | Mac OS X Mavericks (10.9.5) / x86_64  |  OK  |  OK  |  OK  | [ OK ] |  | 
| veracruz2  | OS X 10.11.6 El Capitan / x86_64  |  OK  |  OK  |  OK  |  OK  |   | 
##############################################################################
##############################################################################
###
### Running command:
###
###   rm -rf SummarizedExperiment.buildbin-libdir && mkdir SummarizedExperiment.buildbin-libdir && /Users/biocbuild/BBS/utils/build-universal.sh SummarizedExperiment_1.5.10.tar.gz /Library/Frameworks/R.framework/Versions/Current/Resources/bin/R SummarizedExperiment.buildbin-libdir
###
##############################################################################
##############################################################################
>>>>>>> 
>>>>>>> INSTALLATION WITH 'R CMD INSTALL --preclean --no-multiarch --library=SummarizedExperiment.buildbin-libdir SummarizedExperiment_1.5.10.tar.gz'
>>>>>>> 
* installing *source* package ‘SummarizedExperiment’ ...
** R
** inst
** preparing package for lazy loading
** help
*** installing help indices
** building package indices
** installing vignettes
** testing if installed package can be loaded
* DONE (SummarizedExperiment)