SeqArray 1.16.0 Xiuwen Zheng
 | Snapshot Date: 2017-08-15 17:17:57 -0400 (Tue, 15 Aug 2017) |  | URL: https://hedgehog.fhcrc.org/bioconductor/branches/RELEASE_3_5/madman/Rpacks/SeqArray |  | Last Changed Rev: 129126 / Revision: 131943 |  | Last Changed Date: 2017-04-24 15:25:24 -0400 (Mon, 24 Apr 2017) |  
  | malbec2  | Linux (Ubuntu 16.04.1 LTS) / x86_64  |  OK  |  OK  |  OK  |  |   | 
| tokay2  | Windows Server 2012 R2 Standard / x64  |  OK  | [ ERROR ] |  skipped  |  skipped  |  | 
| veracruz2  | OS X 10.11.6 El Capitan / x86_64  |  OK  |  OK  |  OK  |  OK  |   | 
##############################################################################
##############################################################################
###
### Running command:
###
###   chmod a+r SeqArray -R && C:\Users\biocbuild\bbs-3.5-bioc\R\bin\R.exe CMD build --keep-empty-dirs --no-resave-data SeqArray
###
##############################################################################
##############################################################################
* checking for file 'SeqArray/DESCRIPTION' ... OK
* preparing 'SeqArray':
* checking DESCRIPTION meta-information ... OK
* cleaning src
* installing the package to build vignettes
* creating vignettes ...Warning in file(con, "r") :
  cannot open file 'C:\Users\biocbuild\bbs-3.5-bioc\tmpdir\RtmpklRWR7\xshell16301e381e91': Permission denied
Error in file(con, "r") : cannot open the connection
Execution halted