SNPRelate 1.10.2 Xiuwen Zheng
 | Snapshot Date: 2017-08-15 17:17:57 -0400 (Tue, 15 Aug 2017) |  | URL: https://hedgehog.fhcrc.org/bioconductor/branches/RELEASE_3_5/madman/Rpacks/SNPRelate |  | Last Changed Rev: 129923 / Revision: 131943 |  | Last Changed Date: 2017-05-26 20:09:00 -0400 (Fri, 26 May 2017) |  
  | malbec2  | Linux (Ubuntu 16.04.1 LTS) / x86_64  |  OK  |  OK  |  OK  |  |   | 
| tokay2  | Windows Server 2012 R2 Standard / x64  |  OK  |  OK  |  OK  |  OK  |   | 
| veracruz2  | OS X 10.11.6 El Capitan / x86_64  |  OK  |  OK  |  OK  | [ OK ] |   | 
##############################################################################
##############################################################################
###
### Running command:
###
###   rm -rf SNPRelate.buildbin-libdir && mkdir SNPRelate.buildbin-libdir && /Users/biocbuild/BBS/utils/build-universal.sh SNPRelate_1.10.2.tar.gz /Library/Frameworks/R.framework/Versions/Current/Resources/bin/R SNPRelate.buildbin-libdir
###
##############################################################################
##############################################################################
>>>>>>> 
>>>>>>> INSTALLATION WITH 'R CMD INSTALL --preclean --no-multiarch --library=SNPRelate.buildbin-libdir SNPRelate_1.10.2.tar.gz'
>>>>>>> 
* installing *source* package ‘SNPRelate’ ...
** libs
clang++  -I/Library/Frameworks/R.framework/Resources/include -DNDEBUG -DUSING_R -I. -I"/Library/Frameworks/R.framework/Versions/3.4/Resources/library/gdsfmt/include" -I/usr/local/include   -fPIC  -Wall -g -O2  -c ConvToGDS.cpp -o ConvToGDS.o
clang -I/Library/Frameworks/R.framework/Resources/include -DNDEBUG -DUSING_R -I. -I"/Library/Frameworks/R.framework/Versions/3.4/Resources/library/gdsfmt/include" -I/usr/local/include   -fPIC  -Wall -g -O2  -c R_SNPRelate.c -o R_SNPRelate.o
clang++  -I/Library/Frameworks/R.framework/Resources/include -DNDEBUG -DUSING_R -I. -I"/Library/Frameworks/R.framework/Versions/3.4/Resources/library/gdsfmt/include" -I/usr/local/include   -fPIC  -Wall -g -O2  -c SNPRelate.cpp -o SNPRelate.o
clang++  -I/Library/Frameworks/R.framework/Resources/include -DNDEBUG -DUSING_R -I. -I"/Library/Frameworks/R.framework/Versions/3.4/Resources/library/gdsfmt/include" -I/usr/local/include   -fPIC  -Wall -g -O2  -c ThreadPool.cpp -o ThreadPool.o
clang++  -I/Library/Frameworks/R.framework/Resources/include -DNDEBUG -DUSING_R -I. -I"/Library/Frameworks/R.framework/Versions/3.4/Resources/library/gdsfmt/include" -I/usr/local/include   -fPIC  -Wall -g -O2  -c dGenGWAS.cpp -o dGenGWAS.o
clang++  -I/Library/Frameworks/R.framework/Resources/include -DNDEBUG -DUSING_R -I. -I"/Library/Frameworks/R.framework/Versions/3.4/Resources/library/gdsfmt/include" -I/usr/local/include   -fPIC  -Wall -g -O2  -c dVect.cpp -o dVect.o
clang++  -I/Library/Frameworks/R.framework/Resources/include -DNDEBUG -DUSING_R -I. -I"/Library/Frameworks/R.framework/Versions/3.4/Resources/library/gdsfmt/include" -I/usr/local/include   -fPIC  -Wall -g -O2  -c genBeta.cpp -o genBeta.o
clang++  -I/Library/Frameworks/R.framework/Resources/include -DNDEBUG -DUSING_R -I. -I"/Library/Frameworks/R.framework/Versions/3.4/Resources/library/gdsfmt/include" -I/usr/local/include   -fPIC  -Wall -g -O2  -c genEIGMIX.cpp -o genEIGMIX.o
clang++  -I/Library/Frameworks/R.framework/Resources/include -DNDEBUG -DUSING_R -I. -I"/Library/Frameworks/R.framework/Versions/3.4/Resources/library/gdsfmt/include" -I/usr/local/include   -fPIC  -Wall -g -O2  -c genFst.cpp -o genFst.o
clang++  -I/Library/Frameworks/R.framework/Resources/include -DNDEBUG -DUSING_R -I. -I"/Library/Frameworks/R.framework/Versions/3.4/Resources/library/gdsfmt/include" -I/usr/local/include   -fPIC  -Wall -g -O2  -c genHWE.cpp -o genHWE.o
clang++  -I/Library/Frameworks/R.framework/Resources/include -DNDEBUG -DUSING_R -I. -I"/Library/Frameworks/R.framework/Versions/3.4/Resources/library/gdsfmt/include" -I/usr/local/include   -fPIC  -Wall -g -O2  -c genIBD.cpp -o genIBD.o
clang++  -I/Library/Frameworks/R.framework/Resources/include -DNDEBUG -DUSING_R -I. -I"/Library/Frameworks/R.framework/Versions/3.4/Resources/library/gdsfmt/include" -I/usr/local/include   -fPIC  -Wall -g -O2  -c genIBS.cpp -o genIBS.o
clang++  -I/Library/Frameworks/R.framework/Resources/include -DNDEBUG -DUSING_R -I. -I"/Library/Frameworks/R.framework/Versions/3.4/Resources/library/gdsfmt/include" -I/usr/local/include   -fPIC  -Wall -g -O2  -c genKING.cpp -o genKING.o
clang++  -I/Library/Frameworks/R.framework/Resources/include -DNDEBUG -DUSING_R -I. -I"/Library/Frameworks/R.framework/Versions/3.4/Resources/library/gdsfmt/include" -I/usr/local/include   -fPIC  -Wall -g -O2  -c genLD.cpp -o genLD.o
clang++  -I/Library/Frameworks/R.framework/Resources/include -DNDEBUG -DUSING_R -I. -I"/Library/Frameworks/R.framework/Versions/3.4/Resources/library/gdsfmt/include" -I/usr/local/include   -fPIC  -Wall -g -O2  -c genPCA.cpp -o genPCA.o
clang++  -I/Library/Frameworks/R.framework/Resources/include -DNDEBUG -DUSING_R -I. -I"/Library/Frameworks/R.framework/Versions/3.4/Resources/library/gdsfmt/include" -I/usr/local/include   -fPIC  -Wall -g -O2  -c genSlideWin.cpp -o genSlideWin.o
clang++ -dynamiclib -Wl,-headerpad_max_install_names -undefined dynamic_lookup -single_module -multiply_defined suppress -L/Library/Frameworks/R.framework/Resources/lib -L/usr/local/lib -o SNPRelate.so ConvToGDS.o R_SNPRelate.o SNPRelate.o ThreadPool.o dGenGWAS.o dVect.o genBeta.o genEIGMIX.o genFst.o genHWE.o genIBD.o genIBS.o genKING.o genLD.o genPCA.o genSlideWin.o -L/usr/local/gfortran/lib/gcc/x86_64-apple-darwin15/6.1.0 -L/usr/local/gfortran/lib -lgfortran -lquadmath -lm -L/Library/Frameworks/R.framework/Resources/lib -lRblas -L/Library/Frameworks/R.framework/Resources/lib -lRlapack -lpthread -F/Library/Frameworks/R.framework/.. -framework R -Wl,-framework -Wl,CoreFoundation
installing to /Users/biocbuild/bbs-3.5-bioc/meat/SNPRelate.buildbin-libdir/SNPRelate/libs
** R
** data
** inst
** preparing package for lazy loading
** help
*** installing help indices
** building package indices
** installing vignettes
** testing if installed package can be loaded
* DONE (SNPRelate)
>>>>>>> 
>>>>>>> FIXING LINKS FOR SNPRelate.buildbin-libdir/SNPRelate/libs//SNPRelate.so
>>>>>>> 
install_name_tool -change "/usr/local/lib/libgcc_s.1.dylib" "/Library/Frameworks/R.framework/Versions/3.4/Resources/lib/libgcc_s.1.dylib" "SNPRelate.buildbin-libdir/SNPRelate/libs//SNPRelate.so"
install_name_tool -change "/usr/local/lib/libgfortran.3.dylib" "/Library/Frameworks/R.framework/Versions/3.4/Resources/lib/libgfortran.3.dylib" "SNPRelate.buildbin-libdir/SNPRelate/libs//SNPRelate.so"
install_name_tool -change "/usr/local/lib/libreadline.5.2.dylib" "/Library/Frameworks/R.framework/Versions/3.4/Resources/lib/libreadline.5.2.dylib" "SNPRelate.buildbin-libdir/SNPRelate/libs//SNPRelate.so"
install_name_tool -change "/usr/local/lib/libreadline.dylib" "/Library/Frameworks/R.framework/Versions/3.4/Resources/lib/libreadline.dylib" "SNPRelate.buildbin-libdir/SNPRelate/libs//SNPRelate.so"
install_name_tool -change "/usr/local/lib/libquadmath.0.dylib" "/Library/Frameworks/R.framework/Versions/3.4/Resources/lib/libquadmath.0.dylib" "SNPRelate.buildbin-libdir/SNPRelate/libs//SNPRelate.so"
install_name_tool -change "/usr/local/gfortran/lib/libgfortran.3.dylib" "/Library/Frameworks/R.framework/Versions/3.4/Resources/lib/libgfortran.3.dylib" "SNPRelate.buildbin-libdir/SNPRelate/libs//SNPRelate.so"
install_name_tool -change "/usr/local/gfortran/lib/libquadmath.0.dylib" "/Library/Frameworks/R.framework/Versions/3.4/Resources/lib/libquadmath.0.dylib" "SNPRelate.buildbin-libdir/SNPRelate/libs//SNPRelate.so"